Workbook
Name ALower: 'Main Menu'!$D$38
Name ASub: 'Main Menu'!$D$47
Name AUpper: 'Main Menu'!$D$29
Name CL: 'Main Menu'!$H$103
Name CPR: 'Main Menu'!$G$122
Name CPs: 'Main Menu'!$C$123:$C$131
Name CPW: 'Main Menu'!$C$121
Name CS: 'Main Menu'!$I$103
Name CU: 'Main Menu'!$G$103
Name Demand: 'Main Menu'!$D$73:$I$78
Name DemandL: Print!$E$24:$E$30
Name DemandS: Print!$G$24:$G$30
Name DemandU: Print!$C$24:$C$30
Name ExtraRoomRS: 'Main Menu'!$M$234
Name FLL: 'Main Menu'!$F$103
Name FloorLoad: 'Main Menu'!$D$22
Name Foundations: Foundations!$B$3:$G$37
Name Gamma: Gamma!$B$3:$G$37
Name H: 'Main Menu'!$M$103
Name HLE: 'Main Menu'!$D$40
Name HLI: 'Main Menu'!$D$39
Name HS: 'Main Menu'!$D$48
Name HUE: 'Main Menu'!$D$31
Name HUI: 'Main Menu'!$D$30
Name KeyRoofSlope: 'Main Menu'!$C$103
Name LateralCoeff: 'Main Menu'!$O$96
Name LeeZone: 'Main Menu'!$J$91
Name LL: 'Main Menu'!$D$36
Name LR: 'Main Menu'!$D$14
Name LS: 'Main Menu'!$D$45
Name LU: 'Main Menu'!$D$27
Name None: None!$B$3:$G$37
Name NumStoreys: 'Main Menu'!$A$103
Name PALE: 'Lower Along'!$I$2
Name PALW: 'Lower Along'!$H$2
Name PASE: 'Subfloor Along'!$I$2
Name PASW: 'Subfloor Along'!$H$2
Name PAUE: 'Single - Upper Along'!$I$51
Name PAUW: 'Single - Upper Along'!$H$51
Name Plasterboard: Plasterboard!$B$3:$G$37
Name Plywood: Plywood!$B$3:$G$37
Name PXLE: 'Lower Across'!$I$2
Name PXLW: 'Lower Across'!$H$2
Name PXSE: 'Subfloor Across'!$I$2
Name PXSW: 'Subfloor Across'!$H$2
Name PXUE: 'Single - Upper Across'!$I$2
Name PXUW: 'Single - Upper Across'!$H$2
Name QQQ: 'Main Menu'!$B$117
Name RoofAngle: 'Main Menu'!$D$17
Name RoofH: 'Main Menu'!$D$13
Name RoofHt: 'Main Menu'!#REF!
Name RoofSlopeUsed: 'Main Menu'!$Q$102
Name RoofWt: 'Main Menu'!$D$20
Name RoofWtKey: 'Main Menu'!$E$103
Name RoomRS: 'Main Menu'!$D$103
Name SeismicFactor: 'Main Menu'!$B$182
Name Slab: 'Main Menu'!$B$103
Name SlopesForCPs: 'Main Menu'!$B$123:$B$131
Name SpecWindSpeed: 'Main Menu'!$J$54
Name TanSlope: 'Main Menu'!$Q$109

Sheet Conditions
A1: Gamma Bracing Technologies Ltd - Bracing Software
A4: Contact Information
A5: Address: | C5: PO Box 123
C6: Albany Village
C7: Auckland 0755
A8: Free Phone: | C8: 0800 272 733
A9: Phone/Fax: | C9: 09 444 0096
A10: Terms & Conditions of Use
A12: Intellectual Property & Copyright
A13: The Gamma Bracing Calculator Software is owned by Gamma Bracing Technologies Ltd. The software has been created by Gamma Bracing Technologies Ltd and is protected by Copyright as per the New Zealand Copyright Act 1994. All rights of the Gamma Bracing Software (GBCS) are reserved by Gamma Bracing Technologies Ltd.
A17: Downloading Software
A18: Users are to register the following information prior to each download of the Gamma Bracing Calculator Software.
A19: 1. Name of Company Name.
A20: 2. Company Name
A21: 2. Contact telephone number.
A22: 3. Email address.
A24: Gamma Bracing Technologies Ltd reserves the right to distribute the Gamma Bracing Calculator Software via email,
A25: Compact Disc or Flash Drive to whom it chooses.
A27: Permission’s
... A61: Report any operational faults with the Gamma Bracing Calculator Software to the Technical help line Ph: 0800 272 733

Sheet Intro
A1: Gamma Bracing Technologies Ltd - Bracing Software
A4: Gamma Bracing Technologies Ltd Software Calculator
A5: Operating Instructions
A6: Overview
A7: All timber framed structures in NZ are required to provide adequate structural performance as in accordance with the New Zealand building code.
A10: The Gamma Bracing Calculator Software has been designed to work in conjunction with NZS3604:2011. The Demand and Achieved sheets within the Gamma Bracing Calculator software allow for a fast and simply way to calculate the structural bracing requirements of a timber framed structure. The Gamma Bracing Software is preloaded with Gamma bracing systems values and there are also options to use other bracing system values. (Other bracing system values will require loading into the designated calculation sheets by the user – refer terms and conditions).
A16: It is currently acceptable to use a combination of different bracing systems along the same bracing line. However it is not permitted to place more than one bracing element in the same position.
A19: The following instructions are designed as a quick guide on how to use the Gamma Bracing Calculator Software. However designing the structural aspects of a building require a good knowledge and understanding of the principles of building timber framed structures.
A23: Instructions
A24: Project Details
A25: Type in the name of the owner and the property address details including the Lot number and the DP number. Details for the Architect, Designer and Engineer can be also be added should they be required.
A28: Calculating the Demand
... A67: the Gamma Bracing Software Calculator

Sheet Main Menu
A1: Gamma bracing solution V1
A2: Job Description - what is typed here will be reproduced on print sheet.
K3: Warning. This spreadsheet calculates
K4: the bracing rating for the building defined.
K5: It does not check that the building defined
K6: complies with the scope of NZS 3604.
A7: New Zealand
A10: Building and roof description
A11: How many storeys above slab or subfloor?
A12: Foundation type | G12: =IF(D27>D14,"Error, building length exceeds roof length","")
A13: RoofH = Roof height above eaves (m)
A14: LR = Maximum roof length (m)
A15: WR = Maximum roof width (m)
A16: Roof pitch (degrees) | F16: 8
A17: Specified maximum pitch (degrees) option | D17: 0
A18: Room in roof space?
A19: Roof cladding weight | F19: 60
A20: Specified roof cladding weight option (kg/m2) | D20: 0
A21: Floor live load | F21: 2
A22: Specified floor loading option (kPa) | D22: 3
I23: Single storey building definitions
A24: Upper or single storey details
A25: Average exterior wall cladding weight | F25: 200
A26: Specified wall cladding weight option (kg/m2)
A27: LU = Building length (m)
A28: WU = Building width (m)
A29: Gross building plan area (m2)
A30: HUI = Interior wall height (m) | G30: =IF(D28>D15,"Error, building width exceeds roof width","")
A31: HUE = Exterior wall height (m)
A33: =IF(NumStoreys=1,"No Lower storey","Lower storey details") -> Lower storey details
A34: =IF(NumStoreys=2,"Average exterior wall cladding weight","Not used as only single storey") -> Average exterior wall cladding weight | F34: 200
A35: =IF(NumStoreys=2,"Specified wall cladding weight option (kg/m2)","") -> Specified wall cladding weight option (kg/m2)
A36: =IF(NumStoreys=2,"LL = Building length (m)","") -> LL = Building length (m)
A37: =IF(NumStoreys=2,"WL = Building width (m)","") -> WL = Building width (m)
A38: =IF(NumStoreys=2,"Gross building plan area (m2)","") -> Gross building plan area (m2)
A39: =IF(NumStoreys=2,"HLI = Interior wall height","") -> HLI = Interior wall height
A40: =IF(NumStoreys=2,"HLE = Exterior wall height","") -> HLE = Exterior wall height
J41: Two storey building definitions
A42: =IF(Slab=2,"No subfloor","Subfloor details") -> No subfloor
A43: =IF(Slab=1,"Average exterior wall cladding weight","Not used as no subfloor") -> Not used as no subfloor | F43: 200
A44: =IF(Slab=1,"Specified wall cladding weight option (kg/m2)","")
A45: =IF(Slab=1,"LS = Building length (m)","")
A46: =IF(Slab=1,"WS = Building width (m)","")
A47: =IF(Slab=1,"Gross building plan area (m2)","")
A48: =IF(Slab=1,"HS = Subfloor height","") | G48: 60
A50: Wind speed
A51: Choose which option you wish to use to specify wind speed.
B52: (a) Specify the wind zone such as from Table 5.4 of NZS 3604.
B54: (b) Specify the wind speed in m/sec directly in the adjacent blue cell. Wind speed = | J54: 50 | K54: m/sec
B56: (c) Get the wind speed calculated in the yellow zone below as per Table 5.1 of NZS3604.
A57: Wind Zone
A58: Wind Region from Figure 5.1 of NZS 3604 | H58: Wind zone determined = | K58: =INDEX(C92:C97,WSIfromtable) -> High
A59: Roughness from Section 5.2.3 of NZS 3604 | H59: =IF(WSIfromtable=6,"Warning - SED required. Analysis will be very conservative unless the wind speed is specified","")
A60: Exposure from Section 5.2.4 of NZS 3604 | H60: =IF(WSIfromtable=6,"Wind speed is taken as 100 m/sec","")
A63: Is it a Lee Zone - see Figure 5.1 of NZS 3604?
A64: Topography from Section 5.2.5 of NZS 3604
A66: Earthquake Zone from Figure 5.4 of NZS 3604
A67: Subsoil classification from Section 5.3.3 of NZS 3604
A69: Summary of bracing demand and resistance:
D70: Upper storey | F70: Lower storey | H70: Subfloor
A72: Total Wind Demand/Provided in BU's | D72: Demand | E72: Provided | F72: Demand | G72: Provided | H72: Demand | I72: Provided
A73: Wall along direction | D73: =G129 -> #VALUE! | E73: =PAUW -> 45 | F73: =IF(NumStoreys=1,"N/A",G130) -> #VALUE! | G73: =PALW -> 0 | H73: =IF(Slab=2,"N/A",G128) -> N/A | I73: =PASW -> 105
A74: Wall across direction | D74: =F129 -> #VALUE! | E74: =PXUW -> 0 | F74: =IF(NumStoreys=1,"N/A",F130) -> #VALUE! | G74: =PXLW -> 0 | H74: =IF(Slab=2,"N/A",F128) -> N/A | I74: =PXSW -> 225
A76: Total EQ Demand/Provided in BU's | D76: Demand | E76: Provided | F76: Demand | G76: Provided | H76: Demand | I76: Provided
A77: Wall along direction | D77: =O237 -> #VALUE! | E77: =PAUE -> 55 | F77: =O238 -> #VALUE! | G77: =PALE -> 0 | H77: =O239 -> N/A | I77: =PASE -> 110
A78: Wall across direction | D78: =O237 -> #VALUE! | E78: =PXUE -> 0 | F78: =O238 -> #VALUE! | G78: =PXLE -> 0 | H78: =O239 -> N/A | I78: =PXSE -> 275
A80: Check of bracing capacity
A81: Wall along direction | D81: =IF(D73>E73,"Inadequate","OK") -> #VALUE! | F81: =IF(NumStoreys=1,"N/A",IF(F73>G73,"Inadequate","OK")) -> #VALUE! | H81: =IF(Slab=2,"N/A",IF(H73>I73,"Inadequate","OK")) -> N/A
A82: Wall across direction | D82: =IF(D74>E74,"Inadequate","OK") -> #VALUE! | F82: =IF(NumStoreys=1,"N/A",IF(F74>G74,"Inadequate","OK")) -> #VALUE! | H82: =IF(Slab=2,"N/A",IF(H74>I74,"Inadequate","OK")) -> N/A
C85: 1 | D85: WindSpeedKey
C86: (a) Specify the wind zone such as from Table 5.4 of NZS 3604.
C87: (b) Specify the wind speed in m/sec directly. | M87: Column = | N87: =K91+2*(G91-1) -> 1 | P87: Row = | Q87: =I91+2*(E91-1) -> 4 | S87: Value = | T87: =INDEX(N91:U94,Q87,N87) -> 3 | U87: =IF(J91=2,T87,IF(T87>2,6,MIN(6,T87+2))) -> 3
C88: (c) Get the wind speed calculated using the blue zone below. | R88: Wind speed = | T88: =INDEX(B92:B97,U87) -> 44 | U88: m/s
N89: Table 5.4 olf NZS 3604
B90: =INDEX(B92:B97,C91) -> 44 | C90: Wind Zones | E90: Region | G90: Topographic | I90: Roughness | J90: Lee Zone | K90: Exposure | N90: 1 | O90: 2 | P90: 3 | Q90: 4 | R90: 5 | S90: 6 | T90: 7 | U90: 8
C91: 3 | E91: 2 | G91: 1 | I91: 2 | J91: 2 | K91: 1 | M91: 1 | N91: 1 | O91: 2 | P91: 2 | Q91: 3 | R91: 3 | S91: 3 | T91: 3 | U91: 4
B92: 32 | C92: Low | E92: A | G92: T1 | I92: Urban | J92: Yes a Lee Zone | K92: Sheltered | M92: 2 | N92: 2 | O92: 3 | P92: 3 | Q92: 4 | R92: 3 | S92: 4 | T92: 4 | U92: 5
B93: 37 | C93: Medium | E93: W | G93: T2 | I93: Open | J93: Not a Lee Zone | K93: Exposed | M93: 3 | N93: 2 | O93: 3 | P93: 3 | Q93: 4 | R93: 3 | S93: 4 | T93: 5 | U93: 5
B94: 44 | C94: High | G94: T3 | M94: 4 | N94: 3 | O94: 4 | P94: 4 | Q94: 5 | R94: 4 | S94: 5 | T94: 6 | U94: 6
B95: 50 | C95: Very High | G95: T4 | K95: EQ Zone | L95: Soil Class
B96: 55 | C96: Extra High | K96: 1 | L96: 4 | M96: Lateral coefficient C | O96: =INDEX(M97:P101,L96,K96) -> 0.17
B97: 100 | C97: SED | K97: 1 | L97: A | M97: 0.11 | N97: 0.16 | O97: 0.25 | P97: 0.33
D98: Wind speed used = | F98: =IF(WindSpeedKey=1,B90,IF(WindSpeedKey=2,SpecWindSpeed,WSfromtable)) -> 44 | G98: m/s | K98: 2 | L98: B | M98: 0.11 | N98: 0.16 | O98: 0.25 | P98: 0.33
K99: 3 | L99: C | M99: 0.14 | N99: 0.2 | O99: 0.31 | P99: 0.43
K100: 4 | L100: D | M100: 0.17 | N100: 0.24 | O100: 0.4 | P100: 0.52
A101: Drop down box contents | L101: E | M101: 0.18 | N101: 0.27 | O101: 0.42 | P101: 0.55
A102: NumStoreys | B102: Slab | O102: roof slope use: | Q102: =INDEX(O103:O106,C103) -> 25
A103: 2 | B103: 2 | C103: 1 | D103: 1 | E103: 1 | F103: 3 | G103: 1 | H103: 2 | I103: 2 | K103: Building height H = | M103: =M104+M105+L106+L107 -> #VALUE! | O103: 25 | P103: 0 to 25
A104: Num | B104: Subfloor | C104: Roof | D104: Room | E104: Roof | F104: Floor | G104: Cladding | H104: Cladding | I104: Cladding | K104: HS= | L104: =HS | M104: =IF(Slab=2,0,HS) -> 0 | O104: 45 | P104: 25 to 45
A105: of | B105: or Slab | C105: slope | D105: in | E105: Weight | F105: Loading | G105: Weight | H105: Weight | I105: Weight | K105: HLE= | L105: =HLE -> 0 | M105: =IF(NumStoreys=2,L105,N106) -> 0 | O105: 60 | P105: 45 to 60
A106: Storeys | D106: Roofspace | G106: Upper | H106: Lower | I106: Subfloor | K106: HUE= | L106: =HUE | O106: =RoofAngle -> 0
K107: RoofH= | L107: =RoofH -> 0
A108: Single storey | B108: Subfloor | C108: 0 to 25 degrees | D108: No | E108: Light | F108: 2 kPa | G108: Light | H108: Light | I108: Light | K108: XX | L108: =HLE-HLI -> 0
A109: Two storey | B109: Slab | C109: 25 to 45 degrees | D109: Yes | E109: Heavy | F109: 3 kPa | G109: Medium | H109: Medium | I109: Medium | K109: Roof slope | M109: =Q102 -> 25 | N109: degrees | O109: Get Tan of this angle | Q109: =TAN(M109*PI()/180) -> 0.46630766
C110: 45 to 60 degrees | D110: M/T | E110: Specify | F110: Specify | G110: Heavy | H110: Heavy | I110: Heavy
C111: Specify | G111: Specify | H111: Specify | I111: Specify
A114: Calculate wind demand load
A116: V= | B116: =F98 -> 44 | C116: =G98 -> m/s
A117: Use q= | B117: =0.8*0.6*B116^2/1000 -> 0.92928 | C117: kPa | D117: Note, 0.8 factor is combination factor of Page 22 of Shelton.
B118: L | C118: M | D118: H | E118: VH | F118: EH
...

Sheet Print
A1: Press Print to print this page as a record of the analysis
B3: Gamma Bracing Technologies Ltd - Bracing Software
A6: Job Description
A7: =IF('Main Menu'!A3="","",'Main Menu'!A3)
A8: =IF('Main Menu'!A4="","",'Main Menu'!A4)
A9: =IF('Main Menu'!A5="","",'Main Menu'!A5)
A10: =IF('Main Menu'!A6="","",'Main Menu'!A6)
A11: =IF('Main Menu'!A7="","",'Main Menu'!A7) -> New Zealand
A13: =IF(WindSpeedKey= 1," Wind zone =",IF(WindSpeedKey= 3,"Wind zone =","Specified wind speed =")) -> Wind zone = | C13: =IF(WindSpeedKey=1,INDEX('Main Menu'!C92:C97,WindZone),IF(WindSpeedKey=2,SpecWindSpeed,INDEX('Main Menu'!C92:C97,WSIfromtable))) -> High | D13: =IF(WindSpeedKey=2," m/sec","") | E13: =IF(WindSpeedKey=1,"Wind zone specified by user",IF(WindSpeedKey=2,"Wind speed specified by user","Determined from information in line below")) -> Wind zone specified by user
A14: =IF(WindSpeedKey=3,"Region ","") | B14: =IF(WindSpeedKey=3,INDEX('Main Menu'!E92:E93,'Main Menu'!E91),"") | C14: =IF(WindSpeedKey=3,"Roughness ","") | D14: =IF(WindSpeedKey=3,INDEX('Main Menu'!I92:I93,'Main Menu'!I91),"") | E14: =IF(WindSpeedKey=3,"Exposure ","") | F14: =IF(WindSpeedKey=3,INDEX('Main Menu'!K92:K93,'Main Menu'!K91),"") | G14: =IF(WindSpeedKey=3,"Topography "&INDEX('Main Menu'!G92:G95,'Main Menu'!G91),"")
A15: =IF(WindSpeedKey<3,"",IF(LeeZone=1,"Lee Zone","Not a Lee Zone")) | C15: =IF(WindSpeedKey<3,"",IF(WSIfromtable=6,"Wind speed is taken as 100 m/sec",""))
A17: Earthquake Zone = | C17: =INDEX('Main Menu'!K97:K100,'Main Menu'!K96) -> 1
A18: Subsoil classification = | C18: =INDEX('Main Menu'!L97:L101,'Main Menu'!L96) -> D
A21: Summary of bracing demand and resistance: Units BU's.
C22: Upper storey | E22: Lower storey | G22: Subfloor
A24: Wind | C24: Demand | D24: Provided | E24: Demand | F24: Provided | G24: Demand | H24: Provided
A25: Along direction | C25: ='Main Menu'!D73 -> #VALUE! | D25: ='Single - Upper Along'!H2 -> 45 | E25: ='Main Menu'!F73 -> #VALUE! | F25: ='Lower Along'!H2 -> 0 | G25: ='Main Menu'!H73 -> N/A | H25: ='Subfloor Along'!H2 -> 105
A26: Across direction | C26: ='Main Menu'!D74 -> #VALUE! | D26: ='Single - Upper Across'!H2 -> 0 | E26: ='Main Menu'!F74 -> #VALUE! | F26: ='Lower Across'!H2 -> 0 | G26: ='Main Menu'!H74 -> N/A | H26: ='Subfloor Across'!H2 -> 225
A28: Earthquake | C28: Demand | D28: Provided | E28: Demand | F28: Provided | G28: Demand | H28: Provided
A29: Along direction | C29: ='Main Menu'!D77 -> #VALUE! | D29: ='Single - Upper Along'!I2 -> 55 | E29: ='Main Menu'!F77 -> #VALUE! | F29: ='Lower Along'!I2 -> 0 | G29: ='Main Menu'!H77 -> N/A | H29: ='Subfloor Along'!I2 -> 110
A30: Across direction | C30: ='Main Menu'!D78 -> #VALUE! | D30: ='Single - Upper Across'!I2 -> 0 | E30: ='Main Menu'!F78 -> #VALUE! | F30: ='Lower Across'!I2 -> 0 | G30: ='Main Menu'!H78 -> N/A | H30: ='Subfloor Across'!I2 -> 275
A32: Check of bracing capacity
A33: Wall along direction | C33: =IF(C25>D25,"Inadequate","OK") -> #VALUE! | E33: =IF(NumStoreys=1,"N/A",IF(E25>F25,"Inadequate","OK")) -> #VALUE! | G33: =IF(Slab=2,"N/A",IF(G25>H25,"Inadequate","OK")) -> N/A
A34: Wall across direction | C34: =IF(C26>D26,"Inadequate","OK") -> #VALUE! | E34: =IF(NumStoreys=1,"N/A",IF(E26>F26,"Inadequate","OK")) -> #VALUE! | G34: =IF(Slab=2,"N/A",IF(G26>H26,"Inadequate","OK")) -> N/A
B35: Gamma Bracing Technologies Ltd - Bracing Software
A36: Building and roof description
A37: Number of storeys: | E37: =NumStoreys -> 2 | F37: =IF(Slab=1,"Building is founded on a subfloor", "Building is founded on a slab (no subfloor)") -> Building is founded on a slab (no subfloor)
A38: RoofH = Roof height above eaves (m) = | E38: =RoofH -> 0
A39: LR = Maximum roof length (m) = | E39: =LR
A40: WR = Maximum roof width (m) = | E40: =WR
A41: =IF(KeyRoofSlope=4,"Specified maximum roof slope (degrees) =","Roof slope (degrees) is in the range") -> Roof slope (degrees) is in the range | E41: =IF(KeyRoofSlope=4,RoofAngle,INDEX('Main Menu'!P103:P106,KeyRoofSlope)) -> 0 to 25
A42: =IF(RoomRS=1,"There is no room in the roof space", "There is a room in the roof space") -> There is no room in the roof space
A43: Roof cladding weight = | E43: =IF(RoofWtKey<3,INDEX('Main Menu'!E108:E110,RoofWtKey),RoofWt) -> Light | F43: =IF(RoofWtKey=3,"kg/m2 specified by the user","")
A44: Floor live load = | E44: =IF(FLL<3,INDEX('Main Menu'!F108:F109,FLL),FloorLoad) -> 3 | F44: =IF(FLL=3,"kPa specified by the user","") -> kPa specified by the user
A46: =IF(NumStoreys=1,"Single storey details","Upper storey details") -> Upper storey details
A47: Average exterior wall cladding weight = | E47: =IF(CU<4,INDEX('Main Menu'!G108:G111,CU),WUWt) -> Light | F47: =IF(CU=4,"kg/m2 specified by the user","")
A48: LU = Building length (m) = | E48: =LU
A49: WU = Building width (m) = | E49: =WU
A50: AU =Gross building plan area (m2) = | E50: =AUpper
A51: HUI = Interior wall height (m) = | E51: =HUI
A52: HUE = Exterior wall height (m) = | E52: =HUE
A54: =IF(NumStoreys=1,"No Lower storey","Lower storey details") -> Lower storey details
A55: =IF(NumStoreys=2,"Average exterior wall cladding weight =","") -> Average exterior wall cladding weight = | E55: =IF(NumStoreys=1,"",IF(CL<4,INDEX('Main Menu'!H108:H110,CL),WLWt)) -> Medium | F55: =IF(CL=4,"kg/m2 specified by the user","")
A56: =IF(NumStoreys=2,"LL = Building length (m) =","") -> LL = Building length (m) = | E56: =IF(NumStoreys=1,"",LL) -> 0
A57: =IF(NumStoreys=2,"WL = Building width (m) =","") -> WL = Building width (m) = | E57: =IF(NumStoreys=1,"",WL) -> 0
A58: =IF(NumStoreys=2,"AL = Gross building plan area (m2) =","") -> AL = Gross building plan area (m2) = | E58: =IF(NumStoreys=1,"",ALower) -> 0
A59: =IF(NumStoreys=2,"HLI = Interior wall height (m) =","") -> HLI = Interior wall height (m) = | E59: =IF(NumStoreys=1,"",HLI) -> 0
A60: =IF(NumStoreys=2,"HLE = Exterior wall height (m) =","") -> HLE = Exterior wall height (m) = | E60: =IF(NumStoreys=1,"",HLE) -> 0
A62: =IF(Slab=2,"No subfloor","Subfloor details") -> No subfloor
A63: =IF(Slab=1,"Average exterior wall cladding weight =","") | E63: =IF(Slab=2,"",IF(CS<4,INDEX('Main Menu'!I108:I110,CS),WSWt))
A64: =IF(Slab=1,"LS = Building length (m) =","") | E64: =IF(Slab=2,"",LS)
A65: =IF(Slab=1,"WS = Building width (m) =","") | E65: =IF(Slab=2,"",WS)
A66: =IF(Slab=1,"AS = Gross building plan area (m2) =","") | E66: =IF(Slab=2,"",ASub)
A67: =IF(Slab=1,"HS = Subfloor height (m) =","") | E67: =IF(Slab=2,"",HS)
B68: Gamma Bracing Technologies Ltd - Bracing Software
A69: (a) Resistance of bracing systems used in the upper floor in the across direction.
A70: Line name | B70: Bracing element label | C70: Bracing wall type | D70: 1 or wall length in metres | E70: Wall Height (metres) | F70: Wall angle in degrees | G70: Wind BU's | H70: EQ BU's
A71: ='Single - Upper Across'!A8 -> M | B71: ='Single - Upper Across'!B8 -> M1 | C71: ='Single - Upper Across'!X8 -> None | D71: ='Single - Upper Across'!E8 -> 1 | E71: ='Single - Upper Across'!F8 -> 2.4 | F71: ='Single - Upper Across'!G8 -> 0 | G71: ='Single - Upper Across'!H8 -> 0 | H71: ='Single - Upper Across'!I8 -> 0
B72: ='Single - Upper Across'!B9 -> M2 | C72: ='Single - Upper Across'!X9 -> None | D72: ='Single - Upper Across'!E9 -> 1 | E72: ='Single - Upper Across'!F9 -> 2.4 | F72: ='Single - Upper Across'!G9 -> 0 | G72: ='Single - Upper Across'!H9 -> 0 | H72: ='Single - Upper Across'!I9 -> 0
B73: ='Single - Upper Across'!B10 -> M3 | C73: ='Single - Upper Across'!X10 -> None | D73: ='Single - Upper Across'!E10 -> 1 | E73: ='Single - Upper Across'!F10 -> 2.4 | F73: ='Single - Upper Across'!G10 -> 0 | G73: ='Single - Upper Across'!H10 -> 0 | H73: ='Single - Upper Across'!I10 -> 0
B74: ='Single - Upper Across'!B11 -> M4 | C74: ='Single - Upper Across'!X11 -> None | D74: ='Single - Upper Across'!E11 -> 1 | E74: ='Single - Upper Across'!F11 -> 2.4 | F74: ='Single - Upper Across'!G11 -> 0 | G74: ='Single - Upper Across'!H11 -> 0 | H74: ='Single - Upper Across'!I11 -> 0
B75: ='Single - Upper Across'!B12 -> M5 | C75: ='Single - Upper Across'!X12 -> None | D75: ='Single - Upper Across'!E12 -> 1 | E75: ='Single - Upper Across'!F12 -> 2.4 | F75: ='Single - Upper Across'!G12 -> 0 | G75: ='Single - Upper Across'!H12 -> 0 | H75: ='Single - Upper Across'!I12 -> 0
B76: ='Single - Upper Across'!B13 -> M6 | C76: ='Single - Upper Across'!X13 -> None | D76: ='Single - Upper Across'!E13 -> 1 | E76: ='Single - Upper Across'!F13 -> 2.4 | F76: ='Single - Upper Across'!G13 -> 0 | G76: ='Single - Upper Across'!H13 -> 0 | H76: ='Single - Upper Across'!I13 -> 0
A77: ='Single - Upper Across'!A14 -> N | B77: ='Single - Upper Across'!B14 -> N1 | C77: ='Single - Upper Across'!X14 -> None | D77: ='Single - Upper Across'!E14 -> 1 | E77: ='Single - Upper Across'!F14 -> 2.4 | F77: ='Single - Upper Across'!G14 -> 0 | G77: ='Single - Upper Across'!H14 -> 0 | H77: ='Single - Upper Across'!I14 -> 0
B78: ='Single - Upper Across'!B15 -> N2 | C78: ='Single - Upper Across'!X15 -> None | D78: ='Single - Upper Across'!E15 -> 1 | E78: ='Single - Upper Across'!F15 -> 2.4 | F78: ='Single - Upper Across'!G15 -> 0 | G78: ='Single - Upper Across'!H15 -> 0 | H78: ='Single - Upper Across'!I15 -> 0
B79: ='Single - Upper Across'!B16 -> N3 | C79: ='Single - Upper Across'!X16 -> None | D79: ='Single - Upper Across'!E16 -> 1 | E79: ='Single - Upper Across'!F16 -> 2.4 | F79: ='Single - Upper Across'!G16 -> 0 | G79: ='Single - Upper Across'!H16 -> 0 | H79: ='Single - Upper Across'!I16 -> 0
B80: ='Single - Upper Across'!B17 -> N4 | C80: ='Single - Upper Across'!X17 -> None | D80: ='Single - Upper Across'!E17 -> 1 | E80: ='Single - Upper Across'!F17 -> 2.4 | F80: ='Single - Upper Across'!G17 -> 0 | G80: ='Single - Upper Across'!H17 -> 0 | H80: ='Single - Upper Across'!I17 -> 0
B81: ='Single - Upper Across'!B18 -> N5 | C81: ='Single - Upper Across'!X18 -> None | D81: ='Single - Upper Across'!E18 -> 1 | E81: ='Single - Upper Across'!F18 -> 2.4 | F81: ='Single - Upper Across'!G18 -> 0 | G81: ='Single - Upper Across'!H18 -> 0 | H81: ='Single - Upper Across'!I18 -> 0
B82: ='Single - Upper Across'!B19 -> N6 | C82: ='Single - Upper Across'!X19 -> None | D82: ='Single - Upper Across'!E19 -> 1 | E82: ='Single - Upper Across'!F19 -> 2.4 | F82: ='Single - Upper Across'!G19 -> 0 | G82: ='Single - Upper Across'!H19 -> 0 | H82: ='Single - Upper Across'!I19 -> 0
A83: ='Single - Upper Across'!A20 -> O | B83: ='Single - Upper Across'!B20 -> O1 | C83: ='Single - Upper Across'!X20 -> None | D83: ='Single - Upper Across'!E20 -> 1 | E83: ='Single - Upper Across'!F20 -> 2.4 | F83: ='Single - Upper Across'!G20 -> 0 | G83: ='Single - Upper Across'!H20 -> 0 | H83: ='Single - Upper Across'!I20 -> 0
B84: ='Single - Upper Across'!B21 -> O2 | C84: ='Single - Upper Across'!X21 -> None | D84: ='Single - Upper Across'!E21 -> 1 | E84: ='Single - Upper Across'!F21 -> 2.4 | F84: ='Single - Upper Across'!G21 -> 0 | G84: ='Single - Upper Across'!H21 -> 0 | H84: ='Single - Upper Across'!I21 -> 0
B85: ='Single - Upper Across'!B22 -> O3 | C85: ='Single - Upper Across'!X22 -> None | D85: ='Single - Upper Across'!E22 -> 1 | E85: ='Single - Upper Across'!F22 -> 2.4 | F85: ='Single - Upper Across'!G22 -> 0 | G85: ='Single - Upper Across'!H22 -> 0 | H85: ='Single - Upper Across'!I22 -> 0
B86: ='Single - Upper Across'!B23 -> O4 | C86: ='Single - Upper Across'!X23 -> None | D86: ='Single - Upper Across'!E23 -> 1 | E86: ='Single - Upper Across'!F23 -> 2.4 | F86: ='Single - Upper Across'!G23 -> 0 | G86: ='Single - Upper Across'!H23 -> 0 | H86: ='Single - Upper Across'!I23 -> 0
B87: ='Single - Upper Across'!B24 -> O5 | C87: ='Single - Upper Across'!X24 -> None | D87: ='Single - Upper Across'!E24 -> 1 | E87: ='Single - Upper Across'!F24 -> 2.4 | F87: ='Single - Upper Across'!G24 -> 0 | G87: ='Single - Upper Across'!H24 -> 0 | H87: ='Single - Upper Across'!I24 -> 0
B88: ='Single - Upper Across'!B25 -> O6 | C88: ='Single - Upper Across'!X25 -> None | D88: ='Single - Upper Across'!E25 -> 1 | E88: ='Single - Upper Across'!F25 -> 2.4 | F88: ='Single - Upper Across'!G25 -> 0 | G88: ='Single - Upper Across'!H25 -> 0 | H88: ='Single - Upper Across'!I25 -> 0
A89: ='Single - Upper Across'!A26 -> P | B89: ='Single - Upper Across'!B26 -> P1 | C89: ='Single - Upper Across'!X26 -> None | D89: ='Single - Upper Across'!E26 -> 1 | E89: ='Single - Upper Across'!F26 -> 2.4 | F89: ='Single - Upper Across'!G26 -> 0 | G89: ='Single - Upper Across'!H26 -> 0 | H89: ='Single - Upper Across'!I26 -> 0
B90: ='Single - Upper Across'!B27 -> P2 | C90: ='Single - Upper Across'!X27 -> None | D90: ='Single - Upper Across'!E27 -> 1 | E90: ='Single - Upper Across'!F27 -> 2.4 | F90: ='Single - Upper Across'!G27 -> 0 | G90: ='Single - Upper Across'!H27 -> 0 | H90: ='Single - Upper Across'!I27 -> 0
B91: ='Single - Upper Across'!B28 -> P3 | C91: ='Single - Upper Across'!X28 -> None | D91: ='Single - Upper Across'!E28 -> 1 | E91: ='Single - Upper Across'!F28 -> 2.4 | F91: ='Single - Upper Across'!G28 -> 0 | G91: ='Single - Upper Across'!H28 -> 0 | H91: ='Single - Upper Across'!I28 -> 0
B92: ='Single - Upper Across'!B29 -> P4 | C92: ='Single - Upper Across'!X29 -> None | D92: ='Single - Upper Across'!E29 -> 1 | E92: ='Single - Upper Across'!F29 -> 2.4 | F92: ='Single - Upper Across'!G29 -> 0 | G92: ='Single - Upper Across'!H29 -> 0 | H92: ='Single - Upper Across'!I29 -> 0
B93: ='Single - Upper Across'!B30 -> P5 | C93: ='Single - Upper Across'!X30 -> None | D93: ='Single - Upper Across'!E30 -> 1 | E93: ='Single - Upper Across'!F30 -> 2.4 | F93: ='Single - Upper Across'!G30 -> 0 | G93: ='Single - Upper Across'!H30 -> 0 | H93: ='Single - Upper Across'!I30 -> 0
B94: ='Single - Upper Across'!B31 -> P6 | C94: ='Single - Upper Across'!X31 -> None | D94: ='Single - Upper Across'!E31 -> 1 | E94: ='Single - Upper Across'!F31 -> 2.4 | F94: ='Single - Upper Across'!G31 -> 0 | G94: ='Single - Upper Across'!H31 -> 0 | H94: ='Single - Upper Across'!I31 -> 0
A95: ='Single - Upper Across'!A32 -> Q | B95: ='Single - Upper Across'!B32 -> Q1 | C95: ='Single - Upper Across'!X32 -> None | D95: ='Single - Upper Across'!E32 -> 1 | E95: ='Single - Upper Across'!F32 -> 2.4 | F95: ='Single - Upper Across'!G32 -> 0 | G95: ='Single - Upper Across'!H32 -> 0 | H95: ='Single - Upper Across'!I32 -> 0
B96: ='Single - Upper Across'!B33 -> Q2 | C96: ='Single - Upper Across'!X33 -> None | D96: ='Single - Upper Across'!E33 -> 1 | E96: ='Single - Upper Across'!F33 -> 2.4 | F96: ='Single - Upper Across'!G33 -> 0 | G96: ='Single - Upper Across'!H33 -> 0 | H96: ='Single - Upper Across'!I33 -> 0
B97: ='Single - Upper Across'!B34 -> Q3 | C97: ='Single - Upper Across'!X34 -> None | D97: ='Single - Upper Across'!E34 -> 1 | E97: ='Single - Upper Across'!F34 -> 2.4 | F97: ='Single - Upper Across'!G34 -> 0 | G97: ='Single - Upper Across'!H34 -> 0 | H97: ='Single - Upper Across'!I34 -> 0
B98: ='Single - Upper Across'!B35 -> Q4 | C98: ='Single - Upper Across'!X35 -> None | D98: ='Single - Upper Across'!E35 -> 1 | E98: ='Single - Upper Across'!F35 -> 2.4 | F98: ='Single - Upper Across'!G35 -> 0 | G98: ='Single - Upper Across'!H35 -> 0 | H98: ='Single - Upper Across'!I35 -> 0
B99: ='Single - Upper Across'!B36 -> Q5 | C99: ='Single - Upper Across'!X36 -> None | D99: ='Single - Upper Across'!E36 -> 1 | E99: ='Single - Upper Across'!F36 -> 2.4 | F99: ='Single - Upper Across'!G36 -> 0 | G99: ='Single - Upper Across'!H36 -> 0 | H99: ='Single - Upper Across'!I36 -> 0
B100: ='Single - Upper Across'!B37 -> Q6 | C100: ='Single - Upper Across'!X37 -> None | D100: ='Single - Upper Across'!E37 -> 1 | E100: ='Single - Upper Across'!F37 -> 2.4 | F100: ='Single - Upper Across'!G37 -> 0 | G100: ='Single - Upper Across'!H37 -> 0 | H100: ='Single - Upper Across'!I37 -> 0
A101: ='Single - Upper Across'!A38 -> R | B101: ='Single - Upper Across'!B38 -> R1 | C101: ='Single - Upper Across'!X38 -> None | D101: ='Single - Upper Across'!E38 -> 1 | E101: ='Single - Upper Across'!F38 -> 2.4 | F101: ='Single - Upper Across'!G38 -> 0 | G101: ='Single - Upper Across'!H38 -> 0 | H101: ='Single - Upper Across'!I38 -> 0
B102: ='Single - Upper Across'!B39 -> R2 | C102: ='Single - Upper Across'!X39 -> None | D102: ='Single - Upper Across'!E39 -> 1 | E102: ='Single - Upper Across'!F39 -> 2.4 | F102: ='Single - Upper Across'!G39 -> 0 | G102: ='Single - Upper Across'!H39 -> 0 | H102: ='Single - Upper Across'!I39 -> 0
B103: ='Single - Upper Across'!B40 -> R3 | C103: ='Single - Upper Across'!X40 -> None | D103: ='Single - Upper Across'!E40 -> 1 | E103: ='Single - Upper Across'!F40 -> 2.4 | F103: ='Single - Upper Across'!G40 -> 0 | G103: ='Single - Upper Across'!H40 -> 0 | H103: ='Single - Upper Across'!I40 -> 0
B104: ='Single - Upper Across'!B41 -> R4 | C104: ='Single - Upper Across'!X41 -> None | D104: ='Single - Upper Across'!E41 -> 1 | E104: ='Single - Upper Across'!F41 -> 2.4 | F104: ='Single - Upper Across'!G41 -> 0 | G104: ='Single - Upper Across'!H41 -> 0 | H104: ='Single - Upper Across'!I41 -> 0
B105: ='Single - Upper Across'!B42 -> R5 | C105: ='Single - Upper Across'!X42 -> None | D105: ='Single - Upper Across'!E42 -> 1 | E105: ='Single - Upper Across'!F42 -> 2.4 | F105: ='Single - Upper Across'!G42 -> 0 | G105: ='Single - Upper Across'!H42 -> 0 | H105: ='Single - Upper Across'!I42 -> 0
B106: ='Single - Upper Across'!B43 -> R6 | C106: ='Single - Upper Across'!X43 -> None | D106: ='Single - Upper Across'!E43 -> 1 | E106: ='Single - Upper Across'!F43 -> 2.4 | F106: ='Single - Upper Across'!G43 -> 0 | G106: ='Single - Upper Across'!H43 -> 0 | H106: ='Single - Upper Across'!I43 -> 0
A107: ='Single - Upper Across'!A44 -> S | B107: M1 | C107: ='Single - Upper Across'!X44 -> None | D107: ='Single - Upper Across'!E44 -> 1 | E107: ='Single - Upper Across'!F44 -> 2.4 | F107: ='Single - Upper Across'!G44 -> 0 | G107: ='Single - Upper Across'!H44 -> 0 | H107: ='Single - Upper Across'!I44 -> 0
B108: M2 | C108: ='Single - Upper Across'!X45 -> None | D108: ='Single - Upper Across'!E45 -> 1 | E108: ='Single - Upper Across'!F45 -> 2.4 | F108: ='Single - Upper Across'!G45 -> 0 | G108: ='Single - Upper Across'!H45 -> 0 | H108: ='Single - Upper Across'!I45 -> 0
B109: M3 | C109: ='Single - Upper Across'!X46 -> UB1FR 1.2-4.8 | D109: ='Single - Upper Across'!E46 -> 1 | E109: ='Single - Upper Across'!F46 -> 2.4 | F109: ='Single - Upper Across'!G46 -> 0 | G109: ='Single - Upper Across'!H46 -> 0 | H109: ='Single - Upper Across'!I46 -> 0
B110: M4 | C110: ='Single - Upper Across'!X47 -> None | D110: ='Single - Upper Across'!E47 -> 1 | E110: ='Single - Upper Across'!F47 -> 2.4 | F110: ='Single - Upper Across'!G47 -> 0 | G110: ='Single - Upper Across'!H47 -> 0 | H110: ='Single - Upper Across'!I47 -> 0
B111: M5 | C111: ='Single - Upper Across'!X48 -> None | D111: ='Single - Upper Across'!E48 -> 1 | E111: ='Single - Upper Across'!F48 -> 2.4 | F111: ='Single - Upper Across'!G48 -> 0 | G111: ='Single - Upper Across'!H48 -> 0 | H111: ='Single - Upper Across'!I48 -> 0
B112: M6 | C112: ='Single - Upper Across'!X49 -> anchor pile | D112: ='Single - Upper Across'!E49 -> 1 | E112: ='Single - Upper Across'!F49 -> 2.4 | F112: ='Single - Upper Across'!G49 -> 0 | G112: ='Single - Upper Across'!H49 -> 0 | H112: ='Single - Upper Across'!I49 -> 0
D113: Total bracing achieved | G113: =SUM(G71:G112) -> 0 | H113: =SUM(H71:H112) -> 0
...

Sheet Subfloor Along
A1: GBTL - Subfloor Along | H1: Wind BU's | I1: EQ BU's | J1: Gamma Bracing Technologies Ltd
A2: Total bracing achieved | H2: =H51 -> 105 | I2: =I51 -> 110 | AJ2: Note, spreadsheet from here and to RHS is just to define drop down menus for the boxes in Column D
A3: Total bracing required | H3: =H52 -> N/A | I3: =I52 -> N/A | AF3: Drop down menu for boxes in Column C | AO3: Selection No from second combo box - ie bracing system
A4: Subfloor bracing walls | H4: =H53 -> NG | I4: =I53 -> NG | W4: 1 | X4: 2 | Y4: 3 | Z4: 4 | AA4: 5 | AB4: 6 | AK4: Used in formula below.
A5: This sheet defines bracing walls in the ALONG direction | H5: Values achieved | J5: Check minimum bracing rating in Section 5.4.7 of NZS 3604:2011
AJ6: 1 | AK6: 2 | AL6: 3 | AM6: 4 | AN6: 5 | AO6: 6 | AP6: 7 | AQ6: 8 | AR6: 9 | AS6: 10 | AT6: 11 | AU6: 12 | AV6: 13 | AW6: 14 | AX6: 15 | AY6: 16 | AZ6: 17 | BA6: 18 | BB6: 19 | BC6: 20 | BD6: 21 | BE6: 22 | BF6: 23 | BG6: 24 | BH6: 25 | BI6: 26 | BJ6: 27 | BK6: 28 | BL6: 29 | BM6: 30 | BN6: 31 | BO6: 32 | BP6: 33 | BQ6: 34 | BR6: 35 | BS6: 36 | BT6: 37 | BU6: 38 | BV6: 39 | BW6: 40 | BX6: 41 | BY6: 42
A7: Line name | B7: Bracing element label | C7: Source of published bracing rating | D7: Bracing wall type | E7: 1 or wall length in metres | F7: Wall Height (metres) | G7: Wall angle in degrees | H7: Wind BU's | I7: EQ BU's | J7: Is bracing element length specified less than minimum? | K7: Bracing line bracing capacity BU's | L7: If external wall give length (m) | M7: Requirement for internal walls | N7: Requirement for external walls | U7: No of bracing lines | V7: Used min length (m) | W7: Supplier | X7: System | Y7: Minimum length | Z7: Wind BU's per unit | AA7: Earthquake BU's per unit | AB7: spare | AC7: wind rating | AD7: EQ rating | AG7: Used on RHS | AH7: Key for Source | AI7: Source Name | AJ7: =INDEX($AI8:$AI49,AJ6) -> Gamma | AK7: =INDEX($AI8:$AI49,AK6) -> None | AL7: =INDEX($AI8:$AI49,AL6) -> None | AM7: =INDEX($AI8:$AI49,AM6) -> None | AN7: =INDEX($AI8:$AI49,AN6) -> None | AO7: =INDEX($AI8:$AI49,AO6) -> None | AP7: =INDEX($AI8:$AI49,AP6) -> None | AQ7: =INDEX($AI8:$AI49,AQ6) -> None | ... BY7: =INDEX($AI8:$AI49,BY6) -> Plasterboard
A8: A | B8: A1 | E8: 2 | F8: 2.4 | G8: 0 | H8: =AC8 -> 55 | I8: =AD8 -> 60 | J8: =IF(E8<Y8,"Insufficient","OK") -> OK | K8: =MIN(SUM(H8:H13),SUM(I8:I13)) -> 55 | L8: 0 | M8: =IF(K8=0,"",MAX(100,0.5*MAX(H$3,I$3)/U$15)) -> 100 | N8: =IF(K8=0,"",MAX(M8,L8*15)) -> 100 | O8: =IF(K8=0,"",IF(M8<=K8,"OK if internal bracing line", "NG if internal bracing line")) -> NG if internal bracing line | U8: =IF(K8=0,0,1) -> 1 | V8: =IF($AH8<2,0,Y8) -> 1 | W8: =INDEX(INDIRECT($AI8),$AJ$9+1,W$4) -> Gamma | X8: =INDEX(INDIRECT($AI8),$AJ$9+1,X$4) -> GBF535/3000 | Y8: =INDEX(INDIRECT($AI8),$AJ$9+1,Y$4) -> 1 | Z8: =INDEX(INDIRECT($AI8),$AJ$9+1,Z$4) -> 55 | AA8: =INDEX(INDIRECT($AI8),$AJ$9+1,AA$4) -> 60 | AB8: =INDEX(INDIRECT($AI8),$AJ$9+1,AB$4) -> 0 | AC8: =IF($AH8<2,0,IF($AH8=2,COS($G8*PI()/180)*Z8,IF($E8<$Y8,0,COS($G8*PI()/180)*Z8*$E8*2.4/$F8))) -> 55 | AD8: =IF($AH8<2,0,IF($AH8=2,COS($G8*PI()/180)*AA8,IF($E8<$Y8,0,COS($G8*PI()/180)*AA8*$E8*2.4/$F8))) -> 60 | AH8: 2 | AI8: =INDEX(AF$11:AF$16,AH8) -> Gamma
B9: A2 | E9: 1 | F9: 2.4 | G9: 0 | H9: =AC9 -> 0 | I9: =AD9 -> 0 | J9: =IF(E9<Y9,"Insufficient","OK") -> OK | U9: =IF(K14=0,0,1) -> 0 | V9: =IF($AH9<2,0,Y9) -> 0 | W9: =INDEX(INDIRECT($AI9),$AK$9+1,W$4) -> None | X9: =INDEX(INDIRECT($AI9),$AK$9+1,X$4) -> None | Y9: =INDEX(INDIRECT($AI9),$AK$9+1,Y$4) -> 0 | Z9: =INDEX(INDIRECT($AI9),$AK$9+1,Z$4) -> 0 | AA9: =INDEX(INDIRECT($AI9),$AK$9+1,AA$4) -> 0 | AB9: =INDEX(INDIRECT($AI9),$AK$9+1,AB$4) -> 0 | AC9: =IF($AH9<2,0,IF($AH9=2,COS($G9*PI()/180)*Z9,IF($E9<$Y9,0,COS($G9*PI()/180)*Z9*E9*2.4/$F9))) -> 0 | AD9: =IF($AH9<2,0,IF($AH9=2,COS($G9*PI()/180)*AA9,IF($E9<$Y9,0,COS($G9*PI()/180)*AA9*$E9*2.4/$F9))) -> 0 | AH9: 1 | AI9: =INDEX(AF$11:AF$16,AH9) -> None | AJ9: 11 | AK9: 6 | AL9: 4 | AM9: 2 | AN9: 1 | AO9: 1 | AP9: 3 | AQ9: 1 | AR9: 1 | AS9: 1 | AT9: 1 | AU9: 1 | AV9: 3 | AW9: 1 | AX9: 1 | AY9: 1 | AZ9: 1 | BA9: 1 | BB9: 1 | BC9: 1 | BD9: 1 | BE9: 1 | BF9: 1 | BG9: 1 | BH9: 1 | BI9: 1 | BJ9: 1 | BK9: 1 | BL9: 1 | BM9: 6 | BN9: 1 | BO9: 3 | BP9: 1 | BQ9: 4 | BR9: 3 | BS9: 1 | BT9: 6 | BU9: 3 | BV9: 1 | BW9: 3 | BX9: 1 | BY9: 15
B10: A3 | E10: 1 | F10: 2.4 | G10: 0 | H10: =AC10 -> 0 | I10: =AD10 -> 0 | J10: =IF(E10<Y10,"Insufficient","OK") -> OK | U10: =IF(K20=0,0,1) -> 0 | V10: =IF($AH10<2,0,Y10) -> 0 | W10: =INDEX(INDIRECT($AI10),$AL$9+1,W$4) -> None | X10: =INDEX(INDIRECT($AI10),$AL$9+1,X$4) -> None | Y10: =INDEX(INDIRECT($AI10),$AL$9+1,Y$4) -> 0 | Z10: =INDEX(INDIRECT($AI10),$AL$9+1,Z$4) -> 0 | AA10: =INDEX(INDIRECT($AI10),$AL$9+1,AA$4) -> 0 | AB10: =INDEX(INDIRECT($AI10),$AL$9+1,AB$4) -> 0 | AC10: =IF($AH10<2,0,IF($AH10=2,COS($G10*PI()/180)*Z10,IF($E10<$Y10,0,COS($G10*PI()/180)*Z10*E10*2.4/$F10))) -> 0 | AD10: =IF($AH10<2,0,IF($AH10=2,COS($G10*PI()/180)*AA10,IF($E10<$Y10,0,COS($G10*PI()/180)*AA10*$E10*2.4/$F10))) -> 0 | AH10: 1 | AI10: =INDEX(AF$11:AF$16,AH10) -> None | AJ10: T1 | AK10: T2 | AL10: T3 | AM10: T4 | AN10: T5 | AO10: T6 | AP10: U1 | AQ10: U2 | AR10: U3 | AS10: U4 | AT10: U5 | AU10: U6 | AV10: V1 | AW10: V2 | AX10: V3 | AY10: V4 | AZ10: V5 | BA10: V6 | BB10: W1 | BC10: W2 | BD10: W3 | BE10: W4 | BF10: W5 | BG10: W6 | BH10: X1 | BI10: X2 | BJ10: X3 | BK10: X4 | BL10: X5 | BM10: X6 | BN10: Y1 | BO10: Y2 | BP10: Y3 | BQ10: Y4 | BR10: Y5 | BS10: Y6 | BT10: Z1 | BU10: Z2 | BV10: Z3 | BW10: Z4 | BX10: Z5 | BY10: Z6
B11: A4 | E11: 1 | F11: 2.4 | G11: 0 | H11: =AC11 -> 0 | I11: =AD11 -> 0 | J11: =IF(E11<Y11,"Insufficient","OK") -> OK | O11: =IF(K8=0,"",IF(N8<=K8,"OK if external bracing line", "NG if external bracing line")) -> NG if external bracing line | U11: =IF(K26=0,0,1) -> 0 | V11: =IF($AH11<2,0,Y11) -> 0 | W11: =INDEX(INDIRECT($AI11),$AM$9+1,W$4) -> None | X11: =INDEX(INDIRECT($AI11),$AM$9+1,X$4) -> None | Y11: =INDEX(INDIRECT($AI11),$AM$9+1,Y$4) -> 0 | Z11: =INDEX(INDIRECT($AI11),$AM$9+1,Z$4) -> 0 | AA11: =INDEX(INDIRECT($AI11),$AM$9+1,AA$4) -> 0 | AB11: =INDEX(INDIRECT($AI11),$AM$9+1,AB$4) -> 0 | AC11: =IF($AH11<2,0,IF($AH11=2,COS($G11*PI()/180)*Z11,IF($E11<$Y11,0,COS($G11*PI()/180)*Z11*E11*2.4/$F11))) -> 0 | AD11: =IF($AH11<2,0,IF($AH11=2,COS($G11*PI()/180)*AA11,IF($E11<$Y11,0,COS($G11*PI()/180)*AA11*$E11*2.4/$F11))) -> 0 | AE11: 1 | AF11: None | AG11: 2 | AH11: 1 | AI11: =INDEX(AF$11:AF$16,AH11) -> None | AJ11: =IF(INDEX(INDIRECT(AJ$7),$AG11,2)="","",INDEX(INDIRECT(AJ$7),$AG11,2)) -> None | AK11: =IF(INDEX(INDIRECT(AK$7),$AG11,2)="","",INDEX(INDIRECT(AK$7),$AG11,2)) -> None | AL11: =IF(INDEX(INDIRECT(AL$7),$AG11,2)="","",INDEX(INDIRECT(AL$7),$AG11,2)) -> None | AM11: =IF(INDEX(INDIRECT(AM$7),$AG11,2)="","",INDEX(INDIRECT(AM$7),$AG11,2)) -> None | AN11: =IF(INDEX(INDIRECT(AN$7),$AG11,2)="","",INDEX(INDIRECT(AN$7),$AG11,2)) -> None | AO11: =IF(INDEX(INDIRECT(AO$7),$AG11,2)="","",INDEX(INDIRECT(AO$7),$AG11,2)) -> None | AP11: =IF(INDEX(INDIRECT(AP$7),$AG11,2)="","",INDEX(INDIRECT(AP$7),$AG11,2)) -> None | AQ11: =IF(INDEX(INDIRECT(AQ$7),$AG11,2)="","",INDEX(INDIRECT(AQ$7),$AG11,2)) -> None | ... BY11: =IF(INDEX(INDIRECT(BY$7),$AG11,2)="","",INDEX(INDIRECT(BY$7),$AG11,2)) -> None
B12: A5 | E12: 1 | F12: 2.4 | G12: 0 | H12: =AC12 -> 0 | I12: =AD12 -> 0 | J12: =IF(E12<Y12,"Insufficient","OK") -> OK | U12: =IF(K32=0,0,1) -> 0 | V12: =IF($AH12<2,0,Y12) -> 0 | W12: =INDEX(INDIRECT($AI12),$AN$9+1,W$4) -> None | X12: =INDEX(INDIRECT($AI12),$AN$9+1,X$4) -> None | Y12: =INDEX(INDIRECT($AI12),$AN$9+1,Y$4) -> 0 | Z12: =INDEX(INDIRECT($AI12),$AN$9+1,Z$4) -> 0 | AA12: =INDEX(INDIRECT($AI12),$AN$9+1,AA$4) -> 0 | AB12: =INDEX(INDIRECT($AI12),$AN$9+1,AB$4) -> 0 | AC12: =IF($AH12<2,0,IF($AH12=2,COS($G12*PI()/180)*Z12,IF($E12<$Y12,0,COS($G12*PI()/180)*Z12*E12*2.4/$F12))) -> 0 | AD12: =IF($AH12<2,0,IF($AH12=2,COS($G12*PI()/180)*AA12,IF($E12<$Y12,0,COS($G12*PI()/180)*AA12*$E12*2.4/$F12))) -> 0 | AE12: 2 | AF12: Gamma | AG12: 3 | AH12: 1 | AI12: =INDEX(AF$11:AF$16,AH12) -> None | AJ12: =IF(INDEX(INDIRECT(AJ$7),$AG12,2)="","",INDEX(INDIRECT(AJ$7),$AG12,2)) -> GBF220S/2100 | AK12: =IF(INDEX(INDIRECT(AK$7),$AG12,2)="","",INDEX(INDIRECT(AK$7),$AG12,2)) -> None | AL12: =IF(INDEX(INDIRECT(AL$7),$AG12,2)="","",INDEX(INDIRECT(AL$7),$AG12,2)) -> None | AM12: =IF(INDEX(INDIRECT(AM$7),$AG12,2)="","",INDEX(INDIRECT(AM$7),$AG12,2)) -> None | AN12: =IF(INDEX(INDIRECT(AN$7),$AG12,2)="","",INDEX(INDIRECT(AN$7),$AG12,2)) -> None | AO12: =IF(INDEX(INDIRECT(AO$7),$AG12,2)="","",INDEX(INDIRECT(AO$7),$AG12,2)) -> None | AP12: =IF(INDEX(INDIRECT(AP$7),$AG12,2)="","",INDEX(INDIRECT(AP$7),$AG12,2)) -> None | AQ12: =IF(INDEX(INDIRECT(AQ$7),$AG12,2)="","",INDEX(INDIRECT(AQ$7),$AG12,2)) -> None | ... BY12: =IF(INDEX(INDIRECT(BY$7),$AG12,2)="","",INDEX(INDIRECT(BY$7),$AG12,2)) -> UB1S 0.4 - 6.0
B13: A6 | E13: 1 | F13: 2.4 | G13: 0 | H13: =AC13 -> 0 | I13: =AD13 -> 0 | J13: =IF(E13<Y13,"Insufficient","OK") -> OK | U13: =IF(K38=0,0,1) -> 0 | V13: =IF($AH13<2,0,Y13) -> 0 | W13: =INDEX(INDIRECT($AI13),$AO$9+1,W$4) -> None | X13: =INDEX(INDIRECT($AI13),$AO$9+1,X$4) -> None | Y13: =INDEX(INDIRECT($AI13),$AO$9+1,Y$4) -> 0 | Z13: =INDEX(INDIRECT($AI13),$AO$9+1,Z$4) -> 0 | AA13: =INDEX(INDIRECT($AI13),$AO$9+1,AA$4) -> 0 | AB13: =INDEX(INDIRECT($AI13),$AO$9+1,AB$4) -> 0 | AC13: =IF($AH13<2,0,IF($AH13=2,COS($G13*PI()/180)*Z13,IF($E13<$Y13,0,COS($G13*PI()/180)*Z13*E13*2.4/$F13))) -> 0 | AD13: =IF($AH13<2,0,IF($AH13=2,COS($G13*PI()/180)*AA13,IF($E13<$Y13,0,COS($G13*PI()/180)*AA13*$E13*2.4/$F13))) -> 0 | AE13: 3 | AF13: UserDefined | AG13: 4 | AH13: 1 | AI13: =INDEX(AF$11:AF$16,AH13) -> None | AJ13: =IF(INDEX(INDIRECT(AJ$7),$AG13,2)="","",INDEX(INDIRECT(AJ$7),$AG13,2)) -> GBF220/2400 | AK13: =IF(INDEX(INDIRECT(AK$7),$AG13,2)="","",INDEX(INDIRECT(AK$7),$AG13,2)) -> None | AL13: =IF(INDEX(INDIRECT(AL$7),$AG13,2)="","",INDEX(INDIRECT(AL$7),$AG13,2)) -> None | AM13: =IF(INDEX(INDIRECT(AM$7),$AG13,2)="","",INDEX(INDIRECT(AM$7),$AG13,2)) -> None | AN13: =IF(INDEX(INDIRECT(AN$7),$AG13,2)="","",INDEX(INDIRECT(AN$7),$AG13,2)) -> None | AO13: =IF(INDEX(INDIRECT(AO$7),$AG13,2)="","",INDEX(INDIRECT(AO$7),$AG13,2)) -> None | AP13: =IF(INDEX(INDIRECT(AP$7),$AG13,2)="","",INDEX(INDIRECT(AP$7),$AG13,2)) -> None | AQ13: =IF(INDEX(INDIRECT(AQ$7),$AG13,2)="","",INDEX(INDIRECT(AQ$7),$AG13,2)) -> None | ... BY13: =IF(INDEX(INDIRECT(BY$7),$AG13,2)="","",INDEX(INDIRECT(BY$7),$AG13,2)) -> UB2S 0.4 - 4.8
A14: B | B14: B1 | E14: 1 | F14: 2.4 | G14: 0 | H14: =AC14 -> 0 | I14: =AD14 -> 0 | J14: =IF(E14<Y14,"Insufficient","OK") -> OK | K14: =MIN(SUM(H14:H19),SUM(I14:I19)) -> 0 | L14: 0 | M14: =IF(K14=0,"",MAX(100,0.5*MAX(H$3,I$3)/U$15)) | N14: =IF(K14=0,"",MAX(M14,L14*15)) | O14: =IF(K14=0,"",IF(M14<=K14,"OK if internal bracing line", "NG if internal bracing line")) | U14: =IF(K44=0,0,1) -> 1 | V14: =IF($AH14<2,0,Y14) -> 0 | W14: =INDEX(INDIRECT($AI14),$AP$9+1,W$4) -> None | X14: =INDEX(INDIRECT($AI14),$AP$9+1,X$4) -> None | Y14: =INDEX(INDIRECT($AI14),$AP$9+1,Y$4) -> 0 | Z14: =INDEX(INDIRECT($AI14),$AP$9+1,Z$4) -> 0 | AA14: =INDEX(INDIRECT($AI14),$AP$9+1,AA$4) -> 0 | AB14: =INDEX(INDIRECT($AI14),$AP$9+1,AB$4) -> 0 | AC14: =IF($AH14<2,0,IF($AH14=2,COS($G14*PI()/180)*Z14,IF($E14<$Y14,0,COS($G14*PI()/180)*Z14*E14*2.4/$F14))) -> 0 | AD14: =IF($AH14<2,0,IF($AH14=2,COS($G14*PI()/180)*AA14,IF($E14<$Y14,0,COS($G14*PI()/180)*AA14*$E14*2.4/$F14))) -> 0 | AE14: 4 | AF14: Plasterboard | AG14: 5 | AH14: 1 | AI14: =INDEX(AF$11:AF$16,AH14) -> None | AJ14: =IF(INDEX(INDIRECT(AJ$7),$AG14,2)="","",INDEX(INDIRECT(AJ$7),$AG14,2)) -> GBF400S/2100 | AK14: =IF(INDEX(INDIRECT(AK$7),$AG14,2)="","",INDEX(INDIRECT(AK$7),$AG14,2)) -> None | AL14: =IF(INDEX(INDIRECT(AL$7),$AG14,2)="","",INDEX(INDIRECT(AL$7),$AG14,2)) -> None | AM14: =IF(INDEX(INDIRECT(AM$7),$AG14,2)="","",INDEX(INDIRECT(AM$7),$AG14,2)) -> None | AN14: =IF(INDEX(INDIRECT(AN$7),$AG14,2)="","",INDEX(INDIRECT(AN$7),$AG14,2)) -> None | AO14: =IF(INDEX(INDIRECT(AO$7),$AG14,2)="","",INDEX(INDIRECT(AO$7),$AG14,2)) -> None | AP14: =IF(INDEX(INDIRECT(AP$7),$AG14,2)="","",INDEX(INDIRECT(AP$7),$AG14,2)) -> None | AQ14: =IF(INDEX(INDIRECT(AQ$7),$AG14,2)="","",INDEX(INDIRECT(AQ$7),$AG14,2)) -> None | ... BY14: =IF(INDEX(INDIRECT(BY$7),$AG14,2)="","",INDEX(INDIRECT(BY$7),$AG14,2)) -> UB1M 0.1-1.2
B15: B2 | E15: 1 | F15: 2.4 | G15: 0 | H15: =AC15 -> 0 | I15: =AD15 -> 0 | J15: =IF(E15<Y15,"Insufficient","OK") -> OK | U15: =IF(SUM(U8:U14)=0,1,SUM(U8:U14)) -> 2 | V15: =IF($AH15<2,0,Y15) -> 0 | W15: =INDEX(INDIRECT($AI15),$AQ$9+1,W$4) -> None | X15: =INDEX(INDIRECT($AI15),$AQ$9+1,X$4) -> None | Y15: =INDEX(INDIRECT($AI15),$AQ$9+1,Y$4) -> 0 | Z15: =INDEX(INDIRECT($AI15),$AQ$9+1,Z$4) -> 0 | AA15: =INDEX(INDIRECT($AI15),$AQ$9+1,AA$4) -> 0 | AB15: =INDEX(INDIRECT($AI15),$AQ$9+1,AB$4) -> 0 | AC15: =IF($AH15<2,0,IF($AH15=2,COS($G15*PI()/180)*Z15,IF($E15<$Y15,0,COS($G15*PI()/180)*Z15*E15*2.4/$F15))) -> 0 | AD15: =IF($AH15<2,0,IF($AH15=2,COS($G15*PI()/180)*AA15,IF($E15<$Y15,0,COS($G15*PI()/180)*AA15*$E15*2.4/$F15))) -> 0 | AE15: 5 | AF15: Plywood | AG15: 6 | AH15: 1 | AI15: =INDEX(AF$11:AF$16,AH15) -> None | AJ15: =IF(INDEX(INDIRECT(AJ$7),$AG15,2)="","",INDEX(INDIRECT(AJ$7),$AG15,2)) -> GBF400/2400 | AK15: =IF(INDEX(INDIRECT(AK$7),$AG15,2)="","",INDEX(INDIRECT(AK$7),$AG15,2)) -> None | AL15: =IF(INDEX(INDIRECT(AL$7),$AG15,2)="","",INDEX(INDIRECT(AL$7),$AG15,2)) -> None | AM15: =IF(INDEX(INDIRECT(AM$7),$AG15,2)="","",INDEX(INDIRECT(AM$7),$AG15,2)) -> None | AN15: =IF(INDEX(INDIRECT(AN$7),$AG15,2)="","",INDEX(INDIRECT(AN$7),$AG15,2)) -> None | AO15: =IF(INDEX(INDIRECT(AO$7),$AG15,2)="","",INDEX(INDIRECT(AO$7),$AG15,2)) -> None | AP15: =IF(INDEX(INDIRECT(AP$7),$AG15,2)="","",INDEX(INDIRECT(AP$7),$AG15,2)) -> None | AQ15: =IF(INDEX(INDIRECT(AQ$7),$AG15,2)="","",INDEX(INDIRECT(AQ$7),$AG15,2)) -> None | ... BY15: =IF(INDEX(INDIRECT(BY$7),$AG15,2)="","",INDEX(INDIRECT(BY$7),$AG15,2)) -> UB1M 1.2-2.4
B16: B3 | E16: 1 | F16: 2.4 | G16: 0 | H16: =AC16 -> 0 | I16: =AD16 -> 0 | J16: =IF(E16<Y16,"Insufficient","OK") -> OK | V16: =IF($AH16<2,0,Y16) -> 0 | W16: =INDEX(INDIRECT($AI16),$AR$9+1,W$4) -> None | X16: =INDEX(INDIRECT($AI16),$AR$9+1,X$4) -> None | Y16: =INDEX(INDIRECT($AI16),$AR$9+1,Y$4) -> 0 | Z16: =INDEX(INDIRECT($AI16),$AR$9+1,Z$4) -> 0 | AA16: =INDEX(INDIRECT($AI16),$AR$9+1,AA$4) -> 0 | AB16: =INDEX(INDIRECT($AI16),$AR$9+1,AB$4) -> 0 | AC16: =IF($AH16<2,0,IF($AH16=2,COS($G16*PI()/180)*Z16,IF($E16<$Y16,0,COS($G16*PI()/180)*Z16*E16*2.4/$F16))) -> 0 | AD16: =IF($AH16<2,0,IF($AH16=2,COS($G16*PI()/180)*AA16,IF($E16<$Y16,0,COS($G16*PI()/180)*AA16*$E16*2.4/$F16))) -> 0 | AE16: 6 | AF16: Foundations | AG16: 7 | AH16: 1 | AI16: =INDEX(AF$11:AF$16,AH16) -> None | AJ16: =IF(INDEX(INDIRECT(AJ$7),$AG16,2)="","",INDEX(INDIRECT(AJ$7),$AG16,2)) -> GBF400/2700 | AK16: =IF(INDEX(INDIRECT(AK$7),$AG16,2)="","",INDEX(INDIRECT(AK$7),$AG16,2)) -> None | AL16: =IF(INDEX(INDIRECT(AL$7),$AG16,2)="","",INDEX(INDIRECT(AL$7),$AG16,2)) -> None | AM16: =IF(INDEX(INDIRECT(AM$7),$AG16,2)="","",INDEX(INDIRECT(AM$7),$AG16,2)) -> None | AN16: =IF(INDEX(INDIRECT(AN$7),$AG16,2)="","",INDEX(INDIRECT(AN$7),$AG16,2)) -> None | AO16: =IF(INDEX(INDIRECT(AO$7),$AG16,2)="","",INDEX(INDIRECT(AO$7),$AG16,2)) -> None | AP16: =IF(INDEX(INDIRECT(AP$7),$AG16,2)="","",INDEX(INDIRECT(AP$7),$AG16,2)) -> None | AQ16: =IF(INDEX(INDIRECT(AQ$7),$AG16,2)="","",INDEX(INDIRECT(AQ$7),$AG16,2)) -> None | ... BY16: =IF(INDEX(INDIRECT(BY$7),$AG16,2)="","",INDEX(INDIRECT(BY$7),$AG16,2)) -> UBSM 0.6-2.4
B17: B4 | E17: 1 | F17: 2.4 | G17: 0 | H17: =AC17 -> 0 | I17: =AD17 -> 0 | J17: =IF(E17<Y17,"Insufficient","OK") -> OK | O17: =IF(K14=0,"",IF(N14<=K14,"OK if external bracing line", "NG if external bracing line")) | V17: =IF($AH17<2,0,Y17) -> 0 | W17: =INDEX(INDIRECT($AI17),$AS$9+1,W$4) -> None | X17: =INDEX(INDIRECT($AI17),$AS$9+1,X$4) -> None | Y17: =INDEX(INDIRECT($AI17),$AS$9+1,Y$4) -> 0 | Z17: =INDEX(INDIRECT($AI17),$AS$9+1,Z$4) -> 0 | AA17: =INDEX(INDIRECT($AI17),$AS$9+1,AA$4) -> 0 | AB17: =INDEX(INDIRECT($AI17),$AS$9+1,AB$4) -> 0 | AC17: =IF($AH17<2,0,IF($AH17=2,COS($G17*PI()/180)*Z17,IF($E17<$Y17,0,COS($G17*PI()/180)*Z17*E17*2.4/$F17))) -> 0 | AD17: =IF($AH17<2,0,IF($AH17=2,COS($G17*PI()/180)*AA17,IF($E17<$Y17,0,COS($G17*PI()/180)*AA17*$E17*2.4/$F17))) -> 0 | AG17: 8 | AH17: 1 | AI17: =INDEX(AF$11:AF$16,AH17) -> None | AJ17: =IF(INDEX(INDIRECT(AJ$7),$AG17,2)="","",INDEX(INDIRECT(AJ$7),$AG17,2)) -> GBF400/3000 | AK17: =IF(INDEX(INDIRECT(AK$7),$AG17,2)="","",INDEX(INDIRECT(AK$7),$AG17,2)) -> None | AL17: =IF(INDEX(INDIRECT(AL$7),$AG17,2)="","",INDEX(INDIRECT(AL$7),$AG17,2)) -> None | AM17: =IF(INDEX(INDIRECT(AM$7),$AG17,2)="","",INDEX(INDIRECT(AM$7),$AG17,2)) -> None | AN17: =IF(INDEX(INDIRECT(AN$7),$AG17,2)="","",INDEX(INDIRECT(AN$7),$AG17,2)) -> None | AO17: =IF(INDEX(INDIRECT(AO$7),$AG17,2)="","",INDEX(INDIRECT(AO$7),$AG17,2)) -> None | AP17: =IF(INDEX(INDIRECT(AP$7),$AG17,2)="","",INDEX(INDIRECT(AP$7),$AG17,2)) -> None | AQ17: =IF(INDEX(INDIRECT(AQ$7),$AG17,2)="","",INDEX(INDIRECT(AQ$7),$AG17,2)) -> None | ... BY17: =IF(INDEX(INDIRECT(BY$7),$AG17,2)="","",INDEX(INDIRECT(BY$7),$AG17,2)) -> UBMP 0.4-0.6
B18: B5 | E18: 1 | F18: 2.4 | G18: 0 | H18: =AC18 -> 0 | I18: =AD18 -> 0 | J18: =IF(E18<Y18,"Insufficient","OK") -> OK | V18: =IF($AH18<2,0,Y18) -> 0 | W18: =INDEX(INDIRECT($AI18),$AT$9+1,W$4) -> None | X18: =INDEX(INDIRECT($AI18),$AT$9+1,X$4) -> None | Y18: =INDEX(INDIRECT($AI18),$AT$9+1,Y$4) -> 0 | Z18: =INDEX(INDIRECT($AI18),$AT$9+1,Z$4) -> 0 | AA18: =INDEX(INDIRECT($AI18),$AT$9+1,AA$4) -> 0 | AB18: =INDEX(INDIRECT($AI18),$AT$9+1,AB$4) -> 0 | AC18: =IF($AH18<2,0,IF($AH18=2,COS($G18*PI()/180)*Z18,IF($E18<$Y18,0,COS($G18*PI()/180)*Z18*E18*2.4/$F18))) -> 0 | AD18: =IF($AH18<2,0,IF($AH18=2,COS($G18*PI()/180)*AA18,IF($E18<$Y18,0,COS($G18*PI()/180)*AA18*$E18*2.4/$F18))) -> 0 | AG18: 9 | AH18: 1 | AI18: =INDEX(AF$11:AF$16,AH18) -> None | AJ18: =IF(INDEX(INDIRECT(AJ$7),$AG18,2)="","",INDEX(INDIRECT(AJ$7),$AG18,2)) -> GBF535S/2100 | AK18: =IF(INDEX(INDIRECT(AK$7),$AG18,2)="","",INDEX(INDIRECT(AK$7),$AG18,2)) | AL18: =IF(INDEX(INDIRECT(AL$7),$AG18,2)="","",INDEX(INDIRECT(AL$7),$AG18,2)) | AM18: =IF(INDEX(INDIRECT(AM$7),$AG18,2)="","",INDEX(INDIRECT(AM$7),$AG18,2)) | AN18: =IF(INDEX(INDIRECT(AN$7),$AG18,2)="","",INDEX(INDIRECT(AN$7),$AG18,2)) | AO18: =IF(INDEX(INDIRECT(AO$7),$AG18,2)="","",INDEX(INDIRECT(AO$7),$AG18,2)) | AP18: =IF(INDEX(INDIRECT(AP$7),$AG18,2)="","",INDEX(INDIRECT(AP$7),$AG18,2)) | AQ18: =IF(INDEX(INDIRECT(AQ$7),$AG18,2)="","",INDEX(INDIRECT(AQ$7),$AG18,2)) | ... BY18: =IF(INDEX(INDIRECT(BY$7),$AG18,2)="","",INDEX(INDIRECT(BY$7),$AG18,2)) -> UBMP 0.6-1.2
B19: B6 | E19: 1 | F19: 2.4 | G19: 0 | H19: =AC19 -> 0 | I19: =AD19 -> 0 | J19: =IF(E19<Y19,"Insufficient","OK") -> OK | V19: =IF($AH19<2,0,Y19) -> 0 | W19: =INDEX(INDIRECT($AI19),$AU$9+1,W$4) -> None | X19: =INDEX(INDIRECT($AI19),$AU$9+1,X$4) -> None | Y19: =INDEX(INDIRECT($AI19),$AU$9+1,Y$4) -> 0 | Z19: =INDEX(INDIRECT($AI19),$AU$9+1,Z$4) -> 0 | AA19: =INDEX(INDIRECT($AI19),$AU$9+1,AA$4) -> 0 | AB19: =INDEX(INDIRECT($AI19),$AU$9+1,AB$4) -> 0 | AC19: =IF($AH19<2,0,IF($AH19=2,COS($G19*PI()/180)*Z19,IF($E19<$Y19,0,COS($G19*PI()/180)*Z19*E19*2.4/$F19))) -> 0 | AD19: =IF($AH19<2,0,IF($AH19=2,COS($G19*PI()/180)*AA19,IF($E19<$Y19,0,COS($G19*PI()/180)*AA19*$E19*2.4/$F19))) -> 0 | AG19: 10 | AH19: 1 | AI19: =INDEX(AF$11:AF$16,AH19) -> None | AJ19: =IF(INDEX(INDIRECT(AJ$7),$AG19,2)="","",INDEX(INDIRECT(AJ$7),$AG19,2)) -> GBF535/2400 | AK19: =IF(INDEX(INDIRECT(AK$7),$AG19,2)="","",INDEX(INDIRECT(AK$7),$AG19,2)) | AL19: =IF(INDEX(INDIRECT(AL$7),$AG19,2)="","",INDEX(INDIRECT(AL$7),$AG19,2)) | AM19: =IF(INDEX(INDIRECT(AM$7),$AG19,2)="","",INDEX(INDIRECT(AM$7),$AG19,2)) | AN19: =IF(INDEX(INDIRECT(AN$7),$AG19,2)="","",INDEX(INDIRECT(AN$7),$AG19,2)) | AO19: =IF(INDEX(INDIRECT(AO$7),$AG19,2)="","",INDEX(INDIRECT(AO$7),$AG19,2)) | AP19: =IF(INDEX(INDIRECT(AP$7),$AG19,2)="","",INDEX(INDIRECT(AP$7),$AG19,2)) | AQ19: =IF(INDEX(INDIRECT(AQ$7),$AG19,2)="","",INDEX(INDIRECT(AQ$7),$AG19,2)) | ... BY19: =IF(INDEX(INDIRECT(BY$7),$AG19,2)="","",INDEX(INDIRECT(BY$7),$AG19,2)) -> UBMP 1.2-2.4
A20: C | B20: C1 | E20: 1 | F20: 2.4 | G20: 0 | H20: =AC20 -> 0 | I20: =AD20 -> 0 | J20: =IF(E20<Y20,"Insufficient","OK") -> OK | K20: =MIN(SUM(H20:H25),SUM(I20:I25)) -> 0 | L20: 0 | M20: =IF(K20=0,"",MAX(100,0.5*MAX(H$3,I$3)/U$15)) | N20: =IF(K20=0,"",MAX(M20,L20*15)) | O20: =IF(K20=0,"",IF(M20<=K20,"OK if internal bracing line", "NG if internal bracing line")) | V20: =IF($AH20<2,0,Y20) -> 0 | W20: =INDEX(INDIRECT($AI20),$AV$9+1,W$4) -> None | X20: =INDEX(INDIRECT($AI20),$AV$9+1,X$4) -> None | Y20: =INDEX(INDIRECT($AI20),$AV$9+1,Y$4) -> 0 | Z20: =INDEX(INDIRECT($AI20),$AV$9+1,Z$4) -> 0 | AA20: =INDEX(INDIRECT($AI20),$AV$9+1,AA$4) -> 0 | AB20: =INDEX(INDIRECT($AI20),$AV$9+1,AB$4) -> 0 | AC20: =IF($AH20<2,0,IF($AH20=2,COS($G20*PI()/180)*Z20,IF($E20<$Y20,0,COS($G20*PI()/180)*Z20*E20*2.4/$F20))) -> 0 | AD20: =IF($AH20<2,0,IF($AH20=2,COS($G20*PI()/180)*AA20,IF($E20<$Y20,0,COS($G20*PI()/180)*AA20*$E20*2.4/$F20))) -> 0 | AG20: 11 | AH20: 1 | AI20: =INDEX(AF$11:AF$16,AH20) -> None | AJ20: =IF(INDEX(INDIRECT(AJ$7),$AG20,2)="","",INDEX(INDIRECT(AJ$7),$AG20,2)) -> GBF535/2700 | AK20: =IF(INDEX(INDIRECT(AK$7),$AG20,2)="","",INDEX(INDIRECT(AK$7),$AG20,2)) | AL20: =IF(INDEX(INDIRECT(AL$7),$AG20,2)="","",INDEX(INDIRECT(AL$7),$AG20,2)) | AM20: =IF(INDEX(INDIRECT(AM$7),$AG20,2)="","",INDEX(INDIRECT(AM$7),$AG20,2)) | AN20: =IF(INDEX(INDIRECT(AN$7),$AG20,2)="","",INDEX(INDIRECT(AN$7),$AG20,2)) | AO20: =IF(INDEX(INDIRECT(AO$7),$AG20,2)="","",INDEX(INDIRECT(AO$7),$AG20,2)) | AP20: =IF(INDEX(INDIRECT(AP$7),$AG20,2)="","",INDEX(INDIRECT(AP$7),$AG20,2)) | AQ20: =IF(INDEX(INDIRECT(AQ$7),$AG20,2)="","",INDEX(INDIRECT(AQ$7),$AG20,2)) | ... BY20: =IF(INDEX(INDIRECT(BY$7),$AG20,2)="","",INDEX(INDIRECT(BY$7),$AG20,2)) -> UB1FR 0.4-1.2
B21: C2 | E21: 1 | F21: 2.4 | G21: 0 | H21: =AC21 -> 0 | I21: =AD21 -> 0 | J21: =IF(E21<Y21,"Insufficient","OK") -> OK | V21: =IF($AH21<2,0,Y21) -> 0 | W21: =INDEX(INDIRECT($AI21),$AW$9+1,W$4) -> None | X21: =INDEX(INDIRECT($AI21),$AW$9+1,X$4) -> None | Y21: =INDEX(INDIRECT($AI21),$AW$9+1,Y$4) -> 0 | Z21: =INDEX(INDIRECT($AI21),$AW$9+1,Z$4) -> 0 | AA21: =INDEX(INDIRECT($AI21),$AW$9+1,AA$4) -> 0 | AB21: =INDEX(INDIRECT($AI21),$AW$9+1,AB$4) -> 0 | AC21: =IF($AH21<2,0,IF($AH21=2,COS($G21*PI()/180)*Z21,IF($E21<$Y21,0,COS($G21*PI()/180)*Z21*E21*2.4/$F21))) -> 0 | AD21: =IF($AH21<2,0,IF($AH21=2,COS($G21*PI()/180)*AA21,IF($E21<$Y21,0,COS($G21*PI()/180)*AA21*$E21*2.4/$F21))) -> 0 | AG21: 12 | AH21: 1 | AI21: =INDEX(AF$11:AF$16,AH21) -> None | AJ21: =IF(INDEX(INDIRECT(AJ$7),$AG21,2)="","",INDEX(INDIRECT(AJ$7),$AG21,2)) -> GBF535/3000 | AK21: =IF(INDEX(INDIRECT(AK$7),$AG21,2)="","",INDEX(INDIRECT(AK$7),$AG21,2)) | AL21: =IF(INDEX(INDIRECT(AL$7),$AG21,2)="","",INDEX(INDIRECT(AL$7),$AG21,2)) | AM21: =IF(INDEX(INDIRECT(AM$7),$AG21,2)="","",INDEX(INDIRECT(AM$7),$AG21,2)) | AN21: =IF(INDEX(INDIRECT(AN$7),$AG21,2)="","",INDEX(INDIRECT(AN$7),$AG21,2)) | AO21: =IF(INDEX(INDIRECT(AO$7),$AG21,2)="","",INDEX(INDIRECT(AO$7),$AG21,2)) | AP21: =IF(INDEX(INDIRECT(AP$7),$AG21,2)="","",INDEX(INDIRECT(AP$7),$AG21,2)) | AQ21: =IF(INDEX(INDIRECT(AQ$7),$AG21,2)="","",INDEX(INDIRECT(AQ$7),$AG21,2)) | ... BY21: =IF(INDEX(INDIRECT(BY$7),$AG21,2)="","",INDEX(INDIRECT(BY$7),$AG21,2)) -> UB1FR 1.2-4.8
B22: C3 | E22: 1 | F22: 2.4 | G22: 0 | H22: =AC22 -> 0 | I22: =AD22 -> 0 | J22: =IF(E22<Y22,"Insufficient","OK") -> OK | V22: =IF($AH22<2,0,Y22) -> 0 | W22: =INDEX(INDIRECT($AI22),$AX$9+1,W$4) -> None | X22: =INDEX(INDIRECT($AI22),$AX$9+1,X$4) -> None | Y22: =INDEX(INDIRECT($AI22),$AX$9+1,Y$4) -> 0 | Z22: =INDEX(INDIRECT($AI22),$AX$9+1,Z$4) -> 0 | AA22: =INDEX(INDIRECT($AI22),$AX$9+1,AA$4) -> 0 | AB22: =INDEX(INDIRECT($AI22),$AX$9+1,AB$4) -> 0 | AC22: =IF($AH22<2,0,IF($AH22=2,COS($G22*PI()/180)*Z22,IF($E22<$Y22,0,COS($G22*PI()/180)*Z22*E22*2.4/$F22))) -> 0 | AD22: =IF($AH22<2,0,IF($AH22=2,COS($G22*PI()/180)*AA22,IF($E22<$Y22,0,COS($G22*PI()/180)*AA22*$E22*2.4/$F22))) -> 0 | AG22: 13 | AH22: 1 | AI22: =INDEX(AF$11:AF$16,AH22) -> None | AJ22: =IF(INDEX(INDIRECT(AJ$7),$AG22,2)="","",INDEX(INDIRECT(AJ$7),$AG22,2)) -> GBF600S/2100 | AK22: =IF(INDEX(INDIRECT(AK$7),$AG22,2)="","",INDEX(INDIRECT(AK$7),$AG22,2)) | AL22: =IF(INDEX(INDIRECT(AL$7),$AG22,2)="","",INDEX(INDIRECT(AL$7),$AG22,2)) | AM22: =IF(INDEX(INDIRECT(AM$7),$AG22,2)="","",INDEX(INDIRECT(AM$7),$AG22,2)) | AN22: =IF(INDEX(INDIRECT(AN$7),$AG22,2)="","",INDEX(INDIRECT(AN$7),$AG22,2)) | AO22: =IF(INDEX(INDIRECT(AO$7),$AG22,2)="","",INDEX(INDIRECT(AO$7),$AG22,2)) | AP22: =IF(INDEX(INDIRECT(AP$7),$AG22,2)="","",INDEX(INDIRECT(AP$7),$AG22,2)) | AQ22: =IF(INDEX(INDIRECT(AQ$7),$AG22,2)="","",INDEX(INDIRECT(AQ$7),$AG22,2)) | ... BY22: =IF(INDEX(INDIRECT(BY$7),$AG22,2)="","",INDEX(INDIRECT(BY$7),$AG22,2)) -> UB2FR 0.4-1.2
B23: C4 | E23: 1 | F23: 2.4 | G23: 0 | H23: =AC23 -> 0 | I23: =AD23 -> 0 | J23: =IF(E23<Y23,"Insufficient","OK") -> OK | O23: =IF(K20=0,"",IF(N20<=K20,"OK if external bracing line", "NG if external bracing line")) | V23: =IF($AH23<2,0,Y23) -> 0 | W23: =INDEX(INDIRECT($AI23),$AY$9+1,W$4) -> None | X23: =INDEX(INDIRECT($AI23),$AY$9+1,X$4) -> None | Y23: =INDEX(INDIRECT($AI23),$AY$9+1,Y$4) -> 0 | Z23: =INDEX(INDIRECT($AI23),$AY$9+1,Z$4) -> 0 | AA23: =INDEX(INDIRECT($AI23),$AY$9+1,AA$4) -> 0 | AB23: =INDEX(INDIRECT($AI23),$AY$9+1,AB$4) -> 0 | AC23: =IF($AH23<2,0,IF($AH23=2,COS($G23*PI()/180)*Z23,IF($E23<$Y23,0,COS($G23*PI()/180)*Z23*E23*2.4/$F23))) -> 0 | AD23: =IF($AH23<2,0,IF($AH23=2,COS($G23*PI()/180)*AA23,IF($E23<$Y23,0,COS($G23*PI()/180)*AA23*$E23*2.4/$F23))) -> 0 | AG23: 14 | AH23: 1 | AI23: =INDEX(AF$11:AF$16,AH23) -> None | AJ23: =IF(INDEX(INDIRECT(AJ$7),$AG23,2)="","",INDEX(INDIRECT(AJ$7),$AG23,2)) -> GBF600/2400 | AK23: =IF(INDEX(INDIRECT(AK$7),$AG23,2)="","",INDEX(INDIRECT(AK$7),$AG23,2)) | AL23: =IF(INDEX(INDIRECT(AL$7),$AG23,2)="","",INDEX(INDIRECT(AL$7),$AG23,2)) | AM23: =IF(INDEX(INDIRECT(AM$7),$AG23,2)="","",INDEX(INDIRECT(AM$7),$AG23,2)) | AN23: =IF(INDEX(INDIRECT(AN$7),$AG23,2)="","",INDEX(INDIRECT(AN$7),$AG23,2)) | AO23: =IF(INDEX(INDIRECT(AO$7),$AG23,2)="","",INDEX(INDIRECT(AO$7),$AG23,2)) | AP23: =IF(INDEX(INDIRECT(AP$7),$AG23,2)="","",INDEX(INDIRECT(AP$7),$AG23,2)) | AQ23: =IF(INDEX(INDIRECT(AQ$7),$AG23,2)="","",INDEX(INDIRECT(AQ$7),$AG23,2)) | ... BY23: =IF(INDEX(INDIRECT(BY$7),$AG23,2)="","",INDEX(INDIRECT(BY$7),$AG23,2)) -> UB2FR 1.2-2.4
B24: C5 | E24: 1 | F24: 2.4 | G24: 0 | H24: =AC24 -> 0 | I24: =AD24 -> 0 | J24: =IF(E24<Y24,"Insufficient","OK") -> OK | V24: =IF($AH24<2,0,Y24) -> 0 | W24: =INDEX(INDIRECT($AI24),$AZ$9+1,W$4) -> None | X24: =INDEX(INDIRECT($AI24),$AZ$9+1,X$4) -> None | Y24: =INDEX(INDIRECT($AI24),$AZ$9+1,Y$4) -> 0 | Z24: =INDEX(INDIRECT($AI24),$AZ$9+1,Z$4) -> 0 | AA24: =INDEX(INDIRECT($AI24),$AZ$9+1,AA$4) -> 0 | AB24: =INDEX(INDIRECT($AI24),$AZ$9+1,AB$4) -> 0 | AC24: =IF($AH24<2,0,IF($AH24=2,COS($G24*PI()/180)*Z24,IF($E24<$Y24,0,COS($G24*PI()/180)*Z24*E24*2.4/$F24))) -> 0 | AD24: =IF($AH24<2,0,IF($AH24=2,COS($G24*PI()/180)*AA24,IF($E24<$Y24,0,COS($G24*PI()/180)*AA24*$E24*2.4/$F24))) -> 0 | AG24: 15 | AH24: 1 | AI24: =INDEX(AF$11:AF$16,AH24) -> None | AJ24: =IF(INDEX(INDIRECT(AJ$7),$AG24,2)="","",INDEX(INDIRECT(AJ$7),$AG24,2)) -> GBF600/2700 | AK24: =IF(INDEX(INDIRECT(AK$7),$AG24,2)="","",INDEX(INDIRECT(AK$7),$AG24,2)) | AL24: =IF(INDEX(INDIRECT(AL$7),$AG24,2)="","",INDEX(INDIRECT(AL$7),$AG24,2)) | AM24: =IF(INDEX(INDIRECT(AM$7),$AG24,2)="","",INDEX(INDIRECT(AM$7),$AG24,2)) | AN24: =IF(INDEX(INDIRECT(AN$7),$AG24,2)="","",INDEX(INDIRECT(AN$7),$AG24,2)) | AO24: =IF(INDEX(INDIRECT(AO$7),$AG24,2)="","",INDEX(INDIRECT(AO$7),$AG24,2)) | AP24: =IF(INDEX(INDIRECT(AP$7),$AG24,2)="","",INDEX(INDIRECT(AP$7),$AG24,2)) | AQ24: =IF(INDEX(INDIRECT(AQ$7),$AG24,2)="","",INDEX(INDIRECT(AQ$7),$AG24,2)) | ... BY24: =IF(INDEX(INDIRECT(BY$7),$AG24,2)="","",INDEX(INDIRECT(BY$7),$AG24,2)) -> UBFRP 0.4-1.2
B25: C6 | E25: 1 | F25: 2.4 | G25: 0 | H25: =AC25 -> 0 | I25: =AD25 -> 0 | J25: =IF(E25<Y25,"Insufficient","OK") -> OK | V25: =IF($AH25<2,0,Y25) -> 0 | W25: =INDEX(INDIRECT($AI25),$BA$9+1,W$4) -> None | X25: =INDEX(INDIRECT($AI25),$BA$9+1,X$4) -> None | Y25: =INDEX(INDIRECT($AI25),$BA$9+1,Y$4) -> 0 | Z25: =INDEX(INDIRECT($AI25),$BA$9+1,Z$4) -> 0 | AA25: =INDEX(INDIRECT($AI25),$BA$9+1,AA$4) -> 0 | AB25: =INDEX(INDIRECT($AI25),$BA$9+1,AB$4) -> 0 | AC25: =IF($AH25<2,0,IF($AH25=2,COS($G25*PI()/180)*Z25,IF($E25<$Y25,0,COS($G25*PI()/180)*Z25*E25*2.4/$F25))) -> 0 | AD25: =IF($AH25<2,0,IF($AH25=2,COS($G25*PI()/180)*AA25,IF($E25<$Y25,0,COS($G25*PI()/180)*AA25*$E25*2.4/$F25))) -> 0 | AG25: 16 | AH25: 1 | AI25: =INDEX(AF$11:AF$16,AH25) -> None | AJ25: =IF(INDEX(INDIRECT(AJ$7),$AG25,2)="","",INDEX(INDIRECT(AJ$7),$AG25,2)) -> GBF600/3000 | AK25: =IF(INDEX(INDIRECT(AK$7),$AG25,2)="","",INDEX(INDIRECT(AK$7),$AG25,2)) | AL25: =IF(INDEX(INDIRECT(AL$7),$AG25,2)="","",INDEX(INDIRECT(AL$7),$AG25,2)) | AM25: =IF(INDEX(INDIRECT(AM$7),$AG25,2)="","",INDEX(INDIRECT(AM$7),$AG25,2)) | AN25: =IF(INDEX(INDIRECT(AN$7),$AG25,2)="","",INDEX(INDIRECT(AN$7),$AG25,2)) | AO25: =IF(INDEX(INDIRECT(AO$7),$AG25,2)="","",INDEX(INDIRECT(AO$7),$AG25,2)) | AP25: =IF(INDEX(INDIRECT(AP$7),$AG25,2)="","",INDEX(INDIRECT(AP$7),$AG25,2)) | AQ25: =IF(INDEX(INDIRECT(AQ$7),$AG25,2)="","",INDEX(INDIRECT(AQ$7),$AG25,2)) | ... BY25: =IF(INDEX(INDIRECT(BY$7),$AG25,2)="","",INDEX(INDIRECT(BY$7),$AG25,2)) -> UBFRP 1.2-2.4
A26: D | B26: D1 | E26: 1 | F26: 2.4 | G26: 0 | H26: =AC26 -> 0 | I26: =AD26 -> 0 | J26: =IF(E26<Y26,"Insufficient","OK") -> OK | K26: =MIN(SUM(H26:H31),SUM(I26:I31)) -> 0 | L26: 0 | M26: =IF(K26=0,"",MAX(100,0.5*MAX(H$3,I$3)/U$15)) | N26: =IF(K26=0,"",MAX(M26,L26*15)) | O26: =IF(K26=0,"",IF(M26<=K26,"OK if internal bracing line", "NG if internal bracing line")) | V26: =IF($AH26<2,0,Y26) -> 0 | W26: =INDEX(INDIRECT($AI26),$BB$9+1,W$4) -> None | X26: =INDEX(INDIRECT($AI26),$BB$9+1,X$4) -> None | Y26: =INDEX(INDIRECT($AI26),$BB$9+1,Y$4) -> 0 | Z26: =INDEX(INDIRECT($AI26),$BB$9+1,Z$4) -> 0 | AA26: =INDEX(INDIRECT($AI26),$BB$9+1,AA$4) -> 0 | AB26: =INDEX(INDIRECT($AI26),$BB$9+1,AB$4) -> 0 | AC26: =IF($AH26<2,0,IF($AH26=2,COS($G26*PI()/180)*Z26,IF($E26<$Y26,0,COS($G26*PI()/180)*Z26*E26*2.4/$F26))) -> 0 | AD26: =IF($AH26<2,0,IF($AH26=2,COS($G26*PI()/180)*AA26,IF($E26<$Y26,0,COS($G26*PI()/180)*AA26*$E26*2.4/$F26))) -> 0 | AG26: 17 | AH26: 1 | AI26: =INDEX(AF$11:AF$16,AH26) -> None | AJ26: =IF(INDEX(INDIRECT(AJ$7),$AG26,2)="","",INDEX(INDIRECT(AJ$7),$AG26,2)) -> GBPF/2400 | AK26: =IF(INDEX(INDIRECT(AK$7),$AG26,2)="","",INDEX(INDIRECT(AK$7),$AG26,2)) | AL26: =IF(INDEX(INDIRECT(AL$7),$AG26,2)="","",INDEX(INDIRECT(AL$7),$AG26,2)) | AM26: =IF(INDEX(INDIRECT(AM$7),$AG26,2)="","",INDEX(INDIRECT(AM$7),$AG26,2)) | AN26: =IF(INDEX(INDIRECT(AN$7),$AG26,2)="","",INDEX(INDIRECT(AN$7),$AG26,2)) | AO26: =IF(INDEX(INDIRECT(AO$7),$AG26,2)="","",INDEX(INDIRECT(AO$7),$AG26,2)) | AP26: =IF(INDEX(INDIRECT(AP$7),$AG26,2)="","",INDEX(INDIRECT(AP$7),$AG26,2)) | AQ26: =IF(INDEX(INDIRECT(AQ$7),$AG26,2)="","",INDEX(INDIRECT(AQ$7),$AG26,2)) | ... BY26: =IF(INDEX(INDIRECT(BY$7),$AG26,2)="","",INDEX(INDIRECT(BY$7),$AG26,2))
B27: D2 | E27: 1 | F27: 2.4 | G27: 0 | H27: =AC27 -> 0 | I27: =AD27 -> 0 | J27: =IF(E27<Y27,"Insufficient","OK") -> OK | V27: =IF($AH27<2,0,Y27) -> 0 | W27: =INDEX(INDIRECT($AI27),$BC$9+1,W$4) -> None | X27: =INDEX(INDIRECT($AI27),$BC$9+1,X$4) -> None | Y27: =INDEX(INDIRECT($AI27),$BC$9+1,Y$4) -> 0 | Z27: =INDEX(INDIRECT($AI27),$BC$9+1,Z$4) -> 0 | AA27: =INDEX(INDIRECT($AI27),$BC$9+1,AA$4) -> 0 | AB27: =INDEX(INDIRECT($AI27),$BC$9+1,AB$4) -> 0 | AC27: =IF($AH27<2,0,IF($AH27=2,COS($G27*PI()/180)*Z27,IF($E27<$Y27,0,COS($G27*PI()/180)*Z27*E27*2.4/$F27))) -> 0 | AD27: =IF($AH27<2,0,IF($AH27=2,COS($G27*PI()/180)*AA27,IF($E27<$Y27,0,COS($G27*PI()/180)*AA27*$E27*2.4/$F27))) -> 0 | AG27: 18 | AH27: 1 | AI27: =INDEX(AF$11:AF$16,AH27) -> None | AJ27: =IF(INDEX(INDIRECT(AJ$7),$AG27,2)="","",INDEX(INDIRECT(AJ$7),$AG27,2)) -> GBPF/2700 | AK27: =IF(INDEX(INDIRECT(AK$7),$AG27,2)="","",INDEX(INDIRECT(AK$7),$AG27,2)) | AL27: =IF(INDEX(INDIRECT(AL$7),$AG27,2)="","",INDEX(INDIRECT(AL$7),$AG27,2)) | AM27: =IF(INDEX(INDIRECT(AM$7),$AG27,2)="","",INDEX(INDIRECT(AM$7),$AG27,2)) | AN27: =IF(INDEX(INDIRECT(AN$7),$AG27,2)="","",INDEX(INDIRECT(AN$7),$AG27,2)) | AO27: =IF(INDEX(INDIRECT(AO$7),$AG27,2)="","",INDEX(INDIRECT(AO$7),$AG27,2)) | AP27: =IF(INDEX(INDIRECT(AP$7),$AG27,2)="","",INDEX(INDIRECT(AP$7),$AG27,2)) | AQ27: =IF(INDEX(INDIRECT(AQ$7),$AG27,2)="","",INDEX(INDIRECT(AQ$7),$AG27,2)) | ... BY27: =IF(INDEX(INDIRECT(BY$7),$AG27,2)="","",INDEX(INDIRECT(BY$7),$AG27,2))
B28: D3 | E28: 1 | F28: 2.4 | G28: 0 | H28: =AC28 -> 0 | I28: =AD28 -> 0 | J28: =IF(E28<Y28,"Insufficient","OK") -> OK | V28: =IF($AH28<2,0,Y28) -> 0 | W28: =INDEX(INDIRECT($AI28),$BD$9+1,W$4) -> None | X28: =INDEX(INDIRECT($AI28),$BD$9+1,X$4) -> None | Y28: =INDEX(INDIRECT($AI28),$BD$9+1,Y$4) -> 0 | Z28: =INDEX(INDIRECT($AI28),$BD$9+1,Z$4) -> 0 | AA28: =INDEX(INDIRECT($AI28),$BD$9+1,AA$4) -> 0 | AB28: =INDEX(INDIRECT($AI28),$BD$9+1,AB$4) -> 0 | AC28: =IF($AH28<2,0,IF($AH28=2,COS($G28*PI()/180)*Z28,IF($E28<$Y28,0,COS($G28*PI()/180)*Z28*E28*2.4/$F28))) -> 0 | AD28: =IF($AH28<2,0,IF($AH28=2,COS($G28*PI()/180)*AA28,IF($E28<$Y28,0,COS($G28*PI()/180)*AA28*$E28*2.4/$F28))) -> 0 | AG28: 19 | AH28: 1 | AI28: =INDEX(AF$11:AF$16,AH28) -> None | AJ28: =IF(INDEX(INDIRECT(AJ$7),$AG28,2)="","",INDEX(INDIRECT(AJ$7),$AG28,2)) | AK28: =IF(INDEX(INDIRECT(AK$7),$AG28,2)="","",INDEX(INDIRECT(AK$7),$AG28,2)) | AL28: =IF(INDEX(INDIRECT(AL$7),$AG28,2)="","",INDEX(INDIRECT(AL$7),$AG28,2)) | AM28: =IF(INDEX(INDIRECT(AM$7),$AG28,2)="","",INDEX(INDIRECT(AM$7),$AG28,2)) | AN28: =IF(INDEX(INDIRECT(AN$7),$AG28,2)="","",INDEX(INDIRECT(AN$7),$AG28,2)) | AO28: =IF(INDEX(INDIRECT(AO$7),$AG28,2)="","",INDEX(INDIRECT(AO$7),$AG28,2)) | AP28: =IF(INDEX(INDIRECT(AP$7),$AG28,2)="","",INDEX(INDIRECT(AP$7),$AG28,2)) | AQ28: =IF(INDEX(INDIRECT(AQ$7),$AG28,2)="","",INDEX(INDIRECT(AQ$7),$AG28,2)) | ... BY28: =IF(INDEX(INDIRECT(BY$7),$AG28,2)="","",INDEX(INDIRECT(BY$7),$AG28,2))
B29: D4 | E29: 1 | F29: 2.4 | G29: 0 | H29: =AC29 -> 0 | I29: =AD29 -> 0 | J29: =IF(E29<Y29,"Insufficient","OK") -> OK | O29: =IF(K26=0,"",IF(N26<=K26,"OK if external bracing line", "NG if external bracing line")) | V29: =IF($AH29<2,0,Y29) -> 0 | W29: =INDEX(INDIRECT($AI29),$BE$9+1,W$4) -> None | X29: =INDEX(INDIRECT($AI29),$BE$9+1,X$4) -> None | Y29: =INDEX(INDIRECT($AI29),$BE$9+1,Y$4) -> 0 | Z29: =INDEX(INDIRECT($AI29),$BE$9+1,Z$4) -> 0 | AA29: =INDEX(INDIRECT($AI29),$BE$9+1,AA$4) -> 0 | AB29: =INDEX(INDIRECT($AI29),$BE$9+1,AB$4) -> 0 | AC29: =IF($AH29<2,0,IF($AH29=2,COS($G29*PI()/180)*Z29,IF($E29<$Y29,0,COS($G29*PI()/180)*Z29*E29*2.4/$F29))) -> 0 | AD29: =IF($AH29<2,0,IF($AH29=2,COS($G29*PI()/180)*AA29,IF($E29<$Y29,0,COS($G29*PI()/180)*AA29*$E29*2.4/$F29))) -> 0 | AG29: 20 | AH29: 1 | AI29: =INDEX(AF$11:AF$16,AH29) -> None | AJ29: =IF(INDEX(INDIRECT(AJ$7),$AG29,2)="","",INDEX(INDIRECT(AJ$7),$AG29,2)) | AK29: =IF(INDEX(INDIRECT(AK$7),$AG29,2)="","",INDEX(INDIRECT(AK$7),$AG29,2)) | AL29: =IF(INDEX(INDIRECT(AL$7),$AG29,2)="","",INDEX(INDIRECT(AL$7),$AG29,2)) | AM29: =IF(INDEX(INDIRECT(AM$7),$AG29,2)="","",INDEX(INDIRECT(AM$7),$AG29,2)) | AN29: =IF(INDEX(INDIRECT(AN$7),$AG29,2)="","",INDEX(INDIRECT(AN$7),$AG29,2)) | AO29: =IF(INDEX(INDIRECT(AO$7),$AG29,2)="","",INDEX(INDIRECT(AO$7),$AG29,2)) | AP29: =IF(INDEX(INDIRECT(AP$7),$AG29,2)="","",INDEX(INDIRECT(AP$7),$AG29,2)) | AQ29: =IF(INDEX(INDIRECT(AQ$7),$AG29,2)="","",INDEX(INDIRECT(AQ$7),$AG29,2)) | ... BY29: =IF(INDEX(INDIRECT(BY$7),$AG29,2)="","",INDEX(INDIRECT(BY$7),$AG29,2))
B30: D5 | E30: 1 | F30: 2.4 | G30: 0 | H30: =AC30 -> 0 | I30: =AD30 -> 0 | J30: =IF(E30<Y30,"Insufficient","OK") -> OK | V30: =IF($AH30<2,0,Y30) -> 0 | W30: =INDEX(INDIRECT($AI30),$BF$9+1,W$4) -> None | X30: =INDEX(INDIRECT($AI30),$BF$9+1,X$4) -> None | Y30: =INDEX(INDIRECT($AI30),$BF$9+1,Y$4) -> 0 | Z30: =INDEX(INDIRECT($AI30),$BF$9+1,Z$4) -> 0 | AA30: =INDEX(INDIRECT($AI30),$BF$9+1,AA$4) -> 0 | AB30: =INDEX(INDIRECT($AI30),$BF$9+1,AB$4) -> 0 | AC30: =IF($AH30<2,0,IF($AH30=2,COS($G30*PI()/180)*Z30,IF($E30<$Y30,0,COS($G30*PI()/180)*Z30*E30*2.4/$F30))) -> 0 | AD30: =IF($AH30<2,0,IF($AH30=2,COS($G30*PI()/180)*AA30,IF($E30<$Y30,0,COS($G30*PI()/180)*AA30*$E30*2.4/$F30))) -> 0 | AG30: 21 | AH30: 1 | AI30: =INDEX(AF$11:AF$16,AH30) -> None | AJ30: =IF(INDEX(INDIRECT(AJ$7),$AG30,2)="","",INDEX(INDIRECT(AJ$7),$AG30,2)) | AK30: =IF(INDEX(INDIRECT(AK$7),$AG30,2)="","",INDEX(INDIRECT(AK$7),$AG30,2)) | AL30: =IF(INDEX(INDIRECT(AL$7),$AG30,2)="","",INDEX(INDIRECT(AL$7),$AG30,2)) | AM30: =IF(INDEX(INDIRECT(AM$7),$AG30,2)="","",INDEX(INDIRECT(AM$7),$AG30,2)) | AN30: =IF(INDEX(INDIRECT(AN$7),$AG30,2)="","",INDEX(INDIRECT(AN$7),$AG30,2)) | AO30: =IF(INDEX(INDIRECT(AO$7),$AG30,2)="","",INDEX(INDIRECT(AO$7),$AG30,2)) | AP30: =IF(INDEX(INDIRECT(AP$7),$AG30,2)="","",INDEX(INDIRECT(AP$7),$AG30,2)) | AQ30: =IF(INDEX(INDIRECT(AQ$7),$AG30,2)="","",INDEX(INDIRECT(AQ$7),$AG30,2)) | ... BY30: =IF(INDEX(INDIRECT(BY$7),$AG30,2)="","",INDEX(INDIRECT(BY$7),$AG30,2))
B31: D6 | E31: 1 | F31: 2.4 | G31: 0 | H31: =AC31 -> 0 | I31: =AD31 -> 0 | J31: =IF(E31<Y31,"Insufficient","OK") -> OK | V31: =IF($AH31<2,0,Y31) -> 0 | W31: =INDEX(INDIRECT($AI31),$BG$9+1,W$4) -> None | X31: =INDEX(INDIRECT($AI31),$BG$9+1,X$4) -> None | Y31: =INDEX(INDIRECT($AI31),$BG$9+1,Y$4) -> 0 | Z31: =INDEX(INDIRECT($AI31),$BG$9+1,Z$4) -> 0 | AA31: =INDEX(INDIRECT($AI31),$BG$9+1,AA$4) -> 0 | AB31: =INDEX(INDIRECT($AI31),$BG$9+1,AB$4) -> 0 | AC31: =IF($AH31<2,0,IF($AH31=2,COS($G31*PI()/180)*Z31,IF($E31<$Y31,0,COS($G31*PI()/180)*Z31*E31*2.4/$F31))) -> 0 | AD31: =IF($AH31<2,0,IF($AH31=2,COS($G31*PI()/180)*AA31,IF($E31<$Y31,0,COS($G31*PI()/180)*AA31*$E31*2.4/$F31))) -> 0 | AG31: 22 | AH31: 3 | AI31: =INDEX(AF$11:AF$16,AH31) -> UserDefined | AJ31: =IF(INDEX(INDIRECT(AJ$7),$AG31,2)="","",INDEX(INDIRECT(AJ$7),$AG31,2)) | AK31: =IF(INDEX(INDIRECT(AK$7),$AG31,2)="","",INDEX(INDIRECT(AK$7),$AG31,2)) | AL31: =IF(INDEX(INDIRECT(AL$7),$AG31,2)="","",INDEX(INDIRECT(AL$7),$AG31,2)) | AM31: =IF(INDEX(INDIRECT(AM$7),$AG31,2)="","",INDEX(INDIRECT(AM$7),$AG31,2)) | AN31: =IF(INDEX(INDIRECT(AN$7),$AG31,2)="","",INDEX(INDIRECT(AN$7),$AG31,2)) | AO31: =IF(INDEX(INDIRECT(AO$7),$AG31,2)="","",INDEX(INDIRECT(AO$7),$AG31,2)) | AP31: =IF(INDEX(INDIRECT(AP$7),$AG31,2)="","",INDEX(INDIRECT(AP$7),$AG31,2)) | AQ31: =IF(INDEX(INDIRECT(AQ$7),$AG31,2)="","",INDEX(INDIRECT(AQ$7),$AG31,2)) | ... BY31: =IF(INDEX(INDIRECT(BY$7),$AG31,2)="","",INDEX(INDIRECT(BY$7),$AG31,2))
A32: E | B32: E1 | E32: 1 | F32: 2.4 | G32: 0 | H32: =AC32 -> 0 | I32: =AD32 -> 0 | J32: =IF(E32<Y32,"Insufficient","OK") -> OK | K32: =MIN(SUM(H32:H37),SUM(I32:I37)) -> 0 | L32: 0 | M32: =IF(K32=0,"",MAX(100,0.5*MAX(H$3,I$3)/U$15)) | N32: =IF(K32=0,"",MAX(M32,L32*15)) | O32: =IF(K32=0,"",IF(M32<=K32,"OK if internal bracing line", "NG if internal bracing line")) | V32: =IF($AH32<2,0,Y32) -> 0 | W32: =INDEX(INDIRECT($AI32),$BH$9+1,W$4) -> None | X32: =INDEX(INDIRECT($AI32),$BH$9+1,X$4) -> None | Y32: =INDEX(INDIRECT($AI32),$BH$9+1,Y$4) -> 0 | Z32: =INDEX(INDIRECT($AI32),$BH$9+1,Z$4) -> 0 | AA32: =INDEX(INDIRECT($AI32),$BH$9+1,AA$4) -> 0 | AB32: =INDEX(INDIRECT($AI32),$BH$9+1,AB$4) -> 0 | AC32: =IF($AH32<2,0,IF($AH32=2,COS($G32*PI()/180)*Z32,IF($E32<$Y32,0,COS($G32*PI()/180)*Z32*E32*2.4/$F32))) -> 0 | AD32: =IF($AH32<2,0,IF($AH32=2,COS($G32*PI()/180)*AA32,IF($E32<$Y32,0,COS($G32*PI()/180)*AA32*$E32*2.4/$F32))) -> 0 | AG32: 23 | AH32: 1 | AI32: =INDEX(AF$11:AF$16,AH32) -> None | AJ32: =IF(INDEX(INDIRECT(AJ$7),$AG32,2)="","",INDEX(INDIRECT(AJ$7),$AG32,2)) | AK32: =IF(INDEX(INDIRECT(AK$7),$AG32,2)="","",INDEX(INDIRECT(AK$7),$AG32,2)) | AL32: =IF(INDEX(INDIRECT(AL$7),$AG32,2)="","",INDEX(INDIRECT(AL$7),$AG32,2)) | AM32: =IF(INDEX(INDIRECT(AM$7),$AG32,2)="","",INDEX(INDIRECT(AM$7),$AG32,2)) | AN32: =IF(INDEX(INDIRECT(AN$7),$AG32,2)="","",INDEX(INDIRECT(AN$7),$AG32,2)) | AO32: =IF(INDEX(INDIRECT(AO$7),$AG32,2)="","",INDEX(INDIRECT(AO$7),$AG32,2)) | AP32: =IF(INDEX(INDIRECT(AP$7),$AG32,2)="","",INDEX(INDIRECT(AP$7),$AG32,2)) | AQ32: =IF(INDEX(INDIRECT(AQ$7),$AG32,2)="","",INDEX(INDIRECT(AQ$7),$AG32,2)) | ... BY32: =IF(INDEX(INDIRECT(BY$7),$AG32,2)="","",INDEX(INDIRECT(BY$7),$AG32,2))
B33: E2 | E33: 1 | F33: 2.4 | G33: 0 | H33: =AC33 -> 0 | I33: =AD33 -> 0 | J33: =IF(E33<Y33,"Insufficient","OK") -> OK | V33: =IF($AH33<2,0,Y33) -> 0 | W33: =INDEX(INDIRECT($AI33),$BI$9+1,W$4) -> Gamma | X33: =INDEX(INDIRECT($AI33),$BI$9+1,X$4) -> None | Y33: =INDEX(INDIRECT($AI33),$BI$9+1,Y$4) -> 0 | Z33: =INDEX(INDIRECT($AI33),$BI$9+1,Z$4) -> 0 | AA33: =INDEX(INDIRECT($AI33),$BI$9+1,AA$4) -> 0 | AB33: =INDEX(INDIRECT($AI33),$BI$9+1,AB$4) -> 0 | AC33: =IF($AH33<2,0,IF($AH33=2,COS($G33*PI()/180)*Z33,IF($E33<$Y33,0,COS($G33*PI()/180)*Z33*E33*2.4/$F33))) -> 0 | AD33: =IF($AH33<2,0,IF($AH33=2,COS($G33*PI()/180)*AA33,IF($E33<$Y33,0,COS($G33*PI()/180)*AA33*$E33*2.4/$F33))) -> 0 | AG33: 24 | AH33: 2 | AI33: =INDEX(AF$11:AF$16,AH33) -> Gamma | AJ33: =IF(INDEX(INDIRECT(AJ$7),$AG33,2)="","",INDEX(INDIRECT(AJ$7),$AG33,2)) | AK33: =IF(INDEX(INDIRECT(AK$7),$AG33,2)="","",INDEX(INDIRECT(AK$7),$AG33,2)) | AL33: =IF(INDEX(INDIRECT(AL$7),$AG33,2)="","",INDEX(INDIRECT(AL$7),$AG33,2)) | AM33: =IF(INDEX(INDIRECT(AM$7),$AG33,2)="","",INDEX(INDIRECT(AM$7),$AG33,2)) | AN33: =IF(INDEX(INDIRECT(AN$7),$AG33,2)="","",INDEX(INDIRECT(AN$7),$AG33,2)) | AO33: =IF(INDEX(INDIRECT(AO$7),$AG33,2)="","",INDEX(INDIRECT(AO$7),$AG33,2)) | AP33: =IF(INDEX(INDIRECT(AP$7),$AG33,2)="","",INDEX(INDIRECT(AP$7),$AG33,2)) | AQ33: =IF(INDEX(INDIRECT(AQ$7),$AG33,2)="","",INDEX(INDIRECT(AQ$7),$AG33,2)) | ... BY33: =IF(INDEX(INDIRECT(BY$7),$AG33,2)="","",INDEX(INDIRECT(BY$7),$AG33,2))
B34: E3 | E34: 1 | F34: 2.4 | G34: 0 | H34: =AC34 -> 0 | I34: =AD34 -> 0 | J34: =IF(E34<Y34,"Insufficient","OK") -> OK | V34: =IF($AH34<2,0,Y34) -> 0 | W34: =INDEX(INDIRECT($AI34),$BJ$9+1,W$4) -> Gamma | X34: =INDEX(INDIRECT($AI34),$BJ$9+1,X$4) -> None | Y34: =INDEX(INDIRECT($AI34),$BJ$9+1,Y$4) -> 0 | Z34: =INDEX(INDIRECT($AI34),$BJ$9+1,Z$4) -> 0 | AA34: =INDEX(INDIRECT($AI34),$BJ$9+1,AA$4) -> 0 | AB34: =INDEX(INDIRECT($AI34),$BJ$9+1,AB$4) -> 0 | AC34: =IF($AH34<2,0,IF($AH34=2,COS($G34*PI()/180)*Z34,IF($E34<$Y34,0,COS($G34*PI()/180)*Z34*E34*2.4/$F34))) -> 0 | AD34: =IF($AH34<2,0,IF($AH34=2,COS($G34*PI()/180)*AA34,IF($E34<$Y34,0,COS($G34*PI()/180)*AA34*$E34*2.4/$F34))) -> 0 | AG34: 25 | AH34: 2 | AI34: =INDEX(AF$11:AF$16,AH34) -> Gamma | AJ34: =IF(INDEX(INDIRECT(AJ$7),$AG34,2)="","",INDEX(INDIRECT(AJ$7),$AG34,2)) | AK34: =IF(INDEX(INDIRECT(AK$7),$AG34,2)="","",INDEX(INDIRECT(AK$7),$AG34,2)) | AL34: =IF(INDEX(INDIRECT(AL$7),$AG34,2)="","",INDEX(INDIRECT(AL$7),$AG34,2)) | AM34: =IF(INDEX(INDIRECT(AM$7),$AG34,2)="","",INDEX(INDIRECT(AM$7),$AG34,2)) | AN34: =IF(INDEX(INDIRECT(AN$7),$AG34,2)="","",INDEX(INDIRECT(AN$7),$AG34,2)) | AO34: =IF(INDEX(INDIRECT(AO$7),$AG34,2)="","",INDEX(INDIRECT(AO$7),$AG34,2)) | AP34: =IF(INDEX(INDIRECT(AP$7),$AG34,2)="","",INDEX(INDIRECT(AP$7),$AG34,2)) | AQ34: =IF(INDEX(INDIRECT(AQ$7),$AG34,2)="","",INDEX(INDIRECT(AQ$7),$AG34,2)) | ... BY34: =IF(INDEX(INDIRECT(BY$7),$AG34,2)="","",INDEX(INDIRECT(BY$7),$AG34,2))
B35: E4 | E35: 1 | F35: 2.4 | G35: 0 | H35: =AC35 -> 0 | I35: =AD35 -> 0 | J35: =IF(E35<Y35,"Insufficient","OK") -> OK | O35: =IF(K32=0,"",IF(N32<=K32,"OK if external bracing line", "NG if external bracing line")) | V35: =IF($AH35<2,0,Y35) -> 0 | W35: =INDEX(INDIRECT($AI35),$BK$9+1,W$4) -> Gamma | X35: =INDEX(INDIRECT($AI35),$BK$9+1,X$4) -> None | Y35: =INDEX(INDIRECT($AI35),$BK$9+1,Y$4) -> 0 | Z35: =INDEX(INDIRECT($AI35),$BK$9+1,Z$4) -> 0 | AA35: =INDEX(INDIRECT($AI35),$BK$9+1,AA$4) -> 0 | AB35: =INDEX(INDIRECT($AI35),$BK$9+1,AB$4) -> 0 | AC35: =IF($AH35<2,0,IF($AH35=2,COS($G35*PI()/180)*Z35,IF($E35<$Y35,0,COS($G35*PI()/180)*Z35*E35*2.4/$F35))) -> 0 | AD35: =IF($AH35<2,0,IF($AH35=2,COS($G35*PI()/180)*AA35,IF($E35<$Y35,0,COS($G35*PI()/180)*AA35*$E35*2.4/$F35))) -> 0 | AG35: 26 | AH35: 2 | AI35: =INDEX(AF$11:AF$16,AH35) -> Gamma | AJ35: =IF(INDEX(INDIRECT(AJ$7),$AG35,2)="","",INDEX(INDIRECT(AJ$7),$AG35,2)) | AK35: =IF(INDEX(INDIRECT(AK$7),$AG35,2)="","",INDEX(INDIRECT(AK$7),$AG35,2)) | AL35: =IF(INDEX(INDIRECT(AL$7),$AG35,2)="","",INDEX(INDIRECT(AL$7),$AG35,2)) | AM35: =IF(INDEX(INDIRECT(AM$7),$AG35,2)="","",INDEX(INDIRECT(AM$7),$AG35,2)) | AN35: =IF(INDEX(INDIRECT(AN$7),$AG35,2)="","",INDEX(INDIRECT(AN$7),$AG35,2)) | AO35: =IF(INDEX(INDIRECT(AO$7),$AG35,2)="","",INDEX(INDIRECT(AO$7),$AG35,2)) | AP35: =IF(INDEX(INDIRECT(AP$7),$AG35,2)="","",INDEX(INDIRECT(AP$7),$AG35,2)) | AQ35: =IF(INDEX(INDIRECT(AQ$7),$AG35,2)="","",INDEX(INDIRECT(AQ$7),$AG35,2)) | ... BY35: =IF(INDEX(INDIRECT(BY$7),$AG35,2)="","",INDEX(INDIRECT(BY$7),$AG35,2))
B36: E5 | E36: 1 | F36: 2.4 | G36: 0 | H36: =AC36 -> 0 | I36: =AD36 -> 0 | J36: =IF(E36<Y36,"Insufficient","OK") -> OK | V36: =IF($AH36<2,0,Y36) -> 0 | W36: =INDEX(INDIRECT($AI36),$BL$9+1,W$4) -> None | X36: =INDEX(INDIRECT($AI36),$BL$9+1,X$4) -> None | Y36: =INDEX(INDIRECT($AI36),$BL$9+1,Y$4) -> 0 | Z36: =INDEX(INDIRECT($AI36),$BL$9+1,Z$4) -> 0 | AA36: =INDEX(INDIRECT($AI36),$BL$9+1,AA$4) -> 0 | AB36: =INDEX(INDIRECT($AI36),$BL$9+1,AB$4) -> 0 | AC36: =IF($AH36<2,0,IF($AH36=2,COS($G36*PI()/180)*Z36,IF($E36<$Y36,0,COS($G36*PI()/180)*Z36*E36*2.4/$F36))) -> 0 | AD36: =IF($AH36<2,0,IF($AH36=2,COS($G36*PI()/180)*AA36,IF($E36<$Y36,0,COS($G36*PI()/180)*AA36*$E36*2.4/$F36))) -> 0 | AG36: 27 | AH36: 1 | AI36: =INDEX(AF$11:AF$16,AH36) -> None | AJ36: =IF(INDEX(INDIRECT(AJ$7),$AG36,2)="","",INDEX(INDIRECT(AJ$7),$AG36,2)) | AK36: =IF(INDEX(INDIRECT(AK$7),$AG36,2)="","",INDEX(INDIRECT(AK$7),$AG36,2)) | AL36: =IF(INDEX(INDIRECT(AL$7),$AG36,2)="","",INDEX(INDIRECT(AL$7),$AG36,2)) | AM36: =IF(INDEX(INDIRECT(AM$7),$AG36,2)="","",INDEX(INDIRECT(AM$7),$AG36,2)) | AN36: =IF(INDEX(INDIRECT(AN$7),$AG36,2)="","",INDEX(INDIRECT(AN$7),$AG36,2)) | AO36: =IF(INDEX(INDIRECT(AO$7),$AG36,2)="","",INDEX(INDIRECT(AO$7),$AG36,2)) | AP36: =IF(INDEX(INDIRECT(AP$7),$AG36,2)="","",INDEX(INDIRECT(AP$7),$AG36,2)) | AQ36: =IF(INDEX(INDIRECT(AQ$7),$AG36,2)="","",INDEX(INDIRECT(AQ$7),$AG36,2)) | ... BY36: =IF(INDEX(INDIRECT(BY$7),$AG36,2)="","",INDEX(INDIRECT(BY$7),$AG36,2))
B37: E6 | E37: 1 | F37: 2.4 | G37: 0 | H37: =AC37 -> 0 | I37: =AD37 -> 0 | J37: =IF(E37<Y37,"Insufficient","OK") -> OK | V37: =IF($AH37<2,0,Y37) -> 0 | W37: =INDEX(INDIRECT($AI37),$BM$9+1,W$4) -> 0 | X37: =INDEX(INDIRECT($AI37),$BM$9+1,X$4) -> 0 | Y37: =INDEX(INDIRECT($AI37),$BM$9+1,Y$4) -> 0 | Z37: =INDEX(INDIRECT($AI37),$BM$9+1,Z$4) -> 0 | AA37: =INDEX(INDIRECT($AI37),$BM$9+1,AA$4) -> 0 | AB37: =INDEX(INDIRECT($AI37),$BM$9+1,AB$4) -> 0 | AC37: =IF($AH37<2,0,IF($AH37=2,COS($G37*PI()/180)*Z37,IF($E37<$Y37,0,COS($G37*PI()/180)*Z37*E37*2.4/$F37))) -> 0 | AD37: =IF($AH37<2,0,IF($AH37=2,COS($G37*PI()/180)*AA37,IF($E37<$Y37,0,COS($G37*PI()/180)*AA37*$E37*2.4/$F37))) -> 0 | AG37: 28 | AH37: 3 | AI37: =INDEX(AF$11:AF$16,AH37) -> UserDefined | AJ37: =IF(INDEX(INDIRECT(AJ$7),$AG37,2)="","",INDEX(INDIRECT(AJ$7),$AG37,2)) | AK37: =IF(INDEX(INDIRECT(AK$7),$AG37,2)="","",INDEX(INDIRECT(AK$7),$AG37,2)) | AL37: =IF(INDEX(INDIRECT(AL$7),$AG37,2)="","",INDEX(INDIRECT(AL$7),$AG37,2)) | AM37: =IF(INDEX(INDIRECT(AM$7),$AG37,2)="","",INDEX(INDIRECT(AM$7),$AG37,2)) | AN37: =IF(INDEX(INDIRECT(AN$7),$AG37,2)="","",INDEX(INDIRECT(AN$7),$AG37,2)) | AO37: =IF(INDEX(INDIRECT(AO$7),$AG37,2)="","",INDEX(INDIRECT(AO$7),$AG37,2)) | AP37: =IF(INDEX(INDIRECT(AP$7),$AG37,2)="","",INDEX(INDIRECT(AP$7),$AG37,2)) | AQ37: =IF(INDEX(INDIRECT(AQ$7),$AG37,2)="","",INDEX(INDIRECT(AQ$7),$AG37,2)) | ... BY37: =IF(INDEX(INDIRECT(BY$7),$AG37,2)="","",INDEX(INDIRECT(BY$7),$AG37,2))
A38: F | B38: F1 | E38: 1 | F38: 2.4 | G38: 0 | H38: =AC38 -> 0 | I38: =AD38 -> 0 | J38: =IF(E38<Y38,"Insufficient","OK") -> OK | K38: =MIN(SUM(H38:H43),SUM(I38:I43)) -> 0 | L38: 0 | M38: =IF(K38=0,"",MAX(100,0.5*MAX(H$3,I$3)/U$15)) | N38: =IF(K38=0,"",MAX(M38,L38*15)) | O38: =IF(K38=0,"",IF(M38<=K38,"OK if internal bracing line", "NG if internal bracing line")) | V38: =IF($AH38<2,0,Y38) -> 0 | W38: =INDEX(INDIRECT($AI38),$BN$9+1,W$4) -> None | X38: =INDEX(INDIRECT($AI38),$BN$9+1,X$4) -> None | Y38: =INDEX(INDIRECT($AI38),$BN$9+1,Y$4) -> 0 | Z38: =INDEX(INDIRECT($AI38),$BN$9+1,Z$4) -> 0 | AA38: =INDEX(INDIRECT($AI38),$BN$9+1,AA$4) -> 0 | AB38: =INDEX(INDIRECT($AI38),$BN$9+1,AB$4) -> 0 | AC38: =IF($AH38<2,0,IF($AH38=2,COS($G38*PI()/180)*Z38,IF($E38<$Y38,0,COS($G38*PI()/180)*Z38*E38*2.4/$F38))) -> 0 | AD38: =IF($AH38<2,0,IF($AH38=2,COS($G38*PI()/180)*AA38,IF($E38<$Y38,0,COS($G38*PI()/180)*AA38*$E38*2.4/$F38))) -> 0 | AG38: 29 | AH38: 3 | AI38: =INDEX(AF$11:AF$16,AH38) -> UserDefined | AJ38: =IF(INDEX(INDIRECT(AJ$7),$AG38,2)="","",INDEX(INDIRECT(AJ$7),$AG38,2)) | AK38: =IF(INDEX(INDIRECT(AK$7),$AG38,2)="","",INDEX(INDIRECT(AK$7),$AG38,2)) | AL38: =IF(INDEX(INDIRECT(AL$7),$AG38,2)="","",INDEX(INDIRECT(AL$7),$AG38,2)) | AM38: =IF(INDEX(INDIRECT(AM$7),$AG38,2)="","",INDEX(INDIRECT(AM$7),$AG38,2)) | AN38: =IF(INDEX(INDIRECT(AN$7),$AG38,2)="","",INDEX(INDIRECT(AN$7),$AG38,2)) | AO38: =IF(INDEX(INDIRECT(AO$7),$AG38,2)="","",INDEX(INDIRECT(AO$7),$AG38,2)) | AP38: =IF(INDEX(INDIRECT(AP$7),$AG38,2)="","",INDEX(INDIRECT(AP$7),$AG38,2)) | AQ38: =IF(INDEX(INDIRECT(AQ$7),$AG38,2)="","",INDEX(INDIRECT(AQ$7),$AG38,2)) | ... BY38: =IF(INDEX(INDIRECT(BY$7),$AG38,2)="","",INDEX(INDIRECT(BY$7),$AG38,2))
B39: F2 | E39: 1 | F39: 2.4 | G39: 0 | H39: =AC39 -> 0 | I39: =AD39 -> 0 | J39: =IF(E39<Y39,"Insufficient","OK") -> Insufficient | V39: =IF($AH39<2,0,Y39) -> 1.5 | W39: =INDEX(INDIRECT($AI39),$BO$9+1,W$4) -> Masonry | X39: =INDEX(INDIRECT($AI39),$BO$9+1,X$4) -> M2 (1.5-3.0m) | Y39: =INDEX(INDIRECT($AI39),$BO$9+1,Y$4) -> 1.5 | Z39: =INDEX(INDIRECT($AI39),$BO$9+1,Z$4) -> 0 | AA39: =INDEX(INDIRECT($AI39),$BO$9+1,AA$4) -> 0 | AB39: =INDEX(INDIRECT($AI39),$BO$9+1,AB$4) -> 0 | AC39: =IF($AH39<2,0,IF($AH39=2,COS($G39*PI()/180)*Z39,IF($E39<$Y39,0,COS($G39*PI()/180)*Z39*E39*2.4/$F39))) -> 0 | AD39: =IF($AH39<2,0,IF($AH39=2,COS($G39*PI()/180)*AA39,IF($E39<$Y39,0,COS($G39*PI()/180)*AA39*$E39*2.4/$F39))) -> 0 | AG39: 30 | AH39: 3 | AI39: =INDEX(AF$11:AF$16,AH39) -> UserDefined | AJ39: =IF(INDEX(INDIRECT(AJ$7),$AG39,2)="","",INDEX(INDIRECT(AJ$7),$AG39,2)) | AK39: =IF(INDEX(INDIRECT(AK$7),$AG39,2)="","",INDEX(INDIRECT(AK$7),$AG39,2)) | AL39: =IF(INDEX(INDIRECT(AL$7),$AG39,2)="","",INDEX(INDIRECT(AL$7),$AG39,2)) | AM39: =IF(INDEX(INDIRECT(AM$7),$AG39,2)="","",INDEX(INDIRECT(AM$7),$AG39,2)) | AN39: =IF(INDEX(INDIRECT(AN$7),$AG39,2)="","",INDEX(INDIRECT(AN$7),$AG39,2)) | AO39: =IF(INDEX(INDIRECT(AO$7),$AG39,2)="","",INDEX(INDIRECT(AO$7),$AG39,2)) | AP39: =IF(INDEX(INDIRECT(AP$7),$AG39,2)="","",INDEX(INDIRECT(AP$7),$AG39,2)) | AQ39: =IF(INDEX(INDIRECT(AQ$7),$AG39,2)="","",INDEX(INDIRECT(AQ$7),$AG39,2)) | ... BY39: =IF(INDEX(INDIRECT(BY$7),$AG39,2)="","",INDEX(INDIRECT(BY$7),$AG39,2))
B40: F3 | E40: 1 | F40: 2.4 | G40: 0 | H40: =AC40 -> 0 | I40: =AD40 -> 0 | J40: =IF(E40<Y40,"Insufficient","OK") -> OK | V40: =IF($AH40<2,0,Y40) -> 0 | W40: =INDEX(INDIRECT($AI40),$BP$9+1,W$4) -> None | X40: =INDEX(INDIRECT($AI40),$BP$9+1,X$4) -> None | Y40: =INDEX(INDIRECT($AI40),$BP$9+1,Y$4) -> 0 | Z40: =INDEX(INDIRECT($AI40),$BP$9+1,Z$4) -> 0 | AA40: =INDEX(INDIRECT($AI40),$BP$9+1,AA$4) -> 0 | AB40: =INDEX(INDIRECT($AI40),$BP$9+1,AB$4) -> 0 | AC40: =IF($AH40<2,0,IF($AH40=2,COS($G40*PI()/180)*Z40,IF($E40<$Y40,0,COS($G40*PI()/180)*Z40*E40*2.4/$F40))) -> 0 | AD40: =IF($AH40<2,0,IF($AH40=2,COS($G40*PI()/180)*AA40,IF($E40<$Y40,0,COS($G40*PI()/180)*AA40*$E40*2.4/$F40))) -> 0 | AG40: 31 | AH40: 4 | AI40: =INDEX(AF$11:AF$16,AH40) -> Plasterboard | AJ40: =IF(INDEX(INDIRECT(AJ$7),$AG40,2)="","",INDEX(INDIRECT(AJ$7),$AG40,2)) | AK40: =IF(INDEX(INDIRECT(AK$7),$AG40,2)="","",INDEX(INDIRECT(AK$7),$AG40,2)) | AL40: =IF(INDEX(INDIRECT(AL$7),$AG40,2)="","",INDEX(INDIRECT(AL$7),$AG40,2)) | AM40: =IF(INDEX(INDIRECT(AM$7),$AG40,2)="","",INDEX(INDIRECT(AM$7),$AG40,2)) | AN40: =IF(INDEX(INDIRECT(AN$7),$AG40,2)="","",INDEX(INDIRECT(AN$7),$AG40,2)) | AO40: =IF(INDEX(INDIRECT(AO$7),$AG40,2)="","",INDEX(INDIRECT(AO$7),$AG40,2)) | AP40: =IF(INDEX(INDIRECT(AP$7),$AG40,2)="","",INDEX(INDIRECT(AP$7),$AG40,2)) | AQ40: =IF(INDEX(INDIRECT(AQ$7),$AG40,2)="","",INDEX(INDIRECT(AQ$7),$AG40,2)) | ... BY40: =IF(INDEX(INDIRECT(BY$7),$AG40,2)="","",INDEX(INDIRECT(BY$7),$AG40,2))
B41: F4 | E41: 1 | F41: 2.4 | G41: 0 | H41: =AC41 -> 0 | I41: =AD41 -> 0 | J41: =IF(E41<Y41,"Insufficient","OK") -> OK | O41: =IF(K38=0,"",IF(N38<=K38,"OK if external bracing line", "NG if external bracing line")) | V41: =IF($AH41<2,0,Y41) -> 1 | W41: =INDEX(INDIRECT($AI41),$BQ$9+1,W$4) -> NZS 3604 | X41: =INDEX(INDIRECT($AI41),$BQ$9+1,X$4) -> anchor pile | Y41: =INDEX(INDIRECT($AI41),$BQ$9+1,Y$4) -> 1 | Z41: =INDEX(INDIRECT($AI41),$BQ$9+1,Z$4) -> 0 | AA41: =INDEX(INDIRECT($AI41),$BQ$9+1,AA$4) -> 0 | AB41: =INDEX(INDIRECT($AI41),$BQ$9+1,AB$4) -> 0 | AC41: =IF($AH41<2,0,IF($AH41=2,COS($G41*PI()/180)*Z41,IF($E41<$Y41,0,COS($G41*PI()/180)*Z41*E41*2.4/$F41))) -> 0 | AD41: =IF($AH41<2,0,IF($AH41=2,COS($G41*PI()/180)*AA41,IF($E41<$Y41,0,COS($G41*PI()/180)*AA41*$E41*2.4/$F41))) -> 0 | AG41: 32 | AH41: 6 | AI41: =INDEX(AF$11:AF$16,AH41) -> Foundations | AJ41: =IF(INDEX(INDIRECT(AJ$7),$AG41,2)="","",INDEX(INDIRECT(AJ$7),$AG41,2)) | AK41: =IF(INDEX(INDIRECT(AK$7),$AG41,2)="","",INDEX(INDIRECT(AK$7),$AG41,2)) | AL41: =IF(INDEX(INDIRECT(AL$7),$AG41,2)="","",INDEX(INDIRECT(AL$7),$AG41,2)) | AM41: =IF(INDEX(INDIRECT(AM$7),$AG41,2)="","",INDEX(INDIRECT(AM$7),$AG41,2)) | AN41: =IF(INDEX(INDIRECT(AN$7),$AG41,2)="","",INDEX(INDIRECT(AN$7),$AG41,2)) | AO41: =IF(INDEX(INDIRECT(AO$7),$AG41,2)="","",INDEX(INDIRECT(AO$7),$AG41,2)) | AP41: =IF(INDEX(INDIRECT(AP$7),$AG41,2)="","",INDEX(INDIRECT(AP$7),$AG41,2)) | AQ41: =IF(INDEX(INDIRECT(AQ$7),$AG41,2)="","",INDEX(INDIRECT(AQ$7),$AG41,2)) | ... BY41: =IF(INDEX(INDIRECT(BY$7),$AG41,2)="","",INDEX(INDIRECT(BY$7),$AG41,2))
B42: F5 | E42: 1 | F42: 2.4 | G42: 0 | H42: =AC42 -> 0 | I42: =AD42 -> 0 | J42: =IF(E42<Y42,"Insufficient","OK") -> OK | V42: =IF($AH42<2,0,Y42) -> 0 | W42: =INDEX(INDIRECT($AI42),$BR$9+1,W$4) -> None | X42: =INDEX(INDIRECT($AI42),$BR$9+1,X$4) -> None | Y42: =INDEX(INDIRECT($AI42),$BR$9+1,Y$4) -> 0 | Z42: =INDEX(INDIRECT($AI42),$BR$9+1,Z$4) -> 0 | AA42: =INDEX(INDIRECT($AI42),$BR$9+1,AA$4) -> 0 | AB42: =INDEX(INDIRECT($AI42),$BR$9+1,AB$4) -> 0 | AC42: =IF($AH42<2,0,IF($AH42=2,COS($G42*PI()/180)*Z42,IF($E42<$Y42,0,COS($G42*PI()/180)*Z42*E42*2.4/$F42))) -> 0 | AD42: =IF($AH42<2,0,IF($AH42=2,COS($G42*PI()/180)*AA42,IF($E42<$Y42,0,COS($G42*PI()/180)*AA42*$E42*2.4/$F42))) -> 0 | AH42: 1 | AI42: =INDEX(AF$11:AF$16,AH42) -> None
B43: F6 | E43: 1 | F43: 2.4 | G43: 0 | H43: =AC43 -> 0 | I43: =AD43 -> 0 | J43: =IF(E43<Y43,"Insufficient","OK") -> OK | V43: =IF($AH43<2,0,Y43) -> 0 | W43: =INDEX(INDIRECT($AI43),$BS$9+1,W$4) -> None | X43: =INDEX(INDIRECT($AI43),$BS$9+1,X$4) -> None | Y43: =INDEX(INDIRECT($AI43),$BS$9+1,Y$4) -> 0 | Z43: =INDEX(INDIRECT($AI43),$BS$9+1,Z$4) -> 0 | AA43: =INDEX(INDIRECT($AI43),$BS$9+1,AA$4) -> 0 | AB43: =INDEX(INDIRECT($AI43),$BS$9+1,AB$4) -> 0 | AC43: =IF($AH43<2,0,IF($AH43=2,COS($G43*PI()/180)*Z43,IF($E43<$Y43,0,COS($G43*PI()/180)*Z43*E43*2.4/$F43))) -> 0 | AD43: =IF($AH43<2,0,IF($AH43=2,COS($G43*PI()/180)*AA43,IF($E43<$Y43,0,COS($G43*PI()/180)*AA43*$E43*2.4/$F43))) -> 0 | AH43: 1 | AI43: =INDEX(AF$11:AF$16,AH43) -> None
A44: G | B44: G1 | E44: 1 | F44: 2.4 | G44: 1 | H44: =AC44 -> 0 | I44: =AD44 -> 0 | J44: =IF(E44<Y44,"Insufficient","OK") -> OK | K44: =MIN(SUM(H44:H49),SUM(I44:I49)) -> 50 | L44: 0 | M44: =IF(K44=0,"",MAX(100,0.5*MAX(H$3,I$3)/U$15)) -> 100 | N44: =IF(K44=0,"",MAX(M44,L44*15)) -> 100 | O44: =IF(K44=0,"",IF(M44<=K44,"OK if internal bracing line", "NG if internal bracing line")) -> NG if internal bracing line | V44: =IF($AH44<2,0,Y44) -> 0 | W44: =INDEX(INDIRECT($AI44),$BT$9+1,W$4) -> None | X44: =INDEX(INDIRECT($AI44),$BT$9+1,X$4) -> None | Y44: =INDEX(INDIRECT($AI44),$BT$9+1,Y$4) -> 0 | Z44: =INDEX(INDIRECT($AI44),$BT$9+1,Z$4) -> 0 | AA44: =INDEX(INDIRECT($AI44),$BT$9+1,AA$4) -> 0 | AB44: =INDEX(INDIRECT($AI44),$BT$9+1,AB$4) -> 0 | AC44: =IF($AH44<2,0,IF($AH44=2,COS($G44*PI()/180)*Z44,IF($E44<$Y44,0,COS($G44*PI()/180)*Z44*E44*2.4/$F44))) -> 0 | AD44: =IF($AH44<2,0,IF($AH44=2,COS($G44*PI()/180)*AA44,IF($E44<$Y44,0,COS($G44*PI()/180)*AA44*$E44*2.4/$F44))) -> 0 | AH44: 1 | AI44: =INDEX(AF$11:AF$16,AH44) -> None
B45: G2 | E45: 1 | F45: 2.4 | G45: 0 | H45: =AC45 -> 50 | I45: =AD45 -> 50 | J45: =IF(E45<Y45,"Insufficient","OK") -> OK | V45: =IF($AH45<2,0,Y45) -> 1 | W45: =INDEX(INDIRECT($AI45),$BU$9+1,W$4) -> NZS 3604 | X45: =INDEX(INDIRECT($AI45),$BU$9+1,X$4) -> cantilever pile | Y45: =INDEX(INDIRECT($AI45),$BU$9+1,Y$4) -> 1 | Z45: =INDEX(INDIRECT($AI45),$BU$9+1,Z$4) -> 50 | AA45: =INDEX(INDIRECT($AI45),$BU$9+1,AA$4) -> 50 | AB45: =INDEX(INDIRECT($AI45),$BU$9+1,AB$4) -> 0 | AC45: =IF($AH45<2,0,IF($AH45=2,COS($G45*PI()/180)*Z45,IF($E45<$Y45,0,COS($G45*PI()/180)*Z45*E45*2.4/$F45))) -> 50 | AD45: =IF($AH45<2,0,IF($AH45=2,COS($G45*PI()/180)*AA45,IF($E45<$Y45,0,COS($G45*PI()/180)*AA45*$E45*2.4/$F45))) -> 50 | AH45: 6 | AI45: =INDEX(AF$11:AF$16,AH45) -> Foundations
B46: G3 | E46: 1 | F46: 2.4 | G46: 0 | H46: =AC46 -> 0 | I46: =AD46 -> 0 | J46: =IF(E46<Y46,"Insufficient","OK") -> OK | V46: =IF($AH46<2,0,Y46) -> 0 | W46: =INDEX(INDIRECT($AI46),$BV$9+1,W$4) -> None | X46: =INDEX(INDIRECT($AI46),$BV$9+1,X$4) -> None | Y46: =INDEX(INDIRECT($AI46),$BV$9+1,Y$4) -> 0 | Z46: =INDEX(INDIRECT($AI46),$BV$9+1,Z$4) -> 0 | AA46: =INDEX(INDIRECT($AI46),$BV$9+1,AA$4) -> 0 | AB46: =INDEX(INDIRECT($AI46),$BV$9+1,AB$4) -> 0 | AC46: =IF($AH46<2,0,IF($AH46=2,COS($G46*PI()/180)*Z46,IF($E46<$Y46,0,COS($G46*PI()/180)*Z46*E46*2.4/$F46))) -> 0 | AD46: =IF($AH46<2,0,IF($AH46=2,COS($G46*PI()/180)*AA46,IF($E46<$Y46,0,COS($G46*PI()/180)*AA46*$E46*2.4/$F46))) -> 0 | AH46: 3 | AI46: =INDEX(AF$11:AF$16,AH46) -> UserDefined
B47: G4 | E47: 1 | F47: 2.4 | G47: 0 | H47: =AC47 -> 0 | I47: =AD47 -> 0 | J47: =IF(E47<Y47,"Insufficient","OK") -> Insufficient | O47: =IF(K44=0,"",IF(N44<=K44,"OK if external bracing line", "NG if external bracing line")) -> NG if external bracing line | V47: =IF($AH47<2,0,Y47) -> 1.5 | W47: =INDEX(INDIRECT($AI47),$BW$9+1,W$4) -> Masonry | X47: =INDEX(INDIRECT($AI47),$BW$9+1,X$4) -> M2 (1.5-3.0m) | Y47: =INDEX(INDIRECT($AI47),$BW$9+1,Y$4) -> 1.5 | Z47: =INDEX(INDIRECT($AI47),$BW$9+1,Z$4) -> 0 | AA47: =INDEX(INDIRECT($AI47),$BW$9+1,AA$4) -> 0 | AB47: =INDEX(INDIRECT($AI47),$BW$9+1,AB$4) -> 0 | AC47: =IF($AH47<2,0,IF($AH47=2,COS($G47*PI()/180)*Z47,IF($E47<$Y47,0,COS($G47*PI()/180)*Z47*E47*2.4/$F47))) -> 0 | AD47: =IF($AH47<2,0,IF($AH47=2,COS($G47*PI()/180)*AA47,IF($E47<$Y47,0,COS($G47*PI()/180)*AA47*$E47*2.4/$F47))) -> 0 | AH47: 3 | AI47: =INDEX(AF$11:AF$16,AH47) -> UserDefined
B48: G5 | E48: 1 | F48: 2.4 | G48: 0 | H48: =AC48 -> 0 | I48: =AD48 -> 0 | J48: =IF(E48<Y48,"Insufficient","OK") -> OK | V48: =IF($AH48<2,0,Y48) -> 0 | W48: =INDEX(INDIRECT($AI48),$BX$9+1,W$4) -> None | X48: =INDEX(INDIRECT($AI48),$BX$9+1,X$4) -> None | Y48: =INDEX(INDIRECT($AI48),$BX$9+1,Y$4) -> 0 | Z48: =INDEX(INDIRECT($AI48),$BX$9+1,Z$4) -> 0 | AA48: =INDEX(INDIRECT($AI48),$BX$9+1,AA$4) -> 0 | AB48: =INDEX(INDIRECT($AI48),$BX$9+1,AB$4) -> 0 | AC48: =IF($AH48<2,0,IF($AH48=2,COS($G48*PI()/180)*Z48,IF($E48<$Y48,0,COS($G48*PI()/180)*Z48*E48*2.4/$F48))) -> 0 | AD48: =IF($AH48<2,0,IF($AH48=2,COS($G48*PI()/180)*AA48,IF($E48<$Y48,0,COS($G48*PI()/180)*AA48*$E48*2.4/$F48))) -> 0 | AH48: 4 | AI48: =INDEX(AF$11:AF$16,AH48) -> Plasterboard
B49: G6 | E49: 1 | F49: 2.7 | G49: 0 | H49: =AC49 -> 0 | I49: =AD49 -> 0 | J49: =IF(E49<Y49,"Insufficient","OK") -> Insufficient | V49: =IF($AH49<2,0,Y49) -> 1.2 | W49: =INDEX(INDIRECT($AI49),$BY$9+1,W$4) -> USG Boral | X49: =INDEX(INDIRECT($AI49),$BY$9+1,X$4) -> UBFRP 1.2-2.4 | Y49: =INDEX(INDIRECT($AI49),$BY$9+1,Y$4) -> 1.2 | Z49: =INDEX(INDIRECT($AI49),$BY$9+1,Z$4) -> 150 | AA49: =INDEX(INDIRECT($AI49),$BY$9+1,AA$4) -> 150 | AB49: =INDEX(INDIRECT($AI49),$BY$9+1,AB$4) -> 0 | AC49: =IF($AH49<2,0,IF($AH49=2,COS($G49*PI()/180)*Z49,IF($E49<$Y49,0,COS($G49*PI()/180)*Z49*E49*2.4/$F49))) -> 0 | AD49: =IF($AH49<2,0,IF($AH49=2,COS($G49*PI()/180)*AA49,IF($E49<$Y49,0,COS($G49*PI()/180)*AA49*$E49*2.4/$F49))) -> 0 | AH49: 4 | AI49: =INDEX(AF$11:AF$16,AH49) -> Plasterboard
E51: Total bracing achieved | H51: =SUM(H8:H49) -> 105 | I51: =SUM(I8:I49) -> 110
E52: Total bracing required | H52: =IF(INDEX(DemandS,2)="N/A","N/A",INDEX(DemandS,2)) -> N/A | I52: =IF(INDEX(DemandS,6)="N/A","N/A",INDEX(DemandS,6)) -> N/A
H53: =IF(H52>H51,"NG","OK") -> NG | I53: =IF(I52>I51,"NG","OK") -> NG

Sheet Subfloor Across
A1: GBTL - Subfloor Across | H1: Wind BU's | I1: EQ BU's | J1: Gamma Bracing Technologies Ltd
A2: Total bracing achieved | H2: =H51 -> 225 | I2: =I51 -> 275 | AJ2: Note, spreadsheet from here and to RHS is just to define drop down menus for the boxes in Column D
A3: Total bracing required | H3: =H52 -> N/A | I3: =I52 -> N/A | AF3: Drop down menu for boxes in Column C | AO3: Selection No from second combo box - ie bracing system
A4: Subfloor bracing walls | H4: =H53 -> NG | I4: =I53 -> NG | W4: 1 | X4: 2 | Y4: 3 | Z4: 4 | AA4: 5 | AB4: 6 | AK4: Used in formula below.
A5: This sheet defines bracing walls in the ACROSS direction | H5: Values achieved | J5: Check minimum bracing rating in Section 5.4.7 of NZS 3604
AJ6: 1 | AK6: 2 | AL6: 3 | AM6: 4 | AN6: 5 | AO6: 6 | AP6: 7 | AQ6: 8 | AR6: 9 | AS6: 10 | AT6: 11 | AU6: 12 | AV6: 13 | AW6: 14 | AX6: 15 | AY6: 16 | AZ6: 17 | BA6: 18 | BB6: 19 | BC6: 20 | BD6: 21 | BE6: 22 | BF6: 23 | BG6: 24 | BH6: 25 | BI6: 26 | BJ6: 27 | BK6: 28 | BL6: 29 | BM6: 30 | BN6: 31 | BO6: 32 | BP6: 33 | BQ6: 34 | BR6: 35 | BS6: 36 | BT6: 37 | BU6: 38 | BV6: 39 | BW6: 40 | BX6: 41 | BY6: 42
A7: Line name | B7: Bracing element label | C7: Source of published bracing rating | D7: Bracing wall type | E7: 1 or wall length in metres | F7: Wall Height (metres) | G7: Wall angle in degrees | H7: Wind BU's | I7: EQ BU's | J7: Is bracing element length specified less than minimum? | K7: Bracing line bracing capacity BU's | L7: If external wall give length (m) | M7: Requirement for internal walls | N7: Requirement for external walls | U7: No of bracing lines | V7: Used min length (m) | W7: Supplier | X7: System | Y7: Minimum length | Z7: Wind BU's per unit | AA7: Earthquake BU's per unit | AB7: spare | AC7: wind rating | AD7: EQ rating | AG7: Used on RHS | AH7: Key for Source | AI7: Source Name | AJ7: =INDEX($AI8:$AI49,AJ6) -> UserDefined | AK7: =INDEX($AI8:$AI49,AK6) -> None | AL7: =INDEX($AI8:$AI49,AL6) -> None | AM7: =INDEX($AI8:$AI49,AM6) -> None | AN7: =INDEX($AI8:$AI49,AN6) -> None | AO7: =INDEX($AI8:$AI49,AO6) -> None | AP7: =INDEX($AI8:$AI49,AP6) -> None | AQ7: =INDEX($AI8:$AI49,AQ6) -> None | ... BY7: =INDEX($AI8:$AI49,BY6) -> None
A8: L | B8: L1 | E8: 1 | F8: 2.4 | G8: 0 | H8: =AC8 -> 0 | I8: =AD8 -> 0 | J8: =IF(E8<Y8,"Insufficient","OK") -> OK | K8: =MIN(SUM(H8:H13),SUM(I8:I13)) -> 0 | L8: 0 | M8: =IF(K8=0,"",MAX(100,0.5*MAX(H$3,I$3)/U$15)) | N8: =IF(K8=0,"",MAX(M8,L8*15)) | O8: =IF(K8=0,"",IF(M8<=K8,"OK if internal bracing line", "NG if internal bracing line")) | U8: =IF(K8=0,0,1) -> 0 | V8: =IF($AH8<2,0,Y8) -> 0 | W8: =INDEX(INDIRECT($AI8),$AJ$9+1,W$4) -> None | X8: =INDEX(INDIRECT($AI8),$AJ$9+1,X$4) -> None | Y8: =INDEX(INDIRECT($AI8),$AJ$9+1,Y$4) -> 0 | Z8: =INDEX(INDIRECT($AI8),$AJ$9+1,Z$4) -> 0 | AA8: =INDEX(INDIRECT($AI8),$AJ$9+1,AA$4) -> 0 | AB8: =INDEX(INDIRECT($AI8),$AJ$9+1,AB$4) -> 0 | AC8: =IF($AH8<2,0,IF($AH8=2,COS($G8*PI()/180)*Z8,IF($E8<$Y8,0,COS($G8*PI()/180)*Z8*$E8*2.4/$F8))) -> 0 | AD8: =IF($AH8<2,0,IF($AH8=2,COS($G8*PI()/180)*AA8,IF($E8<$Y8,0,COS($G8*PI()/180)*AA8*$E8*2.4/$F8))) -> 0 | AH8: 3 | AI8: =INDEX(AF$11:AF$16,AH8) -> UserDefined
B9: L2 | E9: 1 | F9: 2.4 | G9: 0 | H9: =AC9 -> 0 | I9: =AD9 -> 0 | J9: =IF(E9<Y9,"Insufficient","OK") -> OK | U9: =IF(K14=0,0,1) -> 0 | V9: =IF($AH9<2,0,Y9) -> 0 | W9: =INDEX(INDIRECT($AI9),$AK$9+1,W$4) -> None | X9: =INDEX(INDIRECT($AI9),$AK$9+1,X$4) -> None | Y9: =INDEX(INDIRECT($AI9),$AK$9+1,Y$4) -> 0 | Z9: =INDEX(INDIRECT($AI9),$AK$9+1,Z$4) -> 0 | AA9: =INDEX(INDIRECT($AI9),$AK$9+1,AA$4) -> 0 | AB9: =INDEX(INDIRECT($AI9),$AK$9+1,AB$4) -> 0 | AC9: =IF($AH9<2,0,IF($AH9=2,COS($G9*PI()/180)*Z9,IF($E9<$Y9,0,COS($G9*PI()/180)*Z9*E9*2.4/$F9))) -> 0 | AD9: =IF($AH9<2,0,IF($AH9=2,COS($G9*PI()/180)*AA9,IF($E9<$Y9,0,COS($G9*PI()/180)*AA9*$E9*2.4/$F9))) -> 0 | AH9: 1 | AI9: =INDEX(AF$11:AF$16,AH9) -> None | AJ9: 1 | AK9: 3 | AL9: 2 | AM9: 1 | AN9: 1 | AO9: 1 | AP9: 2 | AQ9: 2 | AR9: 5 | AS9: 1 | AT9: 1 | AU9: 1 | AV9: 1 | AW9: 1 | AX9: 1 | AY9: 2 | AZ9: 1 | BA9: 1 | BB9: 1 | BC9: 1 | BD9: 1 | BE9: 1 | BF9: 1 | BG9: 7 | BH9: 1 | BI9: 1 | BJ9: 1 | BK9: 1 | BL9: 1 | BM9: 1 | BN9: 4 | BO9: 1 | BP9: 5 | BQ9: 2 | BR9: 3 | BS9: 1 | BT9: 1 | BU9: 1 | BV9: 3 | BW9: 1 | BX9: 7 | BY9: 1
B10: L3 | E10: 1 | F10: 2.4 | G10: 0 | H10: =AC10 -> 0 | I10: =AD10 -> 0 | J10: =IF(E10<Y10,"Insufficient","OK") -> OK | U10: =IF(K20=0,0,1) -> 0 | V10: =IF($AH10<2,0,Y10) -> 0 | W10: =INDEX(INDIRECT($AI10),$AL$9+1,W$4) -> None | X10: =INDEX(INDIRECT($AI10),$AL$9+1,X$4) -> None | Y10: =INDEX(INDIRECT($AI10),$AL$9+1,Y$4) -> 0 | Z10: =INDEX(INDIRECT($AI10),$AL$9+1,Z$4) -> 0 | AA10: =INDEX(INDIRECT($AI10),$AL$9+1,AA$4) -> 0 | AB10: =INDEX(INDIRECT($AI10),$AL$9+1,AB$4) -> 0 | AC10: =IF($AH10<2,0,IF($AH10=2,COS($G10*PI()/180)*Z10,IF($E10<$Y10,0,COS($G10*PI()/180)*Z10*E10*2.4/$F10))) -> 0 | AD10: =IF($AH10<2,0,IF($AH10=2,COS($G10*PI()/180)*AA10,IF($E10<$Y10,0,COS($G10*PI()/180)*AA10*$E10*2.4/$F10))) -> 0 | AH10: 1 | AI10: =INDEX(AF$11:AF$16,AH10) -> None | AJ10: T1 | AK10: T2 | AL10: T3 | AM10: T4 | AN10: T5 | AO10: T6 | AP10: U1 | AQ10: U2 | AR10: U3 | AS10: U4 | AT10: U5 | AU10: U6 | AV10: V1 | AW10: V2 | AX10: V3 | AY10: V4 | AZ10: V5 | BA10: V6 | BB10: W1 | BC10: W2 | BD10: W3 | BE10: W4 | BF10: W5 | BG10: W6 | BH10: X1 | BI10: X2 | BJ10: X3 | BK10: X4 | BL10: X5 | BM10: X6 | BN10: Y1 | BO10: Y2 | BP10: Y3 | BQ10: Y4 | BR10: Y5 | BS10: Y6 | BT10: Z1 | BU10: Z2 | BV10: Z3 | BW10: Z4 | BX10: Z5 | BY10: Z6
B11: L4 | E11: 1 | F11: 2.4 | G11: 0 | H11: =AC11 -> 0 | I11: =AD11 -> 0 | J11: =IF(E11<Y11,"Insufficient","OK") -> OK | O11: =IF(K8=0,"",IF(N8<=K8,"OK if external bracing line", "NG if external bracing line")) | U11: =IF(K26=0,0,1) -> 1 | V11: =IF($AH11<2,0,Y11) -> 0 | W11: =INDEX(INDIRECT($AI11),$AM$9+1,W$4) -> None | X11: =INDEX(INDIRECT($AI11),$AM$9+1,X$4) -> None | Y11: =INDEX(INDIRECT($AI11),$AM$9+1,Y$4) -> 0 | Z11: =INDEX(INDIRECT($AI11),$AM$9+1,Z$4) -> 0 | AA11: =INDEX(INDIRECT($AI11),$AM$9+1,AA$4) -> 0 | AB11: =INDEX(INDIRECT($AI11),$AM$9+1,AB$4) -> 0 | AC11: =IF($AH11<2,0,IF($AH11=2,COS($G11*PI()/180)*Z11,IF($E11<$Y11,0,COS($G11*PI()/180)*Z11*E11*2.4/$F11))) -> 0 | AD11: =IF($AH11<2,0,IF($AH11=2,COS($G11*PI()/180)*AA11,IF($E11<$Y11,0,COS($G11*PI()/180)*AA11*$E11*2.4/$F11))) -> 0 | AE11: 1 | AF11: None | AG11: 2 | AH11: 1 | AI11: =INDEX(AF$11:AF$16,AH11) -> None | AJ11: =IF(INDEX(INDIRECT(AJ$7),$AG11,2)="","",INDEX(INDIRECT(AJ$7),$AG11,2)) -> None | AK11: =IF(INDEX(INDIRECT(AK$7),$AG11,2)="","",INDEX(INDIRECT(AK$7),$AG11,2)) -> None | AL11: =IF(INDEX(INDIRECT(AL$7),$AG11,2)="","",INDEX(INDIRECT(AL$7),$AG11,2)) -> None | AM11: =IF(INDEX(INDIRECT(AM$7),$AG11,2)="","",INDEX(INDIRECT(AM$7),$AG11,2)) -> None | AN11: =IF(INDEX(INDIRECT(AN$7),$AG11,2)="","",INDEX(INDIRECT(AN$7),$AG11,2)) -> None | AO11: =IF(INDEX(INDIRECT(AO$7),$AG11,2)="","",INDEX(INDIRECT(AO$7),$AG11,2)) -> None | AP11: =IF(INDEX(INDIRECT(AP$7),$AG11,2)="","",INDEX(INDIRECT(AP$7),$AG11,2)) -> None | AQ11: =IF(INDEX(INDIRECT(AQ$7),$AG11,2)="","",INDEX(INDIRECT(AQ$7),$AG11,2)) -> None | ... BY11: =IF(INDEX(INDIRECT(BY$7),$AG11,2)="","",INDEX(INDIRECT(BY$7),$AG11,2)) -> None
B12: L5 | E12: 1 | F12: 2.4 | G12: 0 | H12: =AC12 -> 0 | I12: =AD12 -> 0 | J12: =IF(E12<Y12,"Insufficient","OK") -> OK | U12: =IF(K32=0,0,1) -> 0 | V12: =IF($AH12<2,0,Y12) -> 0 | W12: =INDEX(INDIRECT($AI12),$AN$9+1,W$4) -> None | X12: =INDEX(INDIRECT($AI12),$AN$9+1,X$4) -> None | Y12: =INDEX(INDIRECT($AI12),$AN$9+1,Y$4) -> 0 | Z12: =INDEX(INDIRECT($AI12),$AN$9+1,Z$4) -> 0 | AA12: =INDEX(INDIRECT($AI12),$AN$9+1,AA$4) -> 0 | AB12: =INDEX(INDIRECT($AI12),$AN$9+1,AB$4) -> 0 | AC12: =IF($AH12<2,0,IF($AH12=2,COS($G12*PI()/180)*Z12,IF($E12<$Y12,0,COS($G12*PI()/180)*Z12*E12*2.4/$F12))) -> 0 | AD12: =IF($AH12<2,0,IF($AH12=2,COS($G12*PI()/180)*AA12,IF($E12<$Y12,0,COS($G12*PI()/180)*AA12*$E12*2.4/$F12))) -> 0 | AE12: 2 | AF12: Gamma | AG12: 3 | AH12: 1 | AI12: =INDEX(AF$11:AF$16,AH12) -> None | AJ12: =IF(INDEX(INDIRECT(AJ$7),$AG12,2)="","",INDEX(INDIRECT(AJ$7),$AG12,2)) -> M1 (0.75-1.5m) | AK12: =IF(INDEX(INDIRECT(AK$7),$AG12,2)="","",INDEX(INDIRECT(AK$7),$AG12,2)) -> None | AL12: =IF(INDEX(INDIRECT(AL$7),$AG12,2)="","",INDEX(INDIRECT(AL$7),$AG12,2)) -> None | AM12: =IF(INDEX(INDIRECT(AM$7),$AG12,2)="","",INDEX(INDIRECT(AM$7),$AG12,2)) -> None | AN12: =IF(INDEX(INDIRECT(AN$7),$AG12,2)="","",INDEX(INDIRECT(AN$7),$AG12,2)) -> None | AO12: =IF(INDEX(INDIRECT(AO$7),$AG12,2)="","",INDEX(INDIRECT(AO$7),$AG12,2)) -> None | AP12: =IF(INDEX(INDIRECT(AP$7),$AG12,2)="","",INDEX(INDIRECT(AP$7),$AG12,2)) -> None | AQ12: =IF(INDEX(INDIRECT(AQ$7),$AG12,2)="","",INDEX(INDIRECT(AQ$7),$AG12,2)) -> None | ... BY12: =IF(INDEX(INDIRECT(BY$7),$AG12,2)="","",INDEX(INDIRECT(BY$7),$AG12,2)) -> None
B13: L6 | E13: 1 | F13: 2.4 | G13: 0 | H13: =AC13 -> 0 | I13: =AD13 -> 0 | J13: =IF(E13<Y13,"Insufficient","OK") -> OK | U13: =IF(K38=0,0,1) -> 1 | V13: =IF($AH13<2,0,Y13) -> 0 | W13: =INDEX(INDIRECT($AI13),$AO$9+1,W$4) -> None | X13: =INDEX(INDIRECT($AI13),$AO$9+1,X$4) -> None | Y13: =INDEX(INDIRECT($AI13),$AO$9+1,Y$4) -> 0 | Z13: =INDEX(INDIRECT($AI13),$AO$9+1,Z$4) -> 0 | AA13: =INDEX(INDIRECT($AI13),$AO$9+1,AA$4) -> 0 | AB13: =INDEX(INDIRECT($AI13),$AO$9+1,AB$4) -> 0 | AC13: =IF($AH13<2,0,IF($AH13=2,COS($G13*PI()/180)*Z13,IF($E13<$Y13,0,COS($G13*PI()/180)*Z13*E13*2.4/$F13))) -> 0 | AD13: =IF($AH13<2,0,IF($AH13=2,COS($G13*PI()/180)*AA13,IF($E13<$Y13,0,COS($G13*PI()/180)*AA13*$E13*2.4/$F13))) -> 0 | AE13: 3 | AF13: UserDefined | AG13: 4 | AH13: 1 | AI13: =INDEX(AF$11:AF$16,AH13) -> None | AJ13: =IF(INDEX(INDIRECT(AJ$7),$AG13,2)="","",INDEX(INDIRECT(AJ$7),$AG13,2)) -> M2 (1.5-3.0m) | AK13: =IF(INDEX(INDIRECT(AK$7),$AG13,2)="","",INDEX(INDIRECT(AK$7),$AG13,2)) -> None | AL13: =IF(INDEX(INDIRECT(AL$7),$AG13,2)="","",INDEX(INDIRECT(AL$7),$AG13,2)) -> None | AM13: =IF(INDEX(INDIRECT(AM$7),$AG13,2)="","",INDEX(INDIRECT(AM$7),$AG13,2)) -> None | AN13: =IF(INDEX(INDIRECT(AN$7),$AG13,2)="","",INDEX(INDIRECT(AN$7),$AG13,2)) -> None | AO13: =IF(INDEX(INDIRECT(AO$7),$AG13,2)="","",INDEX(INDIRECT(AO$7),$AG13,2)) -> None | AP13: =IF(INDEX(INDIRECT(AP$7),$AG13,2)="","",INDEX(INDIRECT(AP$7),$AG13,2)) -> None | AQ13: =IF(INDEX(INDIRECT(AQ$7),$AG13,2)="","",INDEX(INDIRECT(AQ$7),$AG13,2)) -> None | ... BY13: =IF(INDEX(INDIRECT(BY$7),$AG13,2)="","",INDEX(INDIRECT(BY$7),$AG13,2)) -> None
A14: M | B14: M1 | E14: 1 | F14: 2.4 | G14: 0 | H14: =AC14 -> 0 | I14: =AD14 -> 0 | J14: =IF(E14<Y14,"Insufficient","OK") -> OK | K14: =MIN(SUM(H14:H19),SUM(I14:I19)) -> 0 | L14: 0 | M14: =IF(K14=0,"",MAX(100,0.5*MAX(H$3,I$3)/U$15)) | N14: =IF(K14=0,"",MAX(M14,L14*15)) | O14: =IF(K14=0,"",IF(M14<=K14,"OK if internal bracing line", "NG if internal bracing line")) | U14: =IF(K44=0,0,1) -> 1 | V14: =IF($AH14<2,0,Y14) -> 0 | W14: =INDEX(INDIRECT($AI14),$AP$9+1,W$4) -> None | X14: =INDEX(INDIRECT($AI14),$AP$9+1,X$4) -> None | Y14: =INDEX(INDIRECT($AI14),$AP$9+1,Y$4) -> 0 | Z14: =INDEX(INDIRECT($AI14),$AP$9+1,Z$4) -> 0 | AA14: =INDEX(INDIRECT($AI14),$AP$9+1,AA$4) -> 0 | AB14: =INDEX(INDIRECT($AI14),$AP$9+1,AB$4) -> 0 | AC14: =IF($AH14<2,0,IF($AH14=2,COS($G14*PI()/180)*Z14,IF($E14<$Y14,0,COS($G14*PI()/180)*Z14*E14*2.4/$F14))) -> 0 | AD14: =IF($AH14<2,0,IF($AH14=2,COS($G14*PI()/180)*AA14,IF($E14<$Y14,0,COS($G14*PI()/180)*AA14*$E14*2.4/$F14))) -> 0 | AE14: 4 | AF14: Plasterboard | AG14: 5 | AH14: 1 | AI14: =INDEX(AF$11:AF$16,AH14) -> None | AJ14: =IF(INDEX(INDIRECT(AJ$7),$AG14,2)="","",INDEX(INDIRECT(AJ$7),$AG14,2)) -> M3 (3.0-4.5m) | AK14: =IF(INDEX(INDIRECT(AK$7),$AG14,2)="","",INDEX(INDIRECT(AK$7),$AG14,2)) -> None | AL14: =IF(INDEX(INDIRECT(AL$7),$AG14,2)="","",INDEX(INDIRECT(AL$7),$AG14,2)) -> None | AM14: =IF(INDEX(INDIRECT(AM$7),$AG14,2)="","",INDEX(INDIRECT(AM$7),$AG14,2)) -> None | AN14: =IF(INDEX(INDIRECT(AN$7),$AG14,2)="","",INDEX(INDIRECT(AN$7),$AG14,2)) -> None | AO14: =IF(INDEX(INDIRECT(AO$7),$AG14,2)="","",INDEX(INDIRECT(AO$7),$AG14,2)) -> None | AP14: =IF(INDEX(INDIRECT(AP$7),$AG14,2)="","",INDEX(INDIRECT(AP$7),$AG14,2)) -> None | AQ14: =IF(INDEX(INDIRECT(AQ$7),$AG14,2)="","",INDEX(INDIRECT(AQ$7),$AG14,2)) -> None | ... BY14: =IF(INDEX(INDIRECT(BY$7),$AG14,2)="","",INDEX(INDIRECT(BY$7),$AG14,2)) -> None
B15: M2 | E15: 1 | F15: 2.4 | G15: 0 | H15: =AC15 -> 0 | I15: =AD15 -> 0 | J15: =IF(E15<Y15,"Insufficient","OK") -> OK | U15: =IF(SUM(U8:U14)=0,1,SUM(U8:U14)) -> 3 | V15: =IF($AH15<2,0,Y15) -> 0 | W15: =INDEX(INDIRECT($AI15),$AQ$9+1,W$4) -> None | X15: =INDEX(INDIRECT($AI15),$AQ$9+1,X$4) -> None | Y15: =INDEX(INDIRECT($AI15),$AQ$9+1,Y$4) -> 0 | Z15: =INDEX(INDIRECT($AI15),$AQ$9+1,Z$4) -> 0 | AA15: =INDEX(INDIRECT($AI15),$AQ$9+1,AA$4) -> 0 | AB15: =INDEX(INDIRECT($AI15),$AQ$9+1,AB$4) -> 0 | AC15: =IF($AH15<2,0,IF($AH15=2,COS($G15*PI()/180)*Z15,IF($E15<$Y15,0,COS($G15*PI()/180)*Z15*E15*2.4/$F15))) -> 0 | AD15: =IF($AH15<2,0,IF($AH15=2,COS($G15*PI()/180)*AA15,IF($E15<$Y15,0,COS($G15*PI()/180)*AA15*$E15*2.4/$F15))) -> 0 | AE15: 5 | AF15: Plywood | AG15: 6 | AH15: 1 | AI15: =INDEX(AF$11:AF$16,AH15) -> None | AJ15: =IF(INDEX(INDIRECT(AJ$7),$AG15,2)="","",INDEX(INDIRECT(AJ$7),$AG15,2)) -> M4 (˃ 4.5m) | AK15: =IF(INDEX(INDIRECT(AK$7),$AG15,2)="","",INDEX(INDIRECT(AK$7),$AG15,2)) -> None | AL15: =IF(INDEX(INDIRECT(AL$7),$AG15,2)="","",INDEX(INDIRECT(AL$7),$AG15,2)) -> None | AM15: =IF(INDEX(INDIRECT(AM$7),$AG15,2)="","",INDEX(INDIRECT(AM$7),$AG15,2)) -> None | AN15: =IF(INDEX(INDIRECT(AN$7),$AG15,2)="","",INDEX(INDIRECT(AN$7),$AG15,2)) -> None | AO15: =IF(INDEX(INDIRECT(AO$7),$AG15,2)="","",INDEX(INDIRECT(AO$7),$AG15,2)) -> None | AP15: =IF(INDEX(INDIRECT(AP$7),$AG15,2)="","",INDEX(INDIRECT(AP$7),$AG15,2)) -> None | AQ15: =IF(INDEX(INDIRECT(AQ$7),$AG15,2)="","",INDEX(INDIRECT(AQ$7),$AG15,2)) -> None | ... BY15: =IF(INDEX(INDIRECT(BY$7),$AG15,2)="","",INDEX(INDIRECT(BY$7),$AG15,2)) -> None
B16: M3 | E16: 1 | F16: 2.4 | G16: 0 | H16: =AC16 -> 0 | I16: =AD16 -> 0 | J16: =IF(E16<Y16,"Insufficient","OK") -> OK | V16: =IF($AH16<2,0,Y16) -> 0 | W16: =INDEX(INDIRECT($AI16),$AR$9+1,W$4) -> None | X16: =INDEX(INDIRECT($AI16),$AR$9+1,X$4) -> None | Y16: =INDEX(INDIRECT($AI16),$AR$9+1,Y$4) -> 0 | Z16: =INDEX(INDIRECT($AI16),$AR$9+1,Z$4) -> 0 | AA16: =INDEX(INDIRECT($AI16),$AR$9+1,AA$4) -> 0 | AB16: =INDEX(INDIRECT($AI16),$AR$9+1,AB$4) -> 0 | AC16: =IF($AH16<2,0,IF($AH16=2,COS($G16*PI()/180)*Z16,IF($E16<$Y16,0,COS($G16*PI()/180)*Z16*E16*2.4/$F16))) -> 0 | AD16: =IF($AH16<2,0,IF($AH16=2,COS($G16*PI()/180)*AA16,IF($E16<$Y16,0,COS($G16*PI()/180)*AA16*$E16*2.4/$F16))) -> 0 | AE16: 6 | AF16: Foundations | AG16: 7 | AH16: 1 | AI16: =INDEX(AF$11:AF$16,AH16) -> None | AJ16: =IF(INDEX(INDIRECT(AJ$7),$AG16,2)="","",INDEX(INDIRECT(AJ$7),$AG16,2)) | AK16: =IF(INDEX(INDIRECT(AK$7),$AG16,2)="","",INDEX(INDIRECT(AK$7),$AG16,2)) -> None | AL16: =IF(INDEX(INDIRECT(AL$7),$AG16,2)="","",INDEX(INDIRECT(AL$7),$AG16,2)) -> None | AM16: =IF(INDEX(INDIRECT(AM$7),$AG16,2)="","",INDEX(INDIRECT(AM$7),$AG16,2)) -> None | AN16: =IF(INDEX(INDIRECT(AN$7),$AG16,2)="","",INDEX(INDIRECT(AN$7),$AG16,2)) -> None | AO16: =IF(INDEX(INDIRECT(AO$7),$AG16,2)="","",INDEX(INDIRECT(AO$7),$AG16,2)) -> None | AP16: =IF(INDEX(INDIRECT(AP$7),$AG16,2)="","",INDEX(INDIRECT(AP$7),$AG16,2)) -> None | AQ16: =IF(INDEX(INDIRECT(AQ$7),$AG16,2)="","",INDEX(INDIRECT(AQ$7),$AG16,2)) -> None | ... BY16: =IF(INDEX(INDIRECT(BY$7),$AG16,2)="","",INDEX(INDIRECT(BY$7),$AG16,2)) -> None
B17: M4 | E17: 1 | F17: 2.4 | G17: 0 | H17: =AC17 -> 0 | I17: =AD17 -> 0 | J17: =IF(E17<Y17,"Insufficient","OK") -> OK | O17: =IF(K14=0,"",IF(N14<=K14,"OK if external bracing line", "NG if external bracing line")) | V17: =IF($AH17<2,0,Y17) -> 0 | W17: =INDEX(INDIRECT($AI17),$AS$9+1,W$4) -> None | X17: =INDEX(INDIRECT($AI17),$AS$9+1,X$4) -> None | Y17: =INDEX(INDIRECT($AI17),$AS$9+1,Y$4) -> 0 | Z17: =INDEX(INDIRECT($AI17),$AS$9+1,Z$4) -> 0 | AA17: =INDEX(INDIRECT($AI17),$AS$9+1,AA$4) -> 0 | AB17: =INDEX(INDIRECT($AI17),$AS$9+1,AB$4) -> 0 | AC17: =IF($AH17<2,0,IF($AH17=2,COS($G17*PI()/180)*Z17,IF($E17<$Y17,0,COS($G17*PI()/180)*Z17*E17*2.4/$F17))) -> 0 | AD17: =IF($AH17<2,0,IF($AH17=2,COS($G17*PI()/180)*AA17,IF($E17<$Y17,0,COS($G17*PI()/180)*AA17*$E17*2.4/$F17))) -> 0 | AG17: 8 | AH17: 1 | AI17: =INDEX(AF$11:AF$16,AH17) -> None | AJ17: =IF(INDEX(INDIRECT(AJ$7),$AG17,2)="","",INDEX(INDIRECT(AJ$7),$AG17,2)) | AK17: =IF(INDEX(INDIRECT(AK$7),$AG17,2)="","",INDEX(INDIRECT(AK$7),$AG17,2)) -> None | AL17: =IF(INDEX(INDIRECT(AL$7),$AG17,2)="","",INDEX(INDIRECT(AL$7),$AG17,2)) -> None | AM17: =IF(INDEX(INDIRECT(AM$7),$AG17,2)="","",INDEX(INDIRECT(AM$7),$AG17,2)) -> None | AN17: =IF(INDEX(INDIRECT(AN$7),$AG17,2)="","",INDEX(INDIRECT(AN$7),$AG17,2)) -> None | AO17: =IF(INDEX(INDIRECT(AO$7),$AG17,2)="","",INDEX(INDIRECT(AO$7),$AG17,2)) -> None | AP17: =IF(INDEX(INDIRECT(AP$7),$AG17,2)="","",INDEX(INDIRECT(AP$7),$AG17,2)) -> None | AQ17: =IF(INDEX(INDIRECT(AQ$7),$AG17,2)="","",INDEX(INDIRECT(AQ$7),$AG17,2)) -> None | ... BY17: =IF(INDEX(INDIRECT(BY$7),$AG17,2)="","",INDEX(INDIRECT(BY$7),$AG17,2)) -> None
B18: M5 | E18: 1 | F18: 2.4 | G18: 0 | H18: =AC18 -> 0 | I18: =AD18 -> 0 | J18: =IF(E18<Y18,"Insufficient","OK") -> OK | V18: =IF($AH18<2,0,Y18) -> 0 | W18: =INDEX(INDIRECT($AI18),$AT$9+1,W$4) -> None | X18: =INDEX(INDIRECT($AI18),$AT$9+1,X$4) -> None | Y18: =INDEX(INDIRECT($AI18),$AT$9+1,Y$4) -> 0 | Z18: =INDEX(INDIRECT($AI18),$AT$9+1,Z$4) -> 0 | AA18: =INDEX(INDIRECT($AI18),$AT$9+1,AA$4) -> 0 | AB18: =INDEX(INDIRECT($AI18),$AT$9+1,AB$4) -> 0 | AC18: =IF($AH18<2,0,IF($AH18=2,COS($G18*PI()/180)*Z18,IF($E18<$Y18,0,COS($G18*PI()/180)*Z18*E18*2.4/$F18))) -> 0 | AD18: =IF($AH18<2,0,IF($AH18=2,COS($G18*PI()/180)*AA18,IF($E18<$Y18,0,COS($G18*PI()/180)*AA18*$E18*2.4/$F18))) -> 0 | AG18: 9 | AH18: 1 | AI18: =INDEX(AF$11:AF$16,AH18) -> None | AJ18: =IF(INDEX(INDIRECT(AJ$7),$AG18,2)="","",INDEX(INDIRECT(AJ$7),$AG18,2)) | AK18: =IF(INDEX(INDIRECT(AK$7),$AG18,2)="","",INDEX(INDIRECT(AK$7),$AG18,2)) | AL18: =IF(INDEX(INDIRECT(AL$7),$AG18,2)="","",INDEX(INDIRECT(AL$7),$AG18,2)) | AM18: =IF(INDEX(INDIRECT(AM$7),$AG18,2)="","",INDEX(INDIRECT(AM$7),$AG18,2)) | AN18: =IF(INDEX(INDIRECT(AN$7),$AG18,2)="","",INDEX(INDIRECT(AN$7),$AG18,2)) | AO18: =IF(INDEX(INDIRECT(AO$7),$AG18,2)="","",INDEX(INDIRECT(AO$7),$AG18,2)) | AP18: =IF(INDEX(INDIRECT(AP$7),$AG18,2)="","",INDEX(INDIRECT(AP$7),$AG18,2)) | AQ18: =IF(INDEX(INDIRECT(AQ$7),$AG18,2)="","",INDEX(INDIRECT(AQ$7),$AG18,2)) | ... BY18: =IF(INDEX(INDIRECT(BY$7),$AG18,2)="","",INDEX(INDIRECT(BY$7),$AG18,2))
B19: M6 | E19: 1 | F19: 2.4 | G19: 0 | H19: =AC19 -> 0 | I19: =AD19 -> 0 | J19: =IF(E19<Y19,"Insufficient","OK") -> OK | V19: =IF($AH19<2,0,Y19) -> 0 | W19: =INDEX(INDIRECT($AI19),$AU$9+1,W$4) -> None | X19: =INDEX(INDIRECT($AI19),$AU$9+1,X$4) -> None | Y19: =INDEX(INDIRECT($AI19),$AU$9+1,Y$4) -> 0 | Z19: =INDEX(INDIRECT($AI19),$AU$9+1,Z$4) -> 0 | AA19: =INDEX(INDIRECT($AI19),$AU$9+1,AA$4) -> 0 | AB19: =INDEX(INDIRECT($AI19),$AU$9+1,AB$4) -> 0 | AC19: =IF($AH19<2,0,IF($AH19=2,COS($G19*PI()/180)*Z19,IF($E19<$Y19,0,COS($G19*PI()/180)*Z19*E19*2.4/$F19))) -> 0 | AD19: =IF($AH19<2,0,IF($AH19=2,COS($G19*PI()/180)*AA19,IF($E19<$Y19,0,COS($G19*PI()/180)*AA19*$E19*2.4/$F19))) -> 0 | AG19: 10 | AH19: 1 | AI19: =INDEX(AF$11:AF$16,AH19) -> None | AJ19: =IF(INDEX(INDIRECT(AJ$7),$AG19,2)="","",INDEX(INDIRECT(AJ$7),$AG19,2)) | AK19: =IF(INDEX(INDIRECT(AK$7),$AG19,2)="","",INDEX(INDIRECT(AK$7),$AG19,2)) | AL19: =IF(INDEX(INDIRECT(AL$7),$AG19,2)="","",INDEX(INDIRECT(AL$7),$AG19,2)) | AM19: =IF(INDEX(INDIRECT(AM$7),$AG19,2)="","",INDEX(INDIRECT(AM$7),$AG19,2)) | AN19: =IF(INDEX(INDIRECT(AN$7),$AG19,2)="","",INDEX(INDIRECT(AN$7),$AG19,2)) | AO19: =IF(INDEX(INDIRECT(AO$7),$AG19,2)="","",INDEX(INDIRECT(AO$7),$AG19,2)) | AP19: =IF(INDEX(INDIRECT(AP$7),$AG19,2)="","",INDEX(INDIRECT(AP$7),$AG19,2)) | AQ19: =IF(INDEX(INDIRECT(AQ$7),$AG19,2)="","",INDEX(INDIRECT(AQ$7),$AG19,2)) | ... BY19: =IF(INDEX(INDIRECT(BY$7),$AG19,2)="","",INDEX(INDIRECT(BY$7),$AG19,2))
A20: N | B20: N1 | E20: 1 | F20: 2.4 | G20: 0 | H20: =AC20 -> 0 | I20: =AD20 -> 0 | J20: =IF(E20<Y20,"Insufficient","OK") -> OK | K20: =MIN(SUM(H20:H25),SUM(I20:I25)) -> 0 | L20: 0 | M20: =IF(K20=0,"",MAX(100,0.5*MAX(H$3,I$3)/U$15)) | N20: =IF(K20=0,"",MAX(M20,L20*15)) | O20: =IF(K20=0,"",IF(M20<=K20,"OK if internal bracing line", "NG if internal bracing line")) | V20: =IF($AH20<2,0,Y20) -> 0 | W20: =INDEX(INDIRECT($AI20),$AV$9+1,W$4) -> None | X20: =INDEX(INDIRECT($AI20),$AV$9+1,X$4) -> None | Y20: =INDEX(INDIRECT($AI20),$AV$9+1,Y$4) -> 0 | Z20: =INDEX(INDIRECT($AI20),$AV$9+1,Z$4) -> 0 | AA20: =INDEX(INDIRECT($AI20),$AV$9+1,AA$4) -> 0 | AB20: =INDEX(INDIRECT($AI20),$AV$9+1,AB$4) -> 0 | AC20: =IF($AH20<2,0,IF($AH20=2,COS($G20*PI()/180)*Z20,IF($E20<$Y20,0,COS($G20*PI()/180)*Z20*E20*2.4/$F20))) -> 0 | AD20: =IF($AH20<2,0,IF($AH20=2,COS($G20*PI()/180)*AA20,IF($E20<$Y20,0,COS($G20*PI()/180)*AA20*$E20*2.4/$F20))) -> 0 | AG20: 11 | AH20: 1 | AI20: =INDEX(AF$11:AF$16,AH20) -> None | AJ20: =IF(INDEX(INDIRECT(AJ$7),$AG20,2)="","",INDEX(INDIRECT(AJ$7),$AG20,2)) | AK20: =IF(INDEX(INDIRECT(AK$7),$AG20,2)="","",INDEX(INDIRECT(AK$7),$AG20,2)) | AL20: =IF(INDEX(INDIRECT(AL$7),$AG20,2)="","",INDEX(INDIRECT(AL$7),$AG20,2)) | AM20: =IF(INDEX(INDIRECT(AM$7),$AG20,2)="","",INDEX(INDIRECT(AM$7),$AG20,2)) | AN20: =IF(INDEX(INDIRECT(AN$7),$AG20,2)="","",INDEX(INDIRECT(AN$7),$AG20,2)) | AO20: =IF(INDEX(INDIRECT(AO$7),$AG20,2)="","",INDEX(INDIRECT(AO$7),$AG20,2)) | AP20: =IF(INDEX(INDIRECT(AP$7),$AG20,2)="","",INDEX(INDIRECT(AP$7),$AG20,2)) | AQ20: =IF(INDEX(INDIRECT(AQ$7),$AG20,2)="","",INDEX(INDIRECT(AQ$7),$AG20,2)) | ... BY20: =IF(INDEX(INDIRECT(BY$7),$AG20,2)="","",INDEX(INDIRECT(BY$7),$AG20,2))
B21: N2 | E21: 1 | F21: 2.4 | G21: 0 | H21: =AC21 -> 0 | I21: =AD21 -> 0 | J21: =IF(E21<Y21,"Insufficient","OK") -> OK | V21: =IF($AH21<2,0,Y21) -> 0 | W21: =INDEX(INDIRECT($AI21),$AW$9+1,W$4) -> None | X21: =INDEX(INDIRECT($AI21),$AW$9+1,X$4) -> None | Y21: =INDEX(INDIRECT($AI21),$AW$9+1,Y$4) -> 0 | Z21: =INDEX(INDIRECT($AI21),$AW$9+1,Z$4) -> 0 | AA21: =INDEX(INDIRECT($AI21),$AW$9+1,AA$4) -> 0 | AB21: =INDEX(INDIRECT($AI21),$AW$9+1,AB$4) -> 0 | AC21: =IF($AH21<2,0,IF($AH21=2,COS($G21*PI()/180)*Z21,IF($E21<$Y21,0,COS($G21*PI()/180)*Z21*E21*2.4/$F21))) -> 0 | AD21: =IF($AH21<2,0,IF($AH21=2,COS($G21*PI()/180)*AA21,IF($E21<$Y21,0,COS($G21*PI()/180)*AA21*$E21*2.4/$F21))) -> 0 | AG21: 12 | AH21: 1 | AI21: =INDEX(AF$11:AF$16,AH21) -> None | AJ21: =IF(INDEX(INDIRECT(AJ$7),$AG21,2)="","",INDEX(INDIRECT(AJ$7),$AG21,2)) | AK21: =IF(INDEX(INDIRECT(AK$7),$AG21,2)="","",INDEX(INDIRECT(AK$7),$AG21,2)) | AL21: =IF(INDEX(INDIRECT(AL$7),$AG21,2)="","",INDEX(INDIRECT(AL$7),$AG21,2)) | AM21: =IF(INDEX(INDIRECT(AM$7),$AG21,2)="","",INDEX(INDIRECT(AM$7),$AG21,2)) | AN21: =IF(INDEX(INDIRECT(AN$7),$AG21,2)="","",INDEX(INDIRECT(AN$7),$AG21,2)) | AO21: =IF(INDEX(INDIRECT(AO$7),$AG21,2)="","",INDEX(INDIRECT(AO$7),$AG21,2)) | AP21: =IF(INDEX(INDIRECT(AP$7),$AG21,2)="","",INDEX(INDIRECT(AP$7),$AG21,2)) | AQ21: =IF(INDEX(INDIRECT(AQ$7),$AG21,2)="","",INDEX(INDIRECT(AQ$7),$AG21,2)) | ... BY21: =IF(INDEX(INDIRECT(BY$7),$AG21,2)="","",INDEX(INDIRECT(BY$7),$AG21,2))
B22: N3 | E22: 1 | F22: 2.4 | G22: 0 | H22: =AC22 -> 0 | I22: =AD22 -> 0 | J22: =IF(E22<Y22,"Insufficient","OK") -> OK | V22: =IF($AH22<2,0,Y22) -> 0 | W22: =INDEX(INDIRECT($AI22),$AX$9+1,W$4) -> None | X22: =INDEX(INDIRECT($AI22),$AX$9+1,X$4) -> None | Y22: =INDEX(INDIRECT($AI22),$AX$9+1,Y$4) -> 0 | Z22: =INDEX(INDIRECT($AI22),$AX$9+1,Z$4) -> 0 | AA22: =INDEX(INDIRECT($AI22),$AX$9+1,AA$4) -> 0 | AB22: =INDEX(INDIRECT($AI22),$AX$9+1,AB$4) -> 0 | AC22: =IF($AH22<2,0,IF($AH22=2,COS($G22*PI()/180)*Z22,IF($E22<$Y22,0,COS($G22*PI()/180)*Z22*E22*2.4/$F22))) -> 0 | AD22: =IF($AH22<2,0,IF($AH22=2,COS($G22*PI()/180)*AA22,IF($E22<$Y22,0,COS($G22*PI()/180)*AA22*$E22*2.4/$F22))) -> 0 | AG22: 13 | AH22: 1 | AI22: =INDEX(AF$11:AF$16,AH22) -> None | AJ22: =IF(INDEX(INDIRECT(AJ$7),$AG22,2)="","",INDEX(INDIRECT(AJ$7),$AG22,2)) | AK22: =IF(INDEX(INDIRECT(AK$7),$AG22,2)="","",INDEX(INDIRECT(AK$7),$AG22,2)) | AL22: =IF(INDEX(INDIRECT(AL$7),$AG22,2)="","",INDEX(INDIRECT(AL$7),$AG22,2)) | AM22: =IF(INDEX(INDIRECT(AM$7),$AG22,2)="","",INDEX(INDIRECT(AM$7),$AG22,2)) | AN22: =IF(INDEX(INDIRECT(AN$7),$AG22,2)="","",INDEX(INDIRECT(AN$7),$AG22,2)) | AO22: =IF(INDEX(INDIRECT(AO$7),$AG22,2)="","",INDEX(INDIRECT(AO$7),$AG22,2)) | AP22: =IF(INDEX(INDIRECT(AP$7),$AG22,2)="","",INDEX(INDIRECT(AP$7),$AG22,2)) | AQ22: =IF(INDEX(INDIRECT(AQ$7),$AG22,2)="","",INDEX(INDIRECT(AQ$7),$AG22,2)) | ... BY22: =IF(INDEX(INDIRECT(BY$7),$AG22,2)="","",INDEX(INDIRECT(BY$7),$AG22,2))
B23: N4 | E23: 2 | F23: 2.4 | G23: 0 | H23: =AC23 -> 0 | I23: =AD23 -> 0 | J23: =IF(E23<Y23,"Insufficient","OK") -> OK | O23: =IF(K20=0,"",IF(N20<=K20,"OK if external bracing line", "NG if external bracing line")) | V23: =IF($AH23<2,0,Y23) -> 0 | W23: =INDEX(INDIRECT($AI23),$AY$9+1,W$4) -> None | X23: =INDEX(INDIRECT($AI23),$AY$9+1,X$4) -> None | Y23: =INDEX(INDIRECT($AI23),$AY$9+1,Y$4) -> 0 | Z23: =INDEX(INDIRECT($AI23),$AY$9+1,Z$4) -> 0 | AA23: =INDEX(INDIRECT($AI23),$AY$9+1,AA$4) -> 0 | AB23: =INDEX(INDIRECT($AI23),$AY$9+1,AB$4) -> 0 | AC23: =IF($AH23<2,0,IF($AH23=2,COS($G23*PI()/180)*Z23,IF($E23<$Y23,0,COS($G23*PI()/180)*Z23*E23*2.4/$F23))) -> 0 | AD23: =IF($AH23<2,0,IF($AH23=2,COS($G23*PI()/180)*AA23,IF($E23<$Y23,0,COS($G23*PI()/180)*AA23*$E23*2.4/$F23))) -> 0 | AG23: 14 | AH23: 1 | AI23: =INDEX(AF$11:AF$16,AH23) -> None | AJ23: =IF(INDEX(INDIRECT(AJ$7),$AG23,2)="","",INDEX(INDIRECT(AJ$7),$AG23,2)) | AK23: =IF(INDEX(INDIRECT(AK$7),$AG23,2)="","",INDEX(INDIRECT(AK$7),$AG23,2)) | AL23: =IF(INDEX(INDIRECT(AL$7),$AG23,2)="","",INDEX(INDIRECT(AL$7),$AG23,2)) | AM23: =IF(INDEX(INDIRECT(AM$7),$AG23,2)="","",INDEX(INDIRECT(AM$7),$AG23,2)) | AN23: =IF(INDEX(INDIRECT(AN$7),$AG23,2)="","",INDEX(INDIRECT(AN$7),$AG23,2)) | AO23: =IF(INDEX(INDIRECT(AO$7),$AG23,2)="","",INDEX(INDIRECT(AO$7),$AG23,2)) | AP23: =IF(INDEX(INDIRECT(AP$7),$AG23,2)="","",INDEX(INDIRECT(AP$7),$AG23,2)) | AQ23: =IF(INDEX(INDIRECT(AQ$7),$AG23,2)="","",INDEX(INDIRECT(AQ$7),$AG23,2)) | ... BY23: =IF(INDEX(INDIRECT(BY$7),$AG23,2)="","",INDEX(INDIRECT(BY$7),$AG23,2))
B24: N5 | E24: 1 | F24: 2.4 | G24: 0 | H24: =AC24 -> 0 | I24: =AD24 -> 0 | J24: =IF(E24<Y24,"Insufficient","OK") -> OK | V24: =IF($AH24<2,0,Y24) -> 0 | W24: =INDEX(INDIRECT($AI24),$AZ$9+1,W$4) -> None | X24: =INDEX(INDIRECT($AI24),$AZ$9+1,X$4) -> None | Y24: =INDEX(INDIRECT($AI24),$AZ$9+1,Y$4) -> 0 | Z24: =INDEX(INDIRECT($AI24),$AZ$9+1,Z$4) -> 0 | AA24: =INDEX(INDIRECT($AI24),$AZ$9+1,AA$4) -> 0 | AB24: =INDEX(INDIRECT($AI24),$AZ$9+1,AB$4) -> 0 | AC24: =IF($AH24<2,0,IF($AH24=2,COS($G24*PI()/180)*Z24,IF($E24<$Y24,0,COS($G24*PI()/180)*Z24*E24*2.4/$F24))) -> 0 | AD24: =IF($AH24<2,0,IF($AH24=2,COS($G24*PI()/180)*AA24,IF($E24<$Y24,0,COS($G24*PI()/180)*AA24*$E24*2.4/$F24))) -> 0 | AG24: 15 | AH24: 1 | AI24: =INDEX(AF$11:AF$16,AH24) -> None | AJ24: =IF(INDEX(INDIRECT(AJ$7),$AG24,2)="","",INDEX(INDIRECT(AJ$7),$AG24,2)) | AK24: =IF(INDEX(INDIRECT(AK$7),$AG24,2)="","",INDEX(INDIRECT(AK$7),$AG24,2)) | AL24: =IF(INDEX(INDIRECT(AL$7),$AG24,2)="","",INDEX(INDIRECT(AL$7),$AG24,2)) | AM24: =IF(INDEX(INDIRECT(AM$7),$AG24,2)="","",INDEX(INDIRECT(AM$7),$AG24,2)) | AN24: =IF(INDEX(INDIRECT(AN$7),$AG24,2)="","",INDEX(INDIRECT(AN$7),$AG24,2)) | AO24: =IF(INDEX(INDIRECT(AO$7),$AG24,2)="","",INDEX(INDIRECT(AO$7),$AG24,2)) | AP24: =IF(INDEX(INDIRECT(AP$7),$AG24,2)="","",INDEX(INDIRECT(AP$7),$AG24,2)) | AQ24: =IF(INDEX(INDIRECT(AQ$7),$AG24,2)="","",INDEX(INDIRECT(AQ$7),$AG24,2)) | ... BY24: =IF(INDEX(INDIRECT(BY$7),$AG24,2)="","",INDEX(INDIRECT(BY$7),$AG24,2))
B25: N6 | E25: 1 | F25: 2.4 | G25: 0 | H25: =AC25 -> 0 | I25: =AD25 -> 0 | J25: =IF(E25<Y25,"Insufficient","OK") -> OK | V25: =IF($AH25<2,0,Y25) -> 0 | W25: =INDEX(INDIRECT($AI25),$BA$9+1,W$4) -> None | X25: =INDEX(INDIRECT($AI25),$BA$9+1,X$4) -> None | Y25: =INDEX(INDIRECT($AI25),$BA$9+1,Y$4) -> 0 | Z25: =INDEX(INDIRECT($AI25),$BA$9+1,Z$4) -> 0 | AA25: =INDEX(INDIRECT($AI25),$BA$9+1,AA$4) -> 0 | AB25: =INDEX(INDIRECT($AI25),$BA$9+1,AB$4) -> 0 | AC25: =IF($AH25<2,0,IF($AH25=2,COS($G25*PI()/180)*Z25,IF($E25<$Y25,0,COS($G25*PI()/180)*Z25*E25*2.4/$F25))) -> 0 | AD25: =IF($AH25<2,0,IF($AH25=2,COS($G25*PI()/180)*AA25,IF($E25<$Y25,0,COS($G25*PI()/180)*AA25*$E25*2.4/$F25))) -> 0 | AG25: 16 | AH25: 1 | AI25: =INDEX(AF$11:AF$16,AH25) -> None | AJ25: =IF(INDEX(INDIRECT(AJ$7),$AG25,2)="","",INDEX(INDIRECT(AJ$7),$AG25,2)) | AK25: =IF(INDEX(INDIRECT(AK$7),$AG25,2)="","",INDEX(INDIRECT(AK$7),$AG25,2)) | AL25: =IF(INDEX(INDIRECT(AL$7),$AG25,2)="","",INDEX(INDIRECT(AL$7),$AG25,2)) | AM25: =IF(INDEX(INDIRECT(AM$7),$AG25,2)="","",INDEX(INDIRECT(AM$7),$AG25,2)) | AN25: =IF(INDEX(INDIRECT(AN$7),$AG25,2)="","",INDEX(INDIRECT(AN$7),$AG25,2)) | AO25: =IF(INDEX(INDIRECT(AO$7),$AG25,2)="","",INDEX(INDIRECT(AO$7),$AG25,2)) | AP25: =IF(INDEX(INDIRECT(AP$7),$AG25,2)="","",INDEX(INDIRECT(AP$7),$AG25,2)) | AQ25: =IF(INDEX(INDIRECT(AQ$7),$AG25,2)="","",INDEX(INDIRECT(AQ$7),$AG25,2)) | ... BY25: =IF(INDEX(INDIRECT(BY$7),$AG25,2)="","",INDEX(INDIRECT(BY$7),$AG25,2))
A26: O | B26: O1 | E26: 1 | F26: 2.4 | G26: 0 | H26: =AC26 -> 0 | I26: =AD26 -> 0 | J26: =IF(E26<Y26,"Insufficient","OK") -> OK | K26: =MIN(SUM(H26:H31),SUM(I26:I31)) -> 90 | L26: 0 | M26: =IF(K26=0,"",MAX(100,0.5*MAX(H$3,I$3)/U$15)) -> 100 | N26: =IF(K26=0,"",MAX(M26,L26*15)) -> 100 | O26: =IF(K26=0,"",IF(M26<=K26,"OK if internal bracing line", "NG if internal bracing line")) -> NG if internal bracing line | V26: =IF($AH26<2,0,Y26) -> 0 | W26: =INDEX(INDIRECT($AI26),$BB$9+1,W$4) -> None | X26: =INDEX(INDIRECT($AI26),$BB$9+1,X$4) -> None | Y26: =INDEX(INDIRECT($AI26),$BB$9+1,Y$4) -> 0 | Z26: =INDEX(INDIRECT($AI26),$BB$9+1,Z$4) -> 0 | AA26: =INDEX(INDIRECT($AI26),$BB$9+1,AA$4) -> 0 | AB26: =INDEX(INDIRECT($AI26),$BB$9+1,AB$4) -> 0 | AC26: =IF($AH26<2,0,IF($AH26=2,COS($G26*PI()/180)*Z26,IF($E26<$Y26,0,COS($G26*PI()/180)*Z26*E26*2.4/$F26))) -> 0 | AD26: =IF($AH26<2,0,IF($AH26=2,COS($G26*PI()/180)*AA26,IF($E26<$Y26,0,COS($G26*PI()/180)*AA26*$E26*2.4/$F26))) -> 0 | AG26: 17 | AH26: 1 | AI26: =INDEX(AF$11:AF$16,AH26) -> None | AJ26: =IF(INDEX(INDIRECT(AJ$7),$AG26,2)="","",INDEX(INDIRECT(AJ$7),$AG26,2)) | AK26: =IF(INDEX(INDIRECT(AK$7),$AG26,2)="","",INDEX(INDIRECT(AK$7),$AG26,2)) | AL26: =IF(INDEX(INDIRECT(AL$7),$AG26,2)="","",INDEX(INDIRECT(AL$7),$AG26,2)) | AM26: =IF(INDEX(INDIRECT(AM$7),$AG26,2)="","",INDEX(INDIRECT(AM$7),$AG26,2)) | AN26: =IF(INDEX(INDIRECT(AN$7),$AG26,2)="","",INDEX(INDIRECT(AN$7),$AG26,2)) | AO26: =IF(INDEX(INDIRECT(AO$7),$AG26,2)="","",INDEX(INDIRECT(AO$7),$AG26,2)) | AP26: =IF(INDEX(INDIRECT(AP$7),$AG26,2)="","",INDEX(INDIRECT(AP$7),$AG26,2)) | AQ26: =IF(INDEX(INDIRECT(AQ$7),$AG26,2)="","",INDEX(INDIRECT(AQ$7),$AG26,2)) | ... BY26: =IF(INDEX(INDIRECT(BY$7),$AG26,2)="","",INDEX(INDIRECT(BY$7),$AG26,2))
B27: O2 | E27: 1 | F27: 2.4 | G27: 0 | H27: =AC27 -> 0 | I27: =AD27 -> 0 | J27: =IF(E27<Y27,"Insufficient","OK") -> OK | V27: =IF($AH27<2,0,Y27) -> 0 | W27: =INDEX(INDIRECT($AI27),$BC$9+1,W$4) -> None | X27: =INDEX(INDIRECT($AI27),$BC$9+1,X$4) -> None | Y27: =INDEX(INDIRECT($AI27),$BC$9+1,Y$4) -> 0 | Z27: =INDEX(INDIRECT($AI27),$BC$9+1,Z$4) -> 0 | AA27: =INDEX(INDIRECT($AI27),$BC$9+1,AA$4) -> 0 | AB27: =INDEX(INDIRECT($AI27),$BC$9+1,AB$4) -> 0 | AC27: =IF($AH27<2,0,IF($AH27=2,COS($G27*PI()/180)*Z27,IF($E27<$Y27,0,COS($G27*PI()/180)*Z27*E27*2.4/$F27))) -> 0 | AD27: =IF($AH27<2,0,IF($AH27=2,COS($G27*PI()/180)*AA27,IF($E27<$Y27,0,COS($G27*PI()/180)*AA27*$E27*2.4/$F27))) -> 0 | AG27: 18 | AH27: 1 | AI27: =INDEX(AF$11:AF$16,AH27) -> None | AJ27: =IF(INDEX(INDIRECT(AJ$7),$AG27,2)="","",INDEX(INDIRECT(AJ$7),$AG27,2)) | AK27: =IF(INDEX(INDIRECT(AK$7),$AG27,2)="","",INDEX(INDIRECT(AK$7),$AG27,2)) | AL27: =IF(INDEX(INDIRECT(AL$7),$AG27,2)="","",INDEX(INDIRECT(AL$7),$AG27,2)) | AM27: =IF(INDEX(INDIRECT(AM$7),$AG27,2)="","",INDEX(INDIRECT(AM$7),$AG27,2)) | AN27: =IF(INDEX(INDIRECT(AN$7),$AG27,2)="","",INDEX(INDIRECT(AN$7),$AG27,2)) | AO27: =IF(INDEX(INDIRECT(AO$7),$AG27,2)="","",INDEX(INDIRECT(AO$7),$AG27,2)) | AP27: =IF(INDEX(INDIRECT(AP$7),$AG27,2)="","",INDEX(INDIRECT(AP$7),$AG27,2)) | AQ27: =IF(INDEX(INDIRECT(AQ$7),$AG27,2)="","",INDEX(INDIRECT(AQ$7),$AG27,2)) | ... BY27: =IF(INDEX(INDIRECT(BY$7),$AG27,2)="","",INDEX(INDIRECT(BY$7),$AG27,2))
B28: O3 | E28: 1 | F28: 2.4 | G28: 0 | H28: =AC28 -> 0 | I28: =AD28 -> 0 | J28: =IF(E28<Y28,"Insufficient","OK") -> OK | V28: =IF($AH28<2,0,Y28) -> 0 | W28: =INDEX(INDIRECT($AI28),$BD$9+1,W$4) -> None | X28: =INDEX(INDIRECT($AI28),$BD$9+1,X$4) -> None | Y28: =INDEX(INDIRECT($AI28),$BD$9+1,Y$4) -> 0 | Z28: =INDEX(INDIRECT($AI28),$BD$9+1,Z$4) -> 0 | AA28: =INDEX(INDIRECT($AI28),$BD$9+1,AA$4) -> 0 | AB28: =INDEX(INDIRECT($AI28),$BD$9+1,AB$4) -> 0 | AC28: =IF($AH28<2,0,IF($AH28=2,COS($G28*PI()/180)*Z28,IF($E28<$Y28,0,COS($G28*PI()/180)*Z28*E28*2.4/$F28))) -> 0 | AD28: =IF($AH28<2,0,IF($AH28=2,COS($G28*PI()/180)*AA28,IF($E28<$Y28,0,COS($G28*PI()/180)*AA28*$E28*2.4/$F28))) -> 0 | AG28: 19 | AH28: 1 | AI28: =INDEX(AF$11:AF$16,AH28) -> None | AJ28: =IF(INDEX(INDIRECT(AJ$7),$AG28,2)="","",INDEX(INDIRECT(AJ$7),$AG28,2)) | AK28: =IF(INDEX(INDIRECT(AK$7),$AG28,2)="","",INDEX(INDIRECT(AK$7),$AG28,2)) | AL28: =IF(INDEX(INDIRECT(AL$7),$AG28,2)="","",INDEX(INDIRECT(AL$7),$AG28,2)) | AM28: =IF(INDEX(INDIRECT(AM$7),$AG28,2)="","",INDEX(INDIRECT(AM$7),$AG28,2)) | AN28: =IF(INDEX(INDIRECT(AN$7),$AG28,2)="","",INDEX(INDIRECT(AN$7),$AG28,2)) | AO28: =IF(INDEX(INDIRECT(AO$7),$AG28,2)="","",INDEX(INDIRECT(AO$7),$AG28,2)) | AP28: =IF(INDEX(INDIRECT(AP$7),$AG28,2)="","",INDEX(INDIRECT(AP$7),$AG28,2)) | AQ28: =IF(INDEX(INDIRECT(AQ$7),$AG28,2)="","",INDEX(INDIRECT(AQ$7),$AG28,2)) | ... BY28: =IF(INDEX(INDIRECT(BY$7),$AG28,2)="","",INDEX(INDIRECT(BY$7),$AG28,2))
B29: O4 | E29: 1 | F29: 2.4 | G29: 0 | H29: =AC29 -> 0 | I29: =AD29 -> 0 | J29: =IF(E29<Y29,"Insufficient","OK") -> OK | O29: =IF(K26=0,"",IF(N26<=K26,"OK if external bracing line", "NG if external bracing line")) -> NG if external bracing line | V29: =IF($AH29<2,0,Y29) -> 0 | W29: =INDEX(INDIRECT($AI29),$BE$9+1,W$4) -> None | X29: =INDEX(INDIRECT($AI29),$BE$9+1,X$4) -> None | Y29: =INDEX(INDIRECT($AI29),$BE$9+1,Y$4) -> 0 | Z29: =INDEX(INDIRECT($AI29),$BE$9+1,Z$4) -> 0 | AA29: =INDEX(INDIRECT($AI29),$BE$9+1,AA$4) -> 0 | AB29: =INDEX(INDIRECT($AI29),$BE$9+1,AB$4) -> 0 | AC29: =IF($AH29<2,0,IF($AH29=2,COS($G29*PI()/180)*Z29,IF($E29<$Y29,0,COS($G29*PI()/180)*Z29*E29*2.4/$F29))) -> 0 | AD29: =IF($AH29<2,0,IF($AH29=2,COS($G29*PI()/180)*AA29,IF($E29<$Y29,0,COS($G29*PI()/180)*AA29*$E29*2.4/$F29))) -> 0 | AG29: 20 | AH29: 1 | AI29: =INDEX(AF$11:AF$16,AH29) -> None | AJ29: =IF(INDEX(INDIRECT(AJ$7),$AG29,2)="","",INDEX(INDIRECT(AJ$7),$AG29,2)) | AK29: =IF(INDEX(INDIRECT(AK$7),$AG29,2)="","",INDEX(INDIRECT(AK$7),$AG29,2)) | AL29: =IF(INDEX(INDIRECT(AL$7),$AG29,2)="","",INDEX(INDIRECT(AL$7),$AG29,2)) | AM29: =IF(INDEX(INDIRECT(AM$7),$AG29,2)="","",INDEX(INDIRECT(AM$7),$AG29,2)) | AN29: =IF(INDEX(INDIRECT(AN$7),$AG29,2)="","",INDEX(INDIRECT(AN$7),$AG29,2)) | AO29: =IF(INDEX(INDIRECT(AO$7),$AG29,2)="","",INDEX(INDIRECT(AO$7),$AG29,2)) | AP29: =IF(INDEX(INDIRECT(AP$7),$AG29,2)="","",INDEX(INDIRECT(AP$7),$AG29,2)) | AQ29: =IF(INDEX(INDIRECT(AQ$7),$AG29,2)="","",INDEX(INDIRECT(AQ$7),$AG29,2)) | ... BY29: =IF(INDEX(INDIRECT(BY$7),$AG29,2)="","",INDEX(INDIRECT(BY$7),$AG29,2))
B30: O5 | E30: 1 | F30: 2.4 | G30: 0 | H30: =AC30 -> 0 | I30: =AD30 -> 0 | J30: =IF(E30<Y30,"Insufficient","OK") -> OK | V30: =IF($AH30<2,0,Y30) -> 0 | W30: =INDEX(INDIRECT($AI30),$BF$9+1,W$4) -> None | X30: =INDEX(INDIRECT($AI30),$BF$9+1,X$4) -> None | Y30: =INDEX(INDIRECT($AI30),$BF$9+1,Y$4) -> 0 | Z30: =INDEX(INDIRECT($AI30),$BF$9+1,Z$4) -> 0 | AA30: =INDEX(INDIRECT($AI30),$BF$9+1,AA$4) -> 0 | AB30: =INDEX(INDIRECT($AI30),$BF$9+1,AB$4) -> 0 | AC30: =IF($AH30<2,0,IF($AH30=2,COS($G30*PI()/180)*Z30,IF($E30<$Y30,0,COS($G30*PI()/180)*Z30*E30*2.4/$F30))) -> 0 | AD30: =IF($AH30<2,0,IF($AH30=2,COS($G30*PI()/180)*AA30,IF($E30<$Y30,0,COS($G30*PI()/180)*AA30*$E30*2.4/$F30))) -> 0 | AG30: 21 | AH30: 3 | AI30: =INDEX(AF$11:AF$16,AH30) -> UserDefined | AJ30: =IF(INDEX(INDIRECT(AJ$7),$AG30,2)="","",INDEX(INDIRECT(AJ$7),$AG30,2)) | AK30: =IF(INDEX(INDIRECT(AK$7),$AG30,2)="","",INDEX(INDIRECT(AK$7),$AG30,2)) | AL30: =IF(INDEX(INDIRECT(AL$7),$AG30,2)="","",INDEX(INDIRECT(AL$7),$AG30,2)) | AM30: =IF(INDEX(INDIRECT(AM$7),$AG30,2)="","",INDEX(INDIRECT(AM$7),$AG30,2)) | AN30: =IF(INDEX(INDIRECT(AN$7),$AG30,2)="","",INDEX(INDIRECT(AN$7),$AG30,2)) | AO30: =IF(INDEX(INDIRECT(AO$7),$AG30,2)="","",INDEX(INDIRECT(AO$7),$AG30,2)) | AP30: =IF(INDEX(INDIRECT(AP$7),$AG30,2)="","",INDEX(INDIRECT(AP$7),$AG30,2)) | AQ30: =IF(INDEX(INDIRECT(AQ$7),$AG30,2)="","",INDEX(INDIRECT(AQ$7),$AG30,2)) | ... BY30: =IF(INDEX(INDIRECT(BY$7),$AG30,2)="","",INDEX(INDIRECT(BY$7),$AG30,2))
B31: O6 | E31: 1 | F31: 2.4 | G31: 0 | H31: =AC31 -> 90 | I31: =AD31 -> 110 | J31: =IF(E31<Y31,"Insufficient","OK") -> OK | V31: =IF($AH31<2,0,Y31) -> 0.4 | W31: =INDEX(INDIRECT($AI31),$BG$9+1,W$4) -> USG Boral | X31: =INDEX(INDIRECT($AI31),$BG$9+1,X$4) -> UBMP 0.4-0.6 | Y31: =INDEX(INDIRECT($AI31),$BG$9+1,Y$4) -> 0.4 | Z31: =INDEX(INDIRECT($AI31),$BG$9+1,Z$4) -> 90 | AA31: =INDEX(INDIRECT($AI31),$BG$9+1,AA$4) -> 110 | AB31: =INDEX(INDIRECT($AI31),$BG$9+1,AB$4) -> 0 | AC31: =IF($AH31<2,0,IF($AH31=2,COS($G31*PI()/180)*Z31,IF($E31<$Y31,0,COS($G31*PI()/180)*Z31*E31*2.4/$F31))) -> 90 | AD31: =IF($AH31<2,0,IF($AH31=2,COS($G31*PI()/180)*AA31,IF($E31<$Y31,0,COS($G31*PI()/180)*AA31*$E31*2.4/$F31))) -> 110 | AG31: 22 | AH31: 4 | AI31: =INDEX(AF$11:AF$16,AH31) -> Plasterboard | AJ31: =IF(INDEX(INDIRECT(AJ$7),$AG31,2)="","",INDEX(INDIRECT(AJ$7),$AG31,2)) | AK31: =IF(INDEX(INDIRECT(AK$7),$AG31,2)="","",INDEX(INDIRECT(AK$7),$AG31,2)) | AL31: =IF(INDEX(INDIRECT(AL$7),$AG31,2)="","",INDEX(INDIRECT(AL$7),$AG31,2)) | AM31: =IF(INDEX(INDIRECT(AM$7),$AG31,2)="","",INDEX(INDIRECT(AM$7),$AG31,2)) | AN31: =IF(INDEX(INDIRECT(AN$7),$AG31,2)="","",INDEX(INDIRECT(AN$7),$AG31,2)) | AO31: =IF(INDEX(INDIRECT(AO$7),$AG31,2)="","",INDEX(INDIRECT(AO$7),$AG31,2)) | AP31: =IF(INDEX(INDIRECT(AP$7),$AG31,2)="","",INDEX(INDIRECT(AP$7),$AG31,2)) | AQ31: =IF(INDEX(INDIRECT(AQ$7),$AG31,2)="","",INDEX(INDIRECT(AQ$7),$AG31,2)) | ... BY31: =IF(INDEX(INDIRECT(BY$7),$AG31,2)="","",INDEX(INDIRECT(BY$7),$AG31,2))
A32: P | B32: P1 | E32: 1 | F32: 2.4 | G32: 0 | H32: =AC32 -> 0 | I32: =AD32 -> 0 | J32: =IF(E32<Y32,"Insufficient","OK") -> OK | K32: =MIN(SUM(H32:H37),SUM(I32:I37)) -> 0 | L32: 0 | M32: =IF(K32=0,"",MAX(100,0.5*MAX(H$3,I$3)/U$15)) | N32: =IF(K32=0,"",MAX(M32,L32*15)) | O32: =IF(K32=0,"",IF(M32<=K32,"OK if internal bracing line", "NG if internal bracing line")) | V32: =IF($AH32<2,0,Y32) -> 0 | W32: =INDEX(INDIRECT($AI32),$BH$9+1,W$4) -> None | X32: =INDEX(INDIRECT($AI32),$BH$9+1,X$4) -> None | Y32: =INDEX(INDIRECT($AI32),$BH$9+1,Y$4) -> 0 | Z32: =INDEX(INDIRECT($AI32),$BH$9+1,Z$4) -> 0 | AA32: =INDEX(INDIRECT($AI32),$BH$9+1,AA$4) -> 0 | AB32: =INDEX(INDIRECT($AI32),$BH$9+1,AB$4) -> 0 | AC32: =IF($AH32<2,0,IF($AH32=2,COS($G32*PI()/180)*Z32,IF($E32<$Y32,0,COS($G32*PI()/180)*Z32*E32*2.4/$F32))) -> 0 | AD32: =IF($AH32<2,0,IF($AH32=2,COS($G32*PI()/180)*AA32,IF($E32<$Y32,0,COS($G32*PI()/180)*AA32*$E32*2.4/$F32))) -> 0 | AG32: 23 | AH32: 1 | AI32: =INDEX(AF$11:AF$16,AH32) -> None | AJ32: =IF(INDEX(INDIRECT(AJ$7),$AG32,2)="","",INDEX(INDIRECT(AJ$7),$AG32,2)) | AK32: =IF(INDEX(INDIRECT(AK$7),$AG32,2)="","",INDEX(INDIRECT(AK$7),$AG32,2)) | AL32: =IF(INDEX(INDIRECT(AL$7),$AG32,2)="","",INDEX(INDIRECT(AL$7),$AG32,2)) | AM32: =IF(INDEX(INDIRECT(AM$7),$AG32,2)="","",INDEX(INDIRECT(AM$7),$AG32,2)) | AN32: =IF(INDEX(INDIRECT(AN$7),$AG32,2)="","",INDEX(INDIRECT(AN$7),$AG32,2)) | AO32: =IF(INDEX(INDIRECT(AO$7),$AG32,2)="","",INDEX(INDIRECT(AO$7),$AG32,2)) | AP32: =IF(INDEX(INDIRECT(AP$7),$AG32,2)="","",INDEX(INDIRECT(AP$7),$AG32,2)) | AQ32: =IF(INDEX(INDIRECT(AQ$7),$AG32,2)="","",INDEX(INDIRECT(AQ$7),$AG32,2)) | ... BY32: =IF(INDEX(INDIRECT(BY$7),$AG32,2)="","",INDEX(INDIRECT(BY$7),$AG32,2))
B33: P2 | E33: 1 | F33: 2.4 | G33: 0 | H33: =AC33 -> 0 | I33: =AD33 -> 0 | J33: =IF(E33<Y33,"Insufficient","OK") -> OK | V33: =IF($AH33<2,0,Y33) -> 0 | W33: =INDEX(INDIRECT($AI33),$BI$9+1,W$4) -> None | X33: =INDEX(INDIRECT($AI33),$BI$9+1,X$4) -> None | Y33: =INDEX(INDIRECT($AI33),$BI$9+1,Y$4) -> 0 | Z33: =INDEX(INDIRECT($AI33),$BI$9+1,Z$4) -> 0 | AA33: =INDEX(INDIRECT($AI33),$BI$9+1,AA$4) -> 0 | AB33: =INDEX(INDIRECT($AI33),$BI$9+1,AB$4) -> 0 | AC33: =IF($AH33<2,0,IF($AH33=2,COS($G33*PI()/180)*Z33,IF($E33<$Y33,0,COS($G33*PI()/180)*Z33*E33*2.4/$F33))) -> 0 | AD33: =IF($AH33<2,0,IF($AH33=2,COS($G33*PI()/180)*AA33,IF($E33<$Y33,0,COS($G33*PI()/180)*AA33*$E33*2.4/$F33))) -> 0 | AG33: 24 | AH33: 1 | AI33: =INDEX(AF$11:AF$16,AH33) -> None | AJ33: =IF(INDEX(INDIRECT(AJ$7),$AG33,2)="","",INDEX(INDIRECT(AJ$7),$AG33,2)) | AK33: =IF(INDEX(INDIRECT(AK$7),$AG33,2)="","",INDEX(INDIRECT(AK$7),$AG33,2)) | AL33: =IF(INDEX(INDIRECT(AL$7),$AG33,2)="","",INDEX(INDIRECT(AL$7),$AG33,2)) | AM33: =IF(INDEX(INDIRECT(AM$7),$AG33,2)="","",INDEX(INDIRECT(AM$7),$AG33,2)) | AN33: =IF(INDEX(INDIRECT(AN$7),$AG33,2)="","",INDEX(INDIRECT(AN$7),$AG33,2)) | AO33: =IF(INDEX(INDIRECT(AO$7),$AG33,2)="","",INDEX(INDIRECT(AO$7),$AG33,2)) | AP33: =IF(INDEX(INDIRECT(AP$7),$AG33,2)="","",INDEX(INDIRECT(AP$7),$AG33,2)) | AQ33: =IF(INDEX(INDIRECT(AQ$7),$AG33,2)="","",INDEX(INDIRECT(AQ$7),$AG33,2)) | ... BY33: =IF(INDEX(INDIRECT(BY$7),$AG33,2)="","",INDEX(INDIRECT(BY$7),$AG33,2))
B34: P3 | E34: 1 | F34: 2.4 | G34: 0 | H34: =AC34 -> 0 | I34: =AD34 -> 0 | J34: =IF(E34<Y34,"Insufficient","OK") -> OK | V34: =IF($AH34<2,0,Y34) -> 0 | W34: =INDEX(INDIRECT($AI34),$BJ$9+1,W$4) -> None | X34: =INDEX(INDIRECT($AI34),$BJ$9+1,X$4) -> None | Y34: =INDEX(INDIRECT($AI34),$BJ$9+1,Y$4) -> 0 | Z34: =INDEX(INDIRECT($AI34),$BJ$9+1,Z$4) -> 0 | AA34: =INDEX(INDIRECT($AI34),$BJ$9+1,AA$4) -> 0 | AB34: =INDEX(INDIRECT($AI34),$BJ$9+1,AB$4) -> 0 | AC34: =IF($AH34<2,0,IF($AH34=2,COS($G34*PI()/180)*Z34,IF($E34<$Y34,0,COS($G34*PI()/180)*Z34*E34*2.4/$F34))) -> 0 | AD34: =IF($AH34<2,0,IF($AH34=2,COS($G34*PI()/180)*AA34,IF($E34<$Y34,0,COS($G34*PI()/180)*AA34*$E34*2.4/$F34))) -> 0 | AG34: 25 | AH34: 1 | AI34: =INDEX(AF$11:AF$16,AH34) -> None | AJ34: =IF(INDEX(INDIRECT(AJ$7),$AG34,2)="","",INDEX(INDIRECT(AJ$7),$AG34,2)) | AK34: =IF(INDEX(INDIRECT(AK$7),$AG34,2)="","",INDEX(INDIRECT(AK$7),$AG34,2)) | AL34: =IF(INDEX(INDIRECT(AL$7),$AG34,2)="","",INDEX(INDIRECT(AL$7),$AG34,2)) | AM34: =IF(INDEX(INDIRECT(AM$7),$AG34,2)="","",INDEX(INDIRECT(AM$7),$AG34,2)) | AN34: =IF(INDEX(INDIRECT(AN$7),$AG34,2)="","",INDEX(INDIRECT(AN$7),$AG34,2)) | AO34: =IF(INDEX(INDIRECT(AO$7),$AG34,2)="","",INDEX(INDIRECT(AO$7),$AG34,2)) | AP34: =IF(INDEX(INDIRECT(AP$7),$AG34,2)="","",INDEX(INDIRECT(AP$7),$AG34,2)) | AQ34: =IF(INDEX(INDIRECT(AQ$7),$AG34,2)="","",INDEX(INDIRECT(AQ$7),$AG34,2)) | ... BY34: =IF(INDEX(INDIRECT(BY$7),$AG34,2)="","",INDEX(INDIRECT(BY$7),$AG34,2))
B35: P4 | E35: 1 | F35: 2.4 | G35: 0 | H35: =AC35 -> 0 | I35: =AD35 -> 0 | J35: =IF(E35<Y35,"Insufficient","OK") -> OK | O35: =IF(K32=0,"",IF(N32<=K32,"OK if external bracing line", "NG if external bracing line")) | V35: =IF($AH35<2,0,Y35) -> 0 | W35: =INDEX(INDIRECT($AI35),$BK$9+1,W$4) -> None | X35: =INDEX(INDIRECT($AI35),$BK$9+1,X$4) -> None | Y35: =INDEX(INDIRECT($AI35),$BK$9+1,Y$4) -> 0 | Z35: =INDEX(INDIRECT($AI35),$BK$9+1,Z$4) -> 0 | AA35: =INDEX(INDIRECT($AI35),$BK$9+1,AA$4) -> 0 | AB35: =INDEX(INDIRECT($AI35),$BK$9+1,AB$4) -> 0 | AC35: =IF($AH35<2,0,IF($AH35=2,COS($G35*PI()/180)*Z35,IF($E35<$Y35,0,COS($G35*PI()/180)*Z35*E35*2.4/$F35))) -> 0 | AD35: =IF($AH35<2,0,IF($AH35=2,COS($G35*PI()/180)*AA35,IF($E35<$Y35,0,COS($G35*PI()/180)*AA35*$E35*2.4/$F35))) -> 0 | AG35: 26 | AH35: 1 | AI35: =INDEX(AF$11:AF$16,AH35) -> None | AJ35: =IF(INDEX(INDIRECT(AJ$7),$AG35,2)="","",INDEX(INDIRECT(AJ$7),$AG35,2)) | AK35: =IF(INDEX(INDIRECT(AK$7),$AG35,2)="","",INDEX(INDIRECT(AK$7),$AG35,2)) | AL35: =IF(INDEX(INDIRECT(AL$7),$AG35,2)="","",INDEX(INDIRECT(AL$7),$AG35,2)) | AM35: =IF(INDEX(INDIRECT(AM$7),$AG35,2)="","",INDEX(INDIRECT(AM$7),$AG35,2)) | AN35: =IF(INDEX(INDIRECT(AN$7),$AG35,2)="","",INDEX(INDIRECT(AN$7),$AG35,2)) | AO35: =IF(INDEX(INDIRECT(AO$7),$AG35,2)="","",INDEX(INDIRECT(AO$7),$AG35,2)) | AP35: =IF(INDEX(INDIRECT(AP$7),$AG35,2)="","",INDEX(INDIRECT(AP$7),$AG35,2)) | AQ35: =IF(INDEX(INDIRECT(AQ$7),$AG35,2)="","",INDEX(INDIRECT(AQ$7),$AG35,2)) | ... BY35: =IF(INDEX(INDIRECT(BY$7),$AG35,2)="","",INDEX(INDIRECT(BY$7),$AG35,2))
B36: P5 | E36: 1 | F36: 2.4 | G36: 0 | H36: =AC36 -> 0 | I36: =AD36 -> 0 | J36: =IF(E36<Y36,"Insufficient","OK") -> OK | V36: =IF($AH36<2,0,Y36) -> 0 | W36: =INDEX(INDIRECT($AI36),$BL$9+1,W$4) -> None | X36: =INDEX(INDIRECT($AI36),$BL$9+1,X$4) -> None | Y36: =INDEX(INDIRECT($AI36),$BL$9+1,Y$4) -> 0 | Z36: =INDEX(INDIRECT($AI36),$BL$9+1,Z$4) -> 0 | AA36: =INDEX(INDIRECT($AI36),$BL$9+1,AA$4) -> 0 | AB36: =INDEX(INDIRECT($AI36),$BL$9+1,AB$4) -> 0 | AC36: =IF($AH36<2,0,IF($AH36=2,COS($G36*PI()/180)*Z36,IF($E36<$Y36,0,COS($G36*PI()/180)*Z36*E36*2.4/$F36))) -> 0 | AD36: =IF($AH36<2,0,IF($AH36=2,COS($G36*PI()/180)*AA36,IF($E36<$Y36,0,COS($G36*PI()/180)*AA36*$E36*2.4/$F36))) -> 0 | AG36: 27 | AH36: 4 | AI36: =INDEX(AF$11:AF$16,AH36) -> Plasterboard | AJ36: =IF(INDEX(INDIRECT(AJ$7),$AG36,2)="","",INDEX(INDIRECT(AJ$7),$AG36,2)) | AK36: =IF(INDEX(INDIRECT(AK$7),$AG36,2)="","",INDEX(INDIRECT(AK$7),$AG36,2)) | AL36: =IF(INDEX(INDIRECT(AL$7),$AG36,2)="","",INDEX(INDIRECT(AL$7),$AG36,2)) | AM36: =IF(INDEX(INDIRECT(AM$7),$AG36,2)="","",INDEX(INDIRECT(AM$7),$AG36,2)) | AN36: =IF(INDEX(INDIRECT(AN$7),$AG36,2)="","",INDEX(INDIRECT(AN$7),$AG36,2)) | AO36: =IF(INDEX(INDIRECT(AO$7),$AG36,2)="","",INDEX(INDIRECT(AO$7),$AG36,2)) | AP36: =IF(INDEX(INDIRECT(AP$7),$AG36,2)="","",INDEX(INDIRECT(AP$7),$AG36,2)) | AQ36: =IF(INDEX(INDIRECT(AQ$7),$AG36,2)="","",INDEX(INDIRECT(AQ$7),$AG36,2)) | ... BY36: =IF(INDEX(INDIRECT(BY$7),$AG36,2)="","",INDEX(INDIRECT(BY$7),$AG36,2))
B37: P6 | E37: 1 | F37: 2.4 | G37: 0 | H37: =AC37 -> 0 | I37: =AD37 -> 0 | J37: =IF(E37<Y37,"Insufficient","OK") -> OK | V37: =IF($AH37<2,0,Y37) -> 0 | W37: =INDEX(INDIRECT($AI37),$BM$9+1,W$4) -> None | X37: =INDEX(INDIRECT($AI37),$BM$9+1,X$4) -> None | Y37: =INDEX(INDIRECT($AI37),$BM$9+1,Y$4) -> 0 | Z37: =INDEX(INDIRECT($AI37),$BM$9+1,Z$4) -> 0 | AA37: =INDEX(INDIRECT($AI37),$BM$9+1,AA$4) -> 0 | AB37: =INDEX(INDIRECT($AI37),$BM$9+1,AB$4) -> 0 | AC37: =IF($AH37<2,0,IF($AH37=2,COS($G37*PI()/180)*Z37,IF($E37<$Y37,0,COS($G37*PI()/180)*Z37*E37*2.4/$F37))) -> 0 | AD37: =IF($AH37<2,0,IF($AH37=2,COS($G37*PI()/180)*AA37,IF($E37<$Y37,0,COS($G37*PI()/180)*AA37*$E37*2.4/$F37))) -> 0 | AG37: 28 | AH37: 1 | AI37: =INDEX(AF$11:AF$16,AH37) -> None | AJ37: =IF(INDEX(INDIRECT(AJ$7),$AG37,2)="","",INDEX(INDIRECT(AJ$7),$AG37,2)) | AK37: =IF(INDEX(INDIRECT(AK$7),$AG37,2)="","",INDEX(INDIRECT(AK$7),$AG37,2)) | AL37: =IF(INDEX(INDIRECT(AL$7),$AG37,2)="","",INDEX(INDIRECT(AL$7),$AG37,2)) | AM37: =IF(INDEX(INDIRECT(AM$7),$AG37,2)="","",INDEX(INDIRECT(AM$7),$AG37,2)) | AN37: =IF(INDEX(INDIRECT(AN$7),$AG37,2)="","",INDEX(INDIRECT(AN$7),$AG37,2)) | AO37: =IF(INDEX(INDIRECT(AO$7),$AG37,2)="","",INDEX(INDIRECT(AO$7),$AG37,2)) | AP37: =IF(INDEX(INDIRECT(AP$7),$AG37,2)="","",INDEX(INDIRECT(AP$7),$AG37,2)) | AQ37: =IF(INDEX(INDIRECT(AQ$7),$AG37,2)="","",INDEX(INDIRECT(AQ$7),$AG37,2)) | ... BY37: =IF(INDEX(INDIRECT(BY$7),$AG37,2)="","",INDEX(INDIRECT(BY$7),$AG37,2))
A38: Q | B38: Q1 | E38: 1 | F38: 2.4 | G38: 0 | H38: =AC38 -> 45 | I38: =AD38 -> 55 | J38: =IF(E38<Y38,"Insufficient","OK") -> OK | K38: =MIN(SUM(H38:H43),SUM(I38:I43)) -> 45 | L38: 0 | M38: =IF(K38=0,"",MAX(100,0.5*MAX(H$3,I$3)/U$15)) -> 100 | N38: =IF(K38=0,"",MAX(M38,L38*15)) -> 100 | O38: =IF(K38=0,"",IF(M38<=K38,"OK if internal bracing line", "NG if internal bracing line")) -> NG if internal bracing line | V38: =IF($AH38<2,0,Y38) -> 1 | W38: =INDEX(INDIRECT($AI38),$BN$9+1,W$4) -> Gamma | X38: =INDEX(INDIRECT($AI38),$BN$9+1,X$4) -> GBF400S/2100 | Y38: =INDEX(INDIRECT($AI38),$BN$9+1,Y$4) -> 1 | Z38: =INDEX(INDIRECT($AI38),$BN$9+1,Z$4) -> 45 | AA38: =INDEX(INDIRECT($AI38),$BN$9+1,AA$4) -> 55 | AB38: =INDEX(INDIRECT($AI38),$BN$9+1,AB$4) -> 0 | AC38: =IF($AH38<2,0,IF($AH38=2,COS($G38*PI()/180)*Z38,IF($E38<$Y38,0,COS($G38*PI()/180)*Z38*E38*2.4/$F38))) -> 45 | AD38: =IF($AH38<2,0,IF($AH38=2,COS($G38*PI()/180)*AA38,IF($E38<$Y38,0,COS($G38*PI()/180)*AA38*$E38*2.4/$F38))) -> 55 | AG38: 29 | AH38: 2 | AI38: =INDEX(AF$11:AF$16,AH38) -> Gamma | AJ38: =IF(INDEX(INDIRECT(AJ$7),$AG38,2)="","",INDEX(INDIRECT(AJ$7),$AG38,2)) | AK38: =IF(INDEX(INDIRECT(AK$7),$AG38,2)="","",INDEX(INDIRECT(AK$7),$AG38,2)) | AL38: =IF(INDEX(INDIRECT(AL$7),$AG38,2)="","",INDEX(INDIRECT(AL$7),$AG38,2)) | AM38: =IF(INDEX(INDIRECT(AM$7),$AG38,2)="","",INDEX(INDIRECT(AM$7),$AG38,2)) | AN38: =IF(INDEX(INDIRECT(AN$7),$AG38,2)="","",INDEX(INDIRECT(AN$7),$AG38,2)) | AO38: =IF(INDEX(INDIRECT(AO$7),$AG38,2)="","",INDEX(INDIRECT(AO$7),$AG38,2)) | AP38: =IF(INDEX(INDIRECT(AP$7),$AG38,2)="","",INDEX(INDIRECT(AP$7),$AG38,2)) | AQ38: =IF(INDEX(INDIRECT(AQ$7),$AG38,2)="","",INDEX(INDIRECT(AQ$7),$AG38,2)) | ... BY38: =IF(INDEX(INDIRECT(BY$7),$AG38,2)="","",INDEX(INDIRECT(BY$7),$AG38,2))
B39: Q2 | E39: 1 | F39: 2.4 | G39: 0 | H39: =AC39 -> 0 | I39: =AD39 -> 0 | J39: =IF(E39<Y39,"Insufficient","OK") -> OK | V39: =IF($AH39<2,0,Y39) -> 0 | W39: =INDEX(INDIRECT($AI39),$BO$9+1,W$4) -> Gamma | X39: =INDEX(INDIRECT($AI39),$BO$9+1,X$4) -> None | Y39: =INDEX(INDIRECT($AI39),$BO$9+1,Y$4) -> 0 | Z39: =INDEX(INDIRECT($AI39),$BO$9+1,Z$4) -> 0 | AA39: =INDEX(INDIRECT($AI39),$BO$9+1,AA$4) -> 0 | AB39: =INDEX(INDIRECT($AI39),$BO$9+1,AB$4) -> 0 | AC39: =IF($AH39<2,0,IF($AH39=2,COS($G39*PI()/180)*Z39,IF($E39<$Y39,0,COS($G39*PI()/180)*Z39*E39*2.4/$F39))) -> 0 | AD39: =IF($AH39<2,0,IF($AH39=2,COS($G39*PI()/180)*AA39,IF($E39<$Y39,0,COS($G39*PI()/180)*AA39*$E39*2.4/$F39))) -> 0 | AG39: 30 | AH39: 2 | AI39: =INDEX(AF$11:AF$16,AH39) -> Gamma | AJ39: =IF(INDEX(INDIRECT(AJ$7),$AG39,2)="","",INDEX(INDIRECT(AJ$7),$AG39,2)) | AK39: =IF(INDEX(INDIRECT(AK$7),$AG39,2)="","",INDEX(INDIRECT(AK$7),$AG39,2)) | AL39: =IF(INDEX(INDIRECT(AL$7),$AG39,2)="","",INDEX(INDIRECT(AL$7),$AG39,2)) | AM39: =IF(INDEX(INDIRECT(AM$7),$AG39,2)="","",INDEX(INDIRECT(AM$7),$AG39,2)) | AN39: =IF(INDEX(INDIRECT(AN$7),$AG39,2)="","",INDEX(INDIRECT(AN$7),$AG39,2)) | AO39: =IF(INDEX(INDIRECT(AO$7),$AG39,2)="","",INDEX(INDIRECT(AO$7),$AG39,2)) | AP39: =IF(INDEX(INDIRECT(AP$7),$AG39,2)="","",INDEX(INDIRECT(AP$7),$AG39,2)) | AQ39: =IF(INDEX(INDIRECT(AQ$7),$AG39,2)="","",INDEX(INDIRECT(AQ$7),$AG39,2)) | ... BY39: =IF(INDEX(INDIRECT(BY$7),$AG39,2)="","",INDEX(INDIRECT(BY$7),$AG39,2))
B40: Q3 | E40: 1 | F40: 2.4 | G40: 0 | H40: =AC40 -> 0 | I40: =AD40 -> 0 | J40: =IF(E40<Y40,"Insufficient","OK") -> Insufficient | V40: =IF($AH40<2,0,Y40) -> 4.5 | W40: =INDEX(INDIRECT($AI40),$BP$9+1,W$4) -> Masonry | X40: =INDEX(INDIRECT($AI40),$BP$9+1,X$4) -> M4 (˃ 4.5m) | Y40: =INDEX(INDIRECT($AI40),$BP$9+1,Y$4) -> 4.5 | Z40: =INDEX(INDIRECT($AI40),$BP$9+1,Z$4) -> 0 | AA40: =INDEX(INDIRECT($AI40),$BP$9+1,AA$4) -> 0 | AB40: =INDEX(INDIRECT($AI40),$BP$9+1,AB$4) -> 0 | AC40: =IF($AH40<2,0,IF($AH40=2,COS($G40*PI()/180)*Z40,IF($E40<$Y40,0,COS($G40*PI()/180)*Z40*E40*2.4/$F40))) -> 0 | AD40: =IF($AH40<2,0,IF($AH40=2,COS($G40*PI()/180)*AA40,IF($E40<$Y40,0,COS($G40*PI()/180)*AA40*$E40*2.4/$F40))) -> 0 | AG40: 31 | AH40: 3 | AI40: =INDEX(AF$11:AF$16,AH40) -> UserDefined | AJ40: =IF(INDEX(INDIRECT(AJ$7),$AG40,2)="","",INDEX(INDIRECT(AJ$7),$AG40,2)) | AK40: =IF(INDEX(INDIRECT(AK$7),$AG40,2)="","",INDEX(INDIRECT(AK$7),$AG40,2)) | AL40: =IF(INDEX(INDIRECT(AL$7),$AG40,2)="","",INDEX(INDIRECT(AL$7),$AG40,2)) | AM40: =IF(INDEX(INDIRECT(AM$7),$AG40,2)="","",INDEX(INDIRECT(AM$7),$AG40,2)) | AN40: =IF(INDEX(INDIRECT(AN$7),$AG40,2)="","",INDEX(INDIRECT(AN$7),$AG40,2)) | AO40: =IF(INDEX(INDIRECT(AO$7),$AG40,2)="","",INDEX(INDIRECT(AO$7),$AG40,2)) | AP40: =IF(INDEX(INDIRECT(AP$7),$AG40,2)="","",INDEX(INDIRECT(AP$7),$AG40,2)) | AQ40: =IF(INDEX(INDIRECT(AQ$7),$AG40,2)="","",INDEX(INDIRECT(AQ$7),$AG40,2)) | ... BY40: =IF(INDEX(INDIRECT(BY$7),$AG40,2)="","",INDEX(INDIRECT(BY$7),$AG40,2))
B41: Q4 | E41: 1 | F41: 2.4 | G41: 0 | H41: =AC41 -> 0 | I41: =AD41 -> 0 | J41: =IF(E41<Y41,"Insufficient","OK") -> OK | O41: =IF(K38=0,"",IF(N38<=K38,"OK if external bracing line", "NG if external bracing line")) -> NG if external bracing line | V41: =IF($AH41<2,0,Y41) -> 0.75 | W41: =INDEX(INDIRECT($AI41),$BQ$9+1,W$4) -> Masonry | X41: =INDEX(INDIRECT($AI41),$BQ$9+1,X$4) -> M1 (0.75-1.5m) | Y41: =INDEX(INDIRECT($AI41),$BQ$9+1,Y$4) -> 0.75 | Z41: =INDEX(INDIRECT($AI41),$BQ$9+1,Z$4) -> 0 | AA41: =INDEX(INDIRECT($AI41),$BQ$9+1,AA$4) -> 0 | AB41: =INDEX(INDIRECT($AI41),$BQ$9+1,AB$4) -> 0 | AC41: =IF($AH41<2,0,IF($AH41=2,COS($G41*PI()/180)*Z41,IF($E41<$Y41,0,COS($G41*PI()/180)*Z41*E41*2.4/$F41))) -> 0 | AD41: =IF($AH41<2,0,IF($AH41=2,COS($G41*PI()/180)*AA41,IF($E41<$Y41,0,COS($G41*PI()/180)*AA41*$E41*2.4/$F41))) -> 0 | AG41: 32 | AH41: 3 | AI41: =INDEX(AF$11:AF$16,AH41) -> UserDefined | AJ41: =IF(INDEX(INDIRECT(AJ$7),$AG41,2)="","",INDEX(INDIRECT(AJ$7),$AG41,2)) | AK41: =IF(INDEX(INDIRECT(AK$7),$AG41,2)="","",INDEX(INDIRECT(AK$7),$AG41,2)) | AL41: =IF(INDEX(INDIRECT(AL$7),$AG41,2)="","",INDEX(INDIRECT(AL$7),$AG41,2)) | AM41: =IF(INDEX(INDIRECT(AM$7),$AG41,2)="","",INDEX(INDIRECT(AM$7),$AG41,2)) | AN41: =IF(INDEX(INDIRECT(AN$7),$AG41,2)="","",INDEX(INDIRECT(AN$7),$AG41,2)) | AO41: =IF(INDEX(INDIRECT(AO$7),$AG41,2)="","",INDEX(INDIRECT(AO$7),$AG41,2)) | AP41: =IF(INDEX(INDIRECT(AP$7),$AG41,2)="","",INDEX(INDIRECT(AP$7),$AG41,2)) | AQ41: =IF(INDEX(INDIRECT(AQ$7),$AG41,2)="","",INDEX(INDIRECT(AQ$7),$AG41,2)) | ... BY41: =IF(INDEX(INDIRECT(BY$7),$AG41,2)="","",INDEX(INDIRECT(BY$7),$AG41,2))
B42: Q5 | E42: 1 | F42: 2.4 | G42: 0 | H42: =AC42 -> 0 | I42: =AD42 -> 0 | J42: =IF(E42<Y42,"Insufficient","OK") -> Insufficient | V42: =IF($AH42<2,0,Y42) -> 1.5 | W42: =INDEX(INDIRECT($AI42),$BR$9+1,W$4) -> Masonry | X42: =INDEX(INDIRECT($AI42),$BR$9+1,X$4) -> M2 (1.5-3.0m) | Y42: =INDEX(INDIRECT($AI42),$BR$9+1,Y$4) -> 1.5 | Z42: =INDEX(INDIRECT($AI42),$BR$9+1,Z$4) -> 0 | AA42: =INDEX(INDIRECT($AI42),$BR$9+1,AA$4) -> 0 | AB42: =INDEX(INDIRECT($AI42),$BR$9+1,AB$4) -> 0 | AC42: =IF($AH42<2,0,IF($AH42=2,COS($G42*PI()/180)*Z42,IF($E42<$Y42,0,COS($G42*PI()/180)*Z42*E42*2.4/$F42))) -> 0 | AD42: =IF($AH42<2,0,IF($AH42=2,COS($G42*PI()/180)*AA42,IF($E42<$Y42,0,COS($G42*PI()/180)*AA42*$E42*2.4/$F42))) -> 0 | AH42: 3 | AI42: =INDEX(AF$11:AF$16,AH42) -> UserDefined
B43: Q6 | E43: 1 | F43: 2.4 | G43: 0 | H43: =AC43 -> 0 | I43: =AD43 -> 0 | J43: =IF(E43<Y43,"Insufficient","OK") -> OK | V43: =IF($AH43<2,0,Y43) -> 0 | W43: =INDEX(INDIRECT($AI43),$BS$9+1,W$4) -> None | X43: =INDEX(INDIRECT($AI43),$BS$9+1,X$4) -> None | Y43: =INDEX(INDIRECT($AI43),$BS$9+1,Y$4) -> 0 | Z43: =INDEX(INDIRECT($AI43),$BS$9+1,Z$4) -> 0 | AA43: =INDEX(INDIRECT($AI43),$BS$9+1,AA$4) -> 0 | AB43: =INDEX(INDIRECT($AI43),$BS$9+1,AB$4) -> 0 | AC43: =IF($AH43<2,0,IF($AH43=2,COS($G43*PI()/180)*Z43,IF($E43<$Y43,0,COS($G43*PI()/180)*Z43*E43*2.4/$F43))) -> 0 | AD43: =IF($AH43<2,0,IF($AH43=2,COS($G43*PI()/180)*AA43,IF($E43<$Y43,0,COS($G43*PI()/180)*AA43*$E43*2.4/$F43))) -> 0 | AH43: 1 | AI43: =INDEX(AF$11:AF$16,AH43) -> None
A44: R | B44: R1 | E44: 1 | F44: 2.4 | G44: 0 | H44: =AC44 -> 0 | I44: =AD44 -> 0 | J44: =IF(E44<Y44,"Insufficient","OK") -> OK | K44: =MIN(SUM(H44:H49),SUM(I44:I49)) -> 90 | L44: 0 | M44: =IF(K44=0,"",MAX(100,0.5*MAX(H$3,I$3)/U$15)) -> 100 | N44: =IF(K44=0,"",MAX(M44,L44*15)) -> 100 | O44: =IF(K44=0,"",IF(M44<=K44,"OK if internal bracing line", "NG if internal bracing line")) -> NG if internal bracing line | V44: =IF($AH44<2,0,Y44) -> 0 | W44: =INDEX(INDIRECT($AI44),$BT$9+1,W$4) -> None | X44: =INDEX(INDIRECT($AI44),$BT$9+1,X$4) -> None | Y44: =INDEX(INDIRECT($AI44),$BT$9+1,Y$4) -> 0 | Z44: =INDEX(INDIRECT($AI44),$BT$9+1,Z$4) -> 0 | AA44: =INDEX(INDIRECT($AI44),$BT$9+1,AA$4) -> 0 | AB44: =INDEX(INDIRECT($AI44),$BT$9+1,AB$4) -> 0 | AC44: =IF($AH44<2,0,IF($AH44=2,COS($G44*PI()/180)*Z44,IF($E44<$Y44,0,COS($G44*PI()/180)*Z44*E44*2.4/$F44))) -> 0 | AD44: =IF($AH44<2,0,IF($AH44=2,COS($G44*PI()/180)*AA44,IF($E44<$Y44,0,COS($G44*PI()/180)*AA44*$E44*2.4/$F44))) -> 0 | AH44: 1 | AI44: =INDEX(AF$11:AF$16,AH44) -> None
B45: R2 | E45: 1 | F45: 2.4 | G45: 0 | H45: =AC45 -> 0 | I45: =AD45 -> 0 | J45: =IF(E45<Y45,"Insufficient","OK") -> OK | V45: =IF($AH45<2,0,Y45) -> 0 | W45: =INDEX(INDIRECT($AI45),$BU$9+1,W$4) -> None | X45: =INDEX(INDIRECT($AI45),$BU$9+1,X$4) -> None | Y45: =INDEX(INDIRECT($AI45),$BU$9+1,Y$4) -> 0 | Z45: =INDEX(INDIRECT($AI45),$BU$9+1,Z$4) -> 0 | AA45: =INDEX(INDIRECT($AI45),$BU$9+1,AA$4) -> 0 | AB45: =INDEX(INDIRECT($AI45),$BU$9+1,AB$4) -> 0 | AC45: =IF($AH45<2,0,IF($AH45=2,COS($G45*PI()/180)*Z45,IF($E45<$Y45,0,COS($G45*PI()/180)*Z45*E45*2.4/$F45))) -> 0 | AD45: =IF($AH45<2,0,IF($AH45=2,COS($G45*PI()/180)*AA45,IF($E45<$Y45,0,COS($G45*PI()/180)*AA45*$E45*2.4/$F45))) -> 0 | AH45: 4 | AI45: =INDEX(AF$11:AF$16,AH45) -> Plasterboard
B46: R3 | E46: 1 | F46: 2.4 | G46: 0 | H46: =AC46 -> 0 | I46: =AD46 -> 0 | J46: =IF(E46<Y46,"Insufficient","OK") -> OK | V46: =IF($AH46<2,0,Y46) -> 0 | W46: =INDEX(INDIRECT($AI46),$BV$9+1,W$4) -> None | X46: =INDEX(INDIRECT($AI46),$BV$9+1,X$4) -> None | Y46: =INDEX(INDIRECT($AI46),$BV$9+1,Y$4) -> 0 | Z46: =INDEX(INDIRECT($AI46),$BV$9+1,Z$4) -> 0 | AA46: =INDEX(INDIRECT($AI46),$BV$9+1,AA$4) -> 0 | AB46: =INDEX(INDIRECT($AI46),$BV$9+1,AB$4) -> 0 | AC46: =IF($AH46<2,0,IF($AH46=2,COS($G46*PI()/180)*Z46,IF($E46<$Y46,0,COS($G46*PI()/180)*Z46*E46*2.4/$F46))) -> 0 | AD46: =IF($AH46<2,0,IF($AH46=2,COS($G46*PI()/180)*AA46,IF($E46<$Y46,0,COS($G46*PI()/180)*AA46*$E46*2.4/$F46))) -> 0 | AH46: 1 | AI46: =INDEX(AF$11:AF$16,AH46) -> None
B47: R4 | E47: 1 | F47: 2.4 | G47: 0 | H47: =AC47 -> 0 | I47: =AD47 -> 0 | J47: =IF(E47<Y47,"Insufficient","OK") -> OK | O47: =IF(K44=0,"",IF(N44<=K44,"OK if external bracing line", "NG if external bracing line")) -> NG if external bracing line | V47: =IF($AH47<2,0,Y47) -> 0 | W47: =INDEX(INDIRECT($AI47),$BW$9+1,W$4) -> None | X47: =INDEX(INDIRECT($AI47),$BW$9+1,X$4) -> None | Y47: =INDEX(INDIRECT($AI47),$BW$9+1,Y$4) -> 0 | Z47: =INDEX(INDIRECT($AI47),$BW$9+1,Z$4) -> 0 | AA47: =INDEX(INDIRECT($AI47),$BW$9+1,AA$4) -> 0 | AB47: =INDEX(INDIRECT($AI47),$BW$9+1,AB$4) -> 0 | AC47: =IF($AH47<2,0,IF($AH47=2,COS($G47*PI()/180)*Z47,IF($E47<$Y47,0,COS($G47*PI()/180)*Z47*E47*2.4/$F47))) -> 0 | AD47: =IF($AH47<2,0,IF($AH47=2,COS($G47*PI()/180)*AA47,IF($E47<$Y47,0,COS($G47*PI()/180)*AA47*$E47*2.4/$F47))) -> 0 | AH47: 1 | AI47: =INDEX(AF$11:AF$16,AH47) -> None
B48: R5 | E48: 1 | F48: 2.4 | G48: 0 | H48: =AC48 -> 90 | I48: =AD48 -> 110 | J48: =IF(E48<Y48,"Insufficient","OK") -> OK | V48: =IF($AH48<2,0,Y48) -> 0.4 | W48: =INDEX(INDIRECT($AI48),$BX$9+1,W$4) -> USG Boral | X48: =INDEX(INDIRECT($AI48),$BX$9+1,X$4) -> UBMP 0.4-0.6 | Y48: =INDEX(INDIRECT($AI48),$BX$9+1,Y$4) -> 0.4 | Z48: =INDEX(INDIRECT($AI48),$BX$9+1,Z$4) -> 90 | AA48: =INDEX(INDIRECT($AI48),$BX$9+1,AA$4) -> 110 | AB48: =INDEX(INDIRECT($AI48),$BX$9+1,AB$4) -> 0 | AC48: =IF($AH48<2,0,IF($AH48=2,COS($G48*PI()/180)*Z48,IF($E48<$Y48,0,COS($G48*PI()/180)*Z48*E48*2.4/$F48))) -> 90 | AD48: =IF($AH48<2,0,IF($AH48=2,COS($G48*PI()/180)*AA48,IF($E48<$Y48,0,COS($G48*PI()/180)*AA48*$E48*2.4/$F48))) -> 110 | AH48: 4 | AI48: =INDEX(AF$11:AF$16,AH48) -> Plasterboard
B49: R6 | E49: 1 | F49: 2.4 | G49: 0 | H49: =AC49 -> 0 | I49: =AD49 -> 0 | J49: =IF(E49<Y49,"Insufficient","OK") -> OK | V49: =IF($AH49<2,0,Y49) -> 0 | W49: =INDEX(INDIRECT($AI49),$BY$9+1,W$4) -> None | X49: =INDEX(INDIRECT($AI49),$BY$9+1,X$4) -> None | Y49: =INDEX(INDIRECT($AI49),$BY$9+1,Y$4) -> 0 | Z49: =INDEX(INDIRECT($AI49),$BY$9+1,Z$4) -> 0 | AA49: =INDEX(INDIRECT($AI49),$BY$9+1,AA$4) -> 0 | AB49: =INDEX(INDIRECT($AI49),$BY$9+1,AB$4) -> 0 | AC49: =IF($AH49<2,0,IF($AH49=2,COS($G49*PI()/180)*Z49,IF($E49<$Y49,0,COS($G49*PI()/180)*Z49*E49*2.4/$F49))) -> 0 | AD49: =IF($AH49<2,0,IF($AH49=2,COS($G49*PI()/180)*AA49,IF($E49<$Y49,0,COS($G49*PI()/180)*AA49*$E49*2.4/$F49))) -> 0 | AH49: 1 | AI49: =INDEX(AF$11:AF$16,AH49) -> None
E51: Total bracing achieved | H51: =SUM(H8:H49) -> 225 | I51: =SUM(I8:I49) -> 275
E52: Total bracing required | H52: =IF(INDEX(DemandS,3)="N/A","N/A",INDEX(DemandS,3)) -> N/A | I52: =IF(INDEX(DemandS,7)="N/A","N/A",INDEX(DemandS,7)) -> N/A
H53: =IF(H52>H51,"NG","OK") -> NG | I53: =IF(I52>I51,"NG","OK") -> NG

Sheet Lower Along
A1: GBTL - Lower Along | H1: Wind BU's | I1: EQ BU's | J1: Gamma Bracing Technologies Ltd
A2: Total bracing achieved | H2: =H51 -> 0 | I2: =I51 -> 0 | AJ2: Note, spreadsheet from here and to RHS is just to define drop down menus for the boxes in Column D
A3: Total bracing required | H3: =H52 -> #VALUE! | I3: =I52 -> #VALUE! | AF3: Drop down menu for boxes in Column C | AO3: Selection No from second combo box - ie bracing system
A4: Lower storey bracing walls | H4: =H53 -> #VALUE! | I4: =I53 -> #VALUE! | W4: 1 | X4: 2 | Y4: 3 | Z4: 4 | AA4: 5 | AB4: 6 | AK4: Used in formula below.
A5: This sheet defines bracing walls in the ALONG direction | H5: Values achieved | J5: Check minimum bracing rating in Section 5.4.7 of NZS 3604:2011
AJ6: 1 | AK6: 2 | AL6: 3 | AM6: 4 | AN6: 5 | AO6: 6 | AP6: 7 | AQ6: 8 | AR6: 9 | AS6: 10 | AT6: 11 | AU6: 12 | AV6: 13 | AW6: 14 | AX6: 15 | AY6: 16 | AZ6: 17 | BA6: 18 | BB6: 19 | BC6: 20 | BD6: 21 | BE6: 22 | BF6: 23 | BG6: 24 | BH6: 25 | BI6: 26 | BJ6: 27 | BK6: 28 | BL6: 29 | BM6: 30 | BN6: 31 | BO6: 32 | BP6: 33 | BQ6: 34 | BR6: 35 | BS6: 36 | BT6: 37 | BU6: 38 | BV6: 39 | BW6: 40 | BX6: 41 | BY6: 42
A7: Line name | B7: Bracing element label | C7: Source of published bracing rating | D7: Bracing wall type | E7: 1 or wall length in metres | F7: Wall Height (metres) | G7: Wall angle in degrees | H7: Wind BU's | I7: EQ BU's | J7: Is bracing element length specified less than minimum? | K7: Bracing line bracing capacity BU's | L7: If external wall give length (m) | M7: Requirement for internal walls | N7: Requirement for external walls | U7: No of bracing lines | V7: Used min length (m) | W7: Supplier | X7: System | Y7: Minimum length | Z7: Wind BU's per unit | AA7: Earthquake BU's per unit | AB7: spare | AC7: wind rating | AD7: EQ rating | AG7: Used on RHS | AH7: Key for Source | AI7: Source Name | AJ7: =INDEX($AI8:$AI49,AJ6) -> None | AK7: =INDEX($AI8:$AI49,AK6) -> None | AL7: =INDEX($AI8:$AI49,AL6) -> None | AM7: =INDEX($AI8:$AI49,AM6) -> None | AN7: =INDEX($AI8:$AI49,AN6) -> None | AO7: =INDEX($AI8:$AI49,AO6) -> None | AP7: =INDEX($AI8:$AI49,AP6) -> None | AQ7: =INDEX($AI8:$AI49,AQ6) -> None | ... BY7: =INDEX($AI8:$AI49,BY6) -> UserDefined
A8: A | B8: A1 | E8: 1 | F8: 2.4 | G8: 0 | H8: =AC8 -> 0 | I8: =AD8 -> 0 | J8: =IF(E8<Y8,"Insufficient","OK") -> OK | K8: =MIN(SUM(H8:H13),SUM(I8:I13)) -> 0 | L8: 0 | M8: =IF(K8=0,"",MAX(100,0.5*MAX(H$3,I$3)/U$15)) | N8: =IF(K8=0,"",MAX(M8,L8*15)) | O8: =IF(K8=0,"",IF(M8<=K8,"OK if internal bracing line", "NG if internal bracing line")) | U8: =IF(K8=0,0,1) -> 0 | V8: =IF($AH8<2,0,Y8) -> 0 | W8: =INDEX(INDIRECT($AI8),$AJ$9+1,W$4) -> None | X8: =INDEX(INDIRECT($AI8),$AJ$9+1,X$4) -> None | Y8: =INDEX(INDIRECT($AI8),$AJ$9+1,Y$4) -> 0 | Z8: =INDEX(INDIRECT($AI8),$AJ$9+1,Z$4) -> 0 | AA8: =INDEX(INDIRECT($AI8),$AJ$9+1,AA$4) -> 0 | AB8: =INDEX(INDIRECT($AI8),$AJ$9+1,AB$4) -> 0 | AC8: =IF($AH8<2,0,IF($AH8=2,COS($G8*PI()/180)*Z8,IF($E8<$Y8,0,COS($G8*PI()/180)*Z8*$E8*2.4/$F8))) -> 0 | AD8: =IF($AH8<2,0,IF($AH8=2,COS($G8*PI()/180)*AA8,IF($E8<$Y8,0,COS($G8*PI()/180)*AA8*$E8*2.4/$F8))) -> 0 | AH8: 1 | AI8: =INDEX(AF$11:AF$16,AH8) -> None
B9: A2 | E9: 1 | F9: 2.4 | G9: 0 | H9: =AC9 -> 0 | I9: =AD9 -> 0 | J9: =IF(E9<Y9,"Insufficient","OK") -> OK | U9: =IF(K14=0,0,1) -> 0 | V9: =IF($AH9<2,0,Y9) -> 0 | W9: =INDEX(INDIRECT($AI9),$AK$9+1,W$4) -> None | X9: =INDEX(INDIRECT($AI9),$AK$9+1,X$4) -> None | Y9: =INDEX(INDIRECT($AI9),$AK$9+1,Y$4) -> 0 | Z9: =INDEX(INDIRECT($AI9),$AK$9+1,Z$4) -> 0 | AA9: =INDEX(INDIRECT($AI9),$AK$9+1,AA$4) -> 0 | AB9: =INDEX(INDIRECT($AI9),$AK$9+1,AB$4) -> 0 | AC9: =IF($AH9<2,0,IF($AH9=2,COS($G9*PI()/180)*Z9,IF($E9<$Y9,0,COS($G9*PI()/180)*Z9*E9*2.4/$F9))) -> 0 | AD9: =IF($AH9<2,0,IF($AH9=2,COS($G9*PI()/180)*AA9,IF($E9<$Y9,0,COS($G9*PI()/180)*AA9*$E9*2.4/$F9))) -> 0 | AH9: 1 | AI9: =INDEX(AF$11:AF$16,AH9) -> None | AJ9: 1 | AK9: 1 | AL9: 4 | AM9: 3 | AN9: 2 | AO9: 1 | AP9: 5 | AQ9: 5 | AR9: 5 | AS9: 5 | AT9: 1 | AU9: 1 | AV9: 5 | AW9: 5 | AX9: 5 | AY9: 1 | AZ9: 1 | BA9: 2 | BB9: 1 | BC9: 5 | BD9: 1 | BE9: 1 | BF9: 1 | BG9: 1 | BH9: 5 | BI9: 5 | BJ9: 2 | BK9: 2 | BL9: 1 | BM9: 1 | BN9: 1 | BO9: 1 | BP9: 1 | BQ9: 2 | BR9: 4 | BS9: 1 | BT9: 6 | BU9: 1 | BV9: 1 | BW9: 1 | BX9: 1 | BY9: 1
B10: A3 | E10: 1 | F10: 2.4 | G10: 0 | H10: =AC10 -> 0 | I10: =AD10 -> 0 | J10: =IF(E10<Y10,"Insufficient","OK") -> OK | U10: =IF(K20=0,0,1) -> 0 | V10: =IF($AH10<2,0,Y10) -> 0 | W10: =INDEX(INDIRECT($AI10),$AL$9+1,W$4) -> None | X10: =INDEX(INDIRECT($AI10),$AL$9+1,X$4) -> None | Y10: =INDEX(INDIRECT($AI10),$AL$9+1,Y$4) -> 0 | Z10: =INDEX(INDIRECT($AI10),$AL$9+1,Z$4) -> 0 | AA10: =INDEX(INDIRECT($AI10),$AL$9+1,AA$4) -> 0 | AB10: =INDEX(INDIRECT($AI10),$AL$9+1,AB$4) -> 0 | AC10: =IF($AH10<2,0,IF($AH10=2,COS($G10*PI()/180)*Z10,IF($E10<$Y10,0,COS($G10*PI()/180)*Z10*E10*2.4/$F10))) -> 0 | AD10: =IF($AH10<2,0,IF($AH10=2,COS($G10*PI()/180)*AA10,IF($E10<$Y10,0,COS($G10*PI()/180)*AA10*$E10*2.4/$F10))) -> 0 | AH10: 1 | AI10: =INDEX(AF$11:AF$16,AH10) -> None | AJ10: T1 | AK10: T2 | AL10: T3 | AM10: T4 | AN10: T5 | AO10: T6 | AP10: U1 | AQ10: U2 | AR10: U3 | AS10: U4 | AT10: U5 | AU10: U6 | AV10: V1 | AW10: V2 | AX10: V3 | AY10: V4 | AZ10: V5 | BA10: V6 | BB10: W1 | BC10: W2 | BD10: W3 | BE10: W4 | BF10: W5 | BG10: W6 | BH10: X1 | BI10: X2 | BJ10: X3 | BK10: X4 | BL10: X5 | BM10: X6 | BN10: Y1 | BO10: Y2 | BP10: Y3 | BQ10: Y4 | BR10: Y5 | BS10: Y6 | BT10: Z1 | BU10: Z2 | BV10: Z3 | BW10: Z4 | BX10: Z5 | BY10: Z6
B11: A4 | E11: 1 | F11: 2.4 | G11: 0 | H11: =AC11 -> 0 | I11: =AD11 -> 0 | J11: =IF(E11<Y11,"Insufficient","OK") -> OK | O11: =IF(K8=0,"",IF(N8<=K8,"OK if external bracing line", "NG if external bracing line")) | U11: =IF(K26=0,0,1) -> 0 | V11: =IF($AH11<2,0,Y11) -> 0 | W11: =INDEX(INDIRECT($AI11),$AM$9+1,W$4) -> None | X11: =INDEX(INDIRECT($AI11),$AM$9+1,X$4) -> None | Y11: =INDEX(INDIRECT($AI11),$AM$9+1,Y$4) -> 0 | Z11: =INDEX(INDIRECT($AI11),$AM$9+1,Z$4) -> 0 | AA11: =INDEX(INDIRECT($AI11),$AM$9+1,AA$4) -> 0 | AB11: =INDEX(INDIRECT($AI11),$AM$9+1,AB$4) -> 0 | AC11: =IF($AH11<2,0,IF($AH11=2,COS($G11*PI()/180)*Z11,IF($E11<$Y11,0,COS($G11*PI()/180)*Z11*E11*2.4/$F11))) -> 0 | AD11: =IF($AH11<2,0,IF($AH11=2,COS($G11*PI()/180)*AA11,IF($E11<$Y11,0,COS($G11*PI()/180)*AA11*$E11*2.4/$F11))) -> 0 | AE11: 1 | AF11: None | AG11: 2 | AH11: 1 | AI11: =INDEX(AF$11:AF$16,AH11) -> None | AJ11: =IF(INDEX(INDIRECT(AJ$7),$AG11,2)="","",INDEX(INDIRECT(AJ$7),$AG11,2)) -> None | AK11: =IF(INDEX(INDIRECT(AK$7),$AG11,2)="","",INDEX(INDIRECT(AK$7),$AG11,2)) -> None | AL11: =IF(INDEX(INDIRECT(AL$7),$AG11,2)="","",INDEX(INDIRECT(AL$7),$AG11,2)) -> None | AM11: =IF(INDEX(INDIRECT(AM$7),$AG11,2)="","",INDEX(INDIRECT(AM$7),$AG11,2)) -> None | AN11: =IF(INDEX(INDIRECT(AN$7),$AG11,2)="","",INDEX(INDIRECT(AN$7),$AG11,2)) -> None | AO11: =IF(INDEX(INDIRECT(AO$7),$AG11,2)="","",INDEX(INDIRECT(AO$7),$AG11,2)) -> None | AP11: =IF(INDEX(INDIRECT(AP$7),$AG11,2)="","",INDEX(INDIRECT(AP$7),$AG11,2)) -> None | AQ11: =IF(INDEX(INDIRECT(AQ$7),$AG11,2)="","",INDEX(INDIRECT(AQ$7),$AG11,2)) -> None | ... BY11: =IF(INDEX(INDIRECT(BY$7),$AG11,2)="","",INDEX(INDIRECT(BY$7),$AG11,2)) -> None
B12: A5 | E12: 1 | F12: 2.4 | G12: 0 | H12: =AC12 -> 0 | I12: =AD12 -> 0 | J12: =IF(E12<Y12,"Insufficient","OK") -> OK | U12: =IF(K32=0,0,1) -> 0 | V12: =IF($AH12<2,0,Y12) -> 0 | W12: =INDEX(INDIRECT($AI12),$AN$9+1,W$4) -> None | X12: =INDEX(INDIRECT($AI12),$AN$9+1,X$4) -> None | Y12: =INDEX(INDIRECT($AI12),$AN$9+1,Y$4) -> 0 | Z12: =INDEX(INDIRECT($AI12),$AN$9+1,Z$4) -> 0 | AA12: =INDEX(INDIRECT($AI12),$AN$9+1,AA$4) -> 0 | AB12: =INDEX(INDIRECT($AI12),$AN$9+1,AB$4) -> 0 | AC12: =IF($AH12<2,0,IF($AH12=2,COS($G12*PI()/180)*Z12,IF($E12<$Y12,0,COS($G12*PI()/180)*Z12*E12*2.4/$F12))) -> 0 | AD12: =IF($AH12<2,0,IF($AH12=2,COS($G12*PI()/180)*AA12,IF($E12<$Y12,0,COS($G12*PI()/180)*AA12*$E12*2.4/$F12))) -> 0 | AE12: 2 | AF12: Gamma | AG12: 3 | AH12: 1 | AI12: =INDEX(AF$11:AF$16,AH12) -> None | AJ12: =IF(INDEX(INDIRECT(AJ$7),$AG12,2)="","",INDEX(INDIRECT(AJ$7),$AG12,2)) -> None | AK12: =IF(INDEX(INDIRECT(AK$7),$AG12,2)="","",INDEX(INDIRECT(AK$7),$AG12,2)) -> None | AL12: =IF(INDEX(INDIRECT(AL$7),$AG12,2)="","",INDEX(INDIRECT(AL$7),$AG12,2)) -> None | AM12: =IF(INDEX(INDIRECT(AM$7),$AG12,2)="","",INDEX(INDIRECT(AM$7),$AG12,2)) -> None | AN12: =IF(INDEX(INDIRECT(AN$7),$AG12,2)="","",INDEX(INDIRECT(AN$7),$AG12,2)) -> None | AO12: =IF(INDEX(INDIRECT(AO$7),$AG12,2)="","",INDEX(INDIRECT(AO$7),$AG12,2)) -> None | AP12: =IF(INDEX(INDIRECT(AP$7),$AG12,2)="","",INDEX(INDIRECT(AP$7),$AG12,2)) -> None | AQ12: =IF(INDEX(INDIRECT(AQ$7),$AG12,2)="","",INDEX(INDIRECT(AQ$7),$AG12,2)) -> None | ... BY12: =IF(INDEX(INDIRECT(BY$7),$AG12,2)="","",INDEX(INDIRECT(BY$7),$AG12,2)) -> M1 (0.75-1.5m)
B13: A6 | E13: 1 | F13: 2.4 | G13: 0 | H13: =AC13 -> 0 | I13: =AD13 -> 0 | J13: =IF(E13<Y13,"Insufficient","OK") -> OK | U13: =IF(K38=0,0,1) -> 0 | V13: =IF($AH13<2,0,Y13) -> 0 | W13: =INDEX(INDIRECT($AI13),$AO$9+1,W$4) -> None | X13: =INDEX(INDIRECT($AI13),$AO$9+1,X$4) -> None | Y13: =INDEX(INDIRECT($AI13),$AO$9+1,Y$4) -> 0 | Z13: =INDEX(INDIRECT($AI13),$AO$9+1,Z$4) -> 0 | AA13: =INDEX(INDIRECT($AI13),$AO$9+1,AA$4) -> 0 | AB13: =INDEX(INDIRECT($AI13),$AO$9+1,AB$4) -> 0 | AC13: =IF($AH13<2,0,IF($AH13=2,COS($G13*PI()/180)*Z13,IF($E13<$Y13,0,COS($G13*PI()/180)*Z13*E13*2.4/$F13))) -> 0 | AD13: =IF($AH13<2,0,IF($AH13=2,COS($G13*PI()/180)*AA13,IF($E13<$Y13,0,COS($G13*PI()/180)*AA13*$E13*2.4/$F13))) -> 0 | AE13: 3 | AF13: UserDefined | AG13: 4 | AH13: 1 | AI13: =INDEX(AF$11:AF$16,AH13) -> None | AJ13: =IF(INDEX(INDIRECT(AJ$7),$AG13,2)="","",INDEX(INDIRECT(AJ$7),$AG13,2)) -> None | AK13: =IF(INDEX(INDIRECT(AK$7),$AG13,2)="","",INDEX(INDIRECT(AK$7),$AG13,2)) -> None | AL13: =IF(INDEX(INDIRECT(AL$7),$AG13,2)="","",INDEX(INDIRECT(AL$7),$AG13,2)) -> None | AM13: =IF(INDEX(INDIRECT(AM$7),$AG13,2)="","",INDEX(INDIRECT(AM$7),$AG13,2)) -> None | AN13: =IF(INDEX(INDIRECT(AN$7),$AG13,2)="","",INDEX(INDIRECT(AN$7),$AG13,2)) -> None | AO13: =IF(INDEX(INDIRECT(AO$7),$AG13,2)="","",INDEX(INDIRECT(AO$7),$AG13,2)) -> None | AP13: =IF(INDEX(INDIRECT(AP$7),$AG13,2)="","",INDEX(INDIRECT(AP$7),$AG13,2)) -> None | AQ13: =IF(INDEX(INDIRECT(AQ$7),$AG13,2)="","",INDEX(INDIRECT(AQ$7),$AG13,2)) -> None | ... BY13: =IF(INDEX(INDIRECT(BY$7),$AG13,2)="","",INDEX(INDIRECT(BY$7),$AG13,2)) -> M2 (1.5-3.0m)
A14: B | B14: B1 | E14: 1 | F14: 2.4 | G14: 0 | H14: =AC14 -> 0 | I14: =AD14 -> 0 | J14: =IF(E14<Y14,"Insufficient","OK") -> OK | K14: =MIN(SUM(H14:H19),SUM(I14:I19)) -> 0 | L14: 0 | M14: =IF(K14=0,"",MAX(100,0.5*MAX(H$3,I$3)/U$15)) | N14: =IF(K14=0,"",MAX(M14,L14*15)) | O14: =IF(K14=0,"",IF(M14<=K14,"OK if internal bracing line", "NG if internal bracing line")) | U14: =IF(K44=0,0,1) -> 0 | V14: =IF($AH14<2,0,Y14) -> 0 | W14: =INDEX(INDIRECT($AI14),$AP$9+1,W$4) -> None | X14: =INDEX(INDIRECT($AI14),$AP$9+1,X$4) -> None | Y14: =INDEX(INDIRECT($AI14),$AP$9+1,Y$4) -> 0 | Z14: =INDEX(INDIRECT($AI14),$AP$9+1,Z$4) -> 0 | AA14: =INDEX(INDIRECT($AI14),$AP$9+1,AA$4) -> 0 | AB14: =INDEX(INDIRECT($AI14),$AP$9+1,AB$4) -> 0 | AC14: =IF($AH14<2,0,IF($AH14=2,COS($G14*PI()/180)*Z14,IF($E14<$Y14,0,COS($G14*PI()/180)*Z14*E14*2.4/$F14))) -> 0 | AD14: =IF($AH14<2,0,IF($AH14=2,COS($G14*PI()/180)*AA14,IF($E14<$Y14,0,COS($G14*PI()/180)*AA14*$E14*2.4/$F14))) -> 0 | AE14: 4 | AF14: Plasterboard | AG14: 5 | AH14: 1 | AI14: =INDEX(AF$11:AF$16,AH14) -> None | AJ14: =IF(INDEX(INDIRECT(AJ$7),$AG14,2)="","",INDEX(INDIRECT(AJ$7),$AG14,2)) -> None | AK14: =IF(INDEX(INDIRECT(AK$7),$AG14,2)="","",INDEX(INDIRECT(AK$7),$AG14,2)) -> None | AL14: =IF(INDEX(INDIRECT(AL$7),$AG14,2)="","",INDEX(INDIRECT(AL$7),$AG14,2)) -> None | AM14: =IF(INDEX(INDIRECT(AM$7),$AG14,2)="","",INDEX(INDIRECT(AM$7),$AG14,2)) -> None | AN14: =IF(INDEX(INDIRECT(AN$7),$AG14,2)="","",INDEX(INDIRECT(AN$7),$AG14,2)) -> None | AO14: =IF(INDEX(INDIRECT(AO$7),$AG14,2)="","",INDEX(INDIRECT(AO$7),$AG14,2)) -> None | AP14: =IF(INDEX(INDIRECT(AP$7),$AG14,2)="","",INDEX(INDIRECT(AP$7),$AG14,2)) -> None | AQ14: =IF(INDEX(INDIRECT(AQ$7),$AG14,2)="","",INDEX(INDIRECT(AQ$7),$AG14,2)) -> None | ... BY14: =IF(INDEX(INDIRECT(BY$7),$AG14,2)="","",INDEX(INDIRECT(BY$7),$AG14,2)) -> M3 (3.0-4.5m)
B15: B2 | E15: 1 | F15: 2.4 | G15: 0 | H15: =AC15 -> 0 | I15: =AD15 -> 0 | J15: =IF(E15<Y15,"Insufficient","OK") -> OK | U15: =IF(SUM(U8:U14)=0,1,SUM(U8:U14)) -> 1 | V15: =IF($AH15<2,0,Y15) -> 0 | W15: =INDEX(INDIRECT($AI15),$AQ$9+1,W$4) -> None | X15: =INDEX(INDIRECT($AI15),$AQ$9+1,X$4) -> None | Y15: =INDEX(INDIRECT($AI15),$AQ$9+1,Y$4) -> 0 | Z15: =INDEX(INDIRECT($AI15),$AQ$9+1,Z$4) -> 0 | AA15: =INDEX(INDIRECT($AI15),$AQ$9+1,AA$4) -> 0 | AB15: =INDEX(INDIRECT($AI15),$AQ$9+1,AB$4) -> 0 | AC15: =IF($AH15<2,0,IF($AH15=2,COS($G15*PI()/180)*Z15,IF($E15<$Y15,0,COS($G15*PI()/180)*Z15*E15*2.4/$F15))) -> 0 | AD15: =IF($AH15<2,0,IF($AH15=2,COS($G15*PI()/180)*AA15,IF($E15<$Y15,0,COS($G15*PI()/180)*AA15*$E15*2.4/$F15))) -> 0 | AE15: 5 | AF15: Plywood | AG15: 6 | AH15: 1 | AI15: =INDEX(AF$11:AF$16,AH15) -> None | AJ15: =IF(INDEX(INDIRECT(AJ$7),$AG15,2)="","",INDEX(INDIRECT(AJ$7),$AG15,2)) -> None | AK15: =IF(INDEX(INDIRECT(AK$7),$AG15,2)="","",INDEX(INDIRECT(AK$7),$AG15,2)) -> None | AL15: =IF(INDEX(INDIRECT(AL$7),$AG15,2)="","",INDEX(INDIRECT(AL$7),$AG15,2)) -> None | AM15: =IF(INDEX(INDIRECT(AM$7),$AG15,2)="","",INDEX(INDIRECT(AM$7),$AG15,2)) -> None | AN15: =IF(INDEX(INDIRECT(AN$7),$AG15,2)="","",INDEX(INDIRECT(AN$7),$AG15,2)) -> None | AO15: =IF(INDEX(INDIRECT(AO$7),$AG15,2)="","",INDEX(INDIRECT(AO$7),$AG15,2)) -> None | AP15: =IF(INDEX(INDIRECT(AP$7),$AG15,2)="","",INDEX(INDIRECT(AP$7),$AG15,2)) -> None | AQ15: =IF(INDEX(INDIRECT(AQ$7),$AG15,2)="","",INDEX(INDIRECT(AQ$7),$AG15,2)) -> None | ... BY15: =IF(INDEX(INDIRECT(BY$7),$AG15,2)="","",INDEX(INDIRECT(BY$7),$AG15,2)) -> M4 (˃ 4.5m)
B16: B3 | E16: 1 | F16: 2.4 | G16: 0 | H16: =AC16 -> 0 | I16: =AD16 -> 0 | J16: =IF(E16<Y16,"Insufficient","OK") -> OK | V16: =IF($AH16<2,0,Y16) -> 0 | W16: =INDEX(INDIRECT($AI16),$AR$9+1,W$4) -> None | X16: =INDEX(INDIRECT($AI16),$AR$9+1,X$4) -> None | Y16: =INDEX(INDIRECT($AI16),$AR$9+1,Y$4) -> 0 | Z16: =INDEX(INDIRECT($AI16),$AR$9+1,Z$4) -> 0 | AA16: =INDEX(INDIRECT($AI16),$AR$9+1,AA$4) -> 0 | AB16: =INDEX(INDIRECT($AI16),$AR$9+1,AB$4) -> 0 | AC16: =IF($AH16<2,0,IF($AH16=2,COS($G16*PI()/180)*Z16,IF($E16<$Y16,0,COS($G16*PI()/180)*Z16*E16*2.4/$F16))) -> 0 | AD16: =IF($AH16<2,0,IF($AH16=2,COS($G16*PI()/180)*AA16,IF($E16<$Y16,0,COS($G16*PI()/180)*AA16*$E16*2.4/$F16))) -> 0 | AE16: 6 | AF16: Foundations | AG16: 7 | AH16: 1 | AI16: =INDEX(AF$11:AF$16,AH16) -> None | AJ16: =IF(INDEX(INDIRECT(AJ$7),$AG16,2)="","",INDEX(INDIRECT(AJ$7),$AG16,2)) -> None | AK16: =IF(INDEX(INDIRECT(AK$7),$AG16,2)="","",INDEX(INDIRECT(AK$7),$AG16,2)) -> None | AL16: =IF(INDEX(INDIRECT(AL$7),$AG16,2)="","",INDEX(INDIRECT(AL$7),$AG16,2)) -> None | AM16: =IF(INDEX(INDIRECT(AM$7),$AG16,2)="","",INDEX(INDIRECT(AM$7),$AG16,2)) -> None | AN16: =IF(INDEX(INDIRECT(AN$7),$AG16,2)="","",INDEX(INDIRECT(AN$7),$AG16,2)) -> None | AO16: =IF(INDEX(INDIRECT(AO$7),$AG16,2)="","",INDEX(INDIRECT(AO$7),$AG16,2)) -> None | AP16: =IF(INDEX(INDIRECT(AP$7),$AG16,2)="","",INDEX(INDIRECT(AP$7),$AG16,2)) -> None | AQ16: =IF(INDEX(INDIRECT(AQ$7),$AG16,2)="","",INDEX(INDIRECT(AQ$7),$AG16,2)) -> None | ... BY16: =IF(INDEX(INDIRECT(BY$7),$AG16,2)="","",INDEX(INDIRECT(BY$7),$AG16,2))
B17: B4 | E17: 1 | F17: 2.4 | G17: 0 | H17: =AC17 -> 0 | I17: =AD17 -> 0 | J17: =IF(E17<Y17,"Insufficient","OK") -> OK | O17: =IF(K14=0,"",IF(N14<=K14,"OK if external bracing line", "NG if external bracing line")) | V17: =IF($AH17<2,0,Y17) -> 0 | W17: =INDEX(INDIRECT($AI17),$AS$9+1,W$4) -> None | X17: =INDEX(INDIRECT($AI17),$AS$9+1,X$4) -> None | Y17: =INDEX(INDIRECT($AI17),$AS$9+1,Y$4) -> 0 | Z17: =INDEX(INDIRECT($AI17),$AS$9+1,Z$4) -> 0 | AA17: =INDEX(INDIRECT($AI17),$AS$9+1,AA$4) -> 0 | AB17: =INDEX(INDIRECT($AI17),$AS$9+1,AB$4) -> 0 | AC17: =IF($AH17<2,0,IF($AH17=2,COS($G17*PI()/180)*Z17,IF($E17<$Y17,0,COS($G17*PI()/180)*Z17*E17*2.4/$F17))) -> 0 | AD17: =IF($AH17<2,0,IF($AH17=2,COS($G17*PI()/180)*AA17,IF($E17<$Y17,0,COS($G17*PI()/180)*AA17*$E17*2.4/$F17))) -> 0 | AG17: 8 | AH17: 1 | AI17: =INDEX(AF$11:AF$16,AH17) -> None | AJ17: =IF(INDEX(INDIRECT(AJ$7),$AG17,2)="","",INDEX(INDIRECT(AJ$7),$AG17,2)) -> None | AK17: =IF(INDEX(INDIRECT(AK$7),$AG17,2)="","",INDEX(INDIRECT(AK$7),$AG17,2)) -> None | AL17: =IF(INDEX(INDIRECT(AL$7),$AG17,2)="","",INDEX(INDIRECT(AL$7),$AG17,2)) -> None | AM17: =IF(INDEX(INDIRECT(AM$7),$AG17,2)="","",INDEX(INDIRECT(AM$7),$AG17,2)) -> None | AN17: =IF(INDEX(INDIRECT(AN$7),$AG17,2)="","",INDEX(INDIRECT(AN$7),$AG17,2)) -> None | AO17: =IF(INDEX(INDIRECT(AO$7),$AG17,2)="","",INDEX(INDIRECT(AO$7),$AG17,2)) -> None | AP17: =IF(INDEX(INDIRECT(AP$7),$AG17,2)="","",INDEX(INDIRECT(AP$7),$AG17,2)) -> None | AQ17: =IF(INDEX(INDIRECT(AQ$7),$AG17,2)="","",INDEX(INDIRECT(AQ$7),$AG17,2)) -> None | ... BY17: =IF(INDEX(INDIRECT(BY$7),$AG17,2)="","",INDEX(INDIRECT(BY$7),$AG17,2))
B18: B5 | E18: 1 | F18: 2.4 | G18: 0 | H18: =AC18 -> 0 | I18: =AD18 -> 0 | J18: =IF(E18<Y18,"Insufficient","OK") -> OK | V18: =IF($AH18<2,0,Y18) -> 0 | W18: =INDEX(INDIRECT($AI18),$AT$9+1,W$4) -> None | X18: =INDEX(INDIRECT($AI18),$AT$9+1,X$4) -> None | Y18: =INDEX(INDIRECT($AI18),$AT$9+1,Y$4) -> 0 | Z18: =INDEX(INDIRECT($AI18),$AT$9+1,Z$4) -> 0 | AA18: =INDEX(INDIRECT($AI18),$AT$9+1,AA$4) -> 0 | AB18: =INDEX(INDIRECT($AI18),$AT$9+1,AB$4) -> 0 | AC18: =IF($AH18<2,0,IF($AH18=2,COS($G18*PI()/180)*Z18,IF($E18<$Y18,0,COS($G18*PI()/180)*Z18*E18*2.4/$F18))) -> 0 | AD18: =IF($AH18<2,0,IF($AH18=2,COS($G18*PI()/180)*AA18,IF($E18<$Y18,0,COS($G18*PI()/180)*AA18*$E18*2.4/$F18))) -> 0 | AG18: 9 | AH18: 1 | AI18: =INDEX(AF$11:AF$16,AH18) -> None | AJ18: =IF(INDEX(INDIRECT(AJ$7),$AG18,2)="","",INDEX(INDIRECT(AJ$7),$AG18,2)) | AK18: =IF(INDEX(INDIRECT(AK$7),$AG18,2)="","",INDEX(INDIRECT(AK$7),$AG18,2)) | AL18: =IF(INDEX(INDIRECT(AL$7),$AG18,2)="","",INDEX(INDIRECT(AL$7),$AG18,2)) | AM18: =IF(INDEX(INDIRECT(AM$7),$AG18,2)="","",INDEX(INDIRECT(AM$7),$AG18,2)) | AN18: =IF(INDEX(INDIRECT(AN$7),$AG18,2)="","",INDEX(INDIRECT(AN$7),$AG18,2)) | AO18: =IF(INDEX(INDIRECT(AO$7),$AG18,2)="","",INDEX(INDIRECT(AO$7),$AG18,2)) | AP18: =IF(INDEX(INDIRECT(AP$7),$AG18,2)="","",INDEX(INDIRECT(AP$7),$AG18,2)) | AQ18: =IF(INDEX(INDIRECT(AQ$7),$AG18,2)="","",INDEX(INDIRECT(AQ$7),$AG18,2)) | ... BY18: =IF(INDEX(INDIRECT(BY$7),$AG18,2)="","",INDEX(INDIRECT(BY$7),$AG18,2))
B19: B6 | E19: 1 | F19: 2.4 | G19: 0 | H19: =AC19 -> 0 | I19: =AD19 -> 0 | J19: =IF(E19<Y19,"Insufficient","OK") -> OK | V19: =IF($AH19<2,0,Y19) -> 0 | W19: =INDEX(INDIRECT($AI19),$AU$9+1,W$4) -> None | X19: =INDEX(INDIRECT($AI19),$AU$9+1,X$4) -> None | Y19: =INDEX(INDIRECT($AI19),$AU$9+1,Y$4) -> 0 | Z19: =INDEX(INDIRECT($AI19),$AU$9+1,Z$4) -> 0 | AA19: =INDEX(INDIRECT($AI19),$AU$9+1,AA$4) -> 0 | AB19: =INDEX(INDIRECT($AI19),$AU$9+1,AB$4) -> 0 | AC19: =IF($AH19<2,0,IF($AH19=2,COS($G19*PI()/180)*Z19,IF($E19<$Y19,0,COS($G19*PI()/180)*Z19*E19*2.4/$F19))) -> 0 | AD19: =IF($AH19<2,0,IF($AH19=2,COS($G19*PI()/180)*AA19,IF($E19<$Y19,0,COS($G19*PI()/180)*AA19*$E19*2.4/$F19))) -> 0 | AG19: 10 | AH19: 1 | AI19: =INDEX(AF$11:AF$16,AH19) -> None | AJ19: =IF(INDEX(INDIRECT(AJ$7),$AG19,2)="","",INDEX(INDIRECT(AJ$7),$AG19,2)) | AK19: =IF(INDEX(INDIRECT(AK$7),$AG19,2)="","",INDEX(INDIRECT(AK$7),$AG19,2)) | AL19: =IF(INDEX(INDIRECT(AL$7),$AG19,2)="","",INDEX(INDIRECT(AL$7),$AG19,2)) | AM19: =IF(INDEX(INDIRECT(AM$7),$AG19,2)="","",INDEX(INDIRECT(AM$7),$AG19,2)) | AN19: =IF(INDEX(INDIRECT(AN$7),$AG19,2)="","",INDEX(INDIRECT(AN$7),$AG19,2)) | AO19: =IF(INDEX(INDIRECT(AO$7),$AG19,2)="","",INDEX(INDIRECT(AO$7),$AG19,2)) | AP19: =IF(INDEX(INDIRECT(AP$7),$AG19,2)="","",INDEX(INDIRECT(AP$7),$AG19,2)) | AQ19: =IF(INDEX(INDIRECT(AQ$7),$AG19,2)="","",INDEX(INDIRECT(AQ$7),$AG19,2)) | ... BY19: =IF(INDEX(INDIRECT(BY$7),$AG19,2)="","",INDEX(INDIRECT(BY$7),$AG19,2))
A20: C | B20: C1 | E20: 1 | F20: 2.4 | G20: 0 | H20: =AC20 -> 0 | I20: =AD20 -> 0 | J20: =IF(E20<Y20,"Insufficient","OK") -> OK | K20: =MIN(SUM(H20:H25),SUM(I20:I25)) -> 0 | L20: 0 | M20: =IF(K20=0,"",MAX(100,0.5*MAX(H$3,I$3)/U$15)) | N20: =IF(K20=0,"",MAX(M20,L20*15)) | O20: =IF(K20=0,"",IF(M20<=K20,"OK if internal bracing line", "NG if internal bracing line")) | V20: =IF($AH20<2,0,Y20) -> 0 | W20: =INDEX(INDIRECT($AI20),$AV$9+1,W$4) -> None | X20: =INDEX(INDIRECT($AI20),$AV$9+1,X$4) -> None | Y20: =INDEX(INDIRECT($AI20),$AV$9+1,Y$4) -> 0 | Z20: =INDEX(INDIRECT($AI20),$AV$9+1,Z$4) -> 0 | AA20: =INDEX(INDIRECT($AI20),$AV$9+1,AA$4) -> 0 | AB20: =INDEX(INDIRECT($AI20),$AV$9+1,AB$4) -> 0 | AC20: =IF($AH20<2,0,IF($AH20=2,COS($G20*PI()/180)*Z20,IF($E20<$Y20,0,COS($G20*PI()/180)*Z20*E20*2.4/$F20))) -> 0 | AD20: =IF($AH20<2,0,IF($AH20=2,COS($G20*PI()/180)*AA20,IF($E20<$Y20,0,COS($G20*PI()/180)*AA20*$E20*2.4/$F20))) -> 0 | AG20: 11 | AH20: 1 | AI20: =INDEX(AF$11:AF$16,AH20) -> None | AJ20: =IF(INDEX(INDIRECT(AJ$7),$AG20,2)="","",INDEX(INDIRECT(AJ$7),$AG20,2)) | AK20: =IF(INDEX(INDIRECT(AK$7),$AG20,2)="","",INDEX(INDIRECT(AK$7),$AG20,2)) | AL20: =IF(INDEX(INDIRECT(AL$7),$AG20,2)="","",INDEX(INDIRECT(AL$7),$AG20,2)) | AM20: =IF(INDEX(INDIRECT(AM$7),$AG20,2)="","",INDEX(INDIRECT(AM$7),$AG20,2)) | AN20: =IF(INDEX(INDIRECT(AN$7),$AG20,2)="","",INDEX(INDIRECT(AN$7),$AG20,2)) | AO20: =IF(INDEX(INDIRECT(AO$7),$AG20,2)="","",INDEX(INDIRECT(AO$7),$AG20,2)) | AP20: =IF(INDEX(INDIRECT(AP$7),$AG20,2)="","",INDEX(INDIRECT(AP$7),$AG20,2)) | AQ20: =IF(INDEX(INDIRECT(AQ$7),$AG20,2)="","",INDEX(INDIRECT(AQ$7),$AG20,2)) | ... BY20: =IF(INDEX(INDIRECT(BY$7),$AG20,2)="","",INDEX(INDIRECT(BY$7),$AG20,2))
B21: C2 | E21: 1 | F21: 2.4 | G21: 0 | H21: =AC21 -> 0 | I21: =AD21 -> 0 | J21: =IF(E21<Y21,"Insufficient","OK") -> OK | V21: =IF($AH21<2,0,Y21) -> 0 | W21: =INDEX(INDIRECT($AI21),$AW$9+1,W$4) -> None | X21: =INDEX(INDIRECT($AI21),$AW$9+1,X$4) -> None | Y21: =INDEX(INDIRECT($AI21),$AW$9+1,Y$4) -> 0 | Z21: =INDEX(INDIRECT($AI21),$AW$9+1,Z$4) -> 0 | AA21: =INDEX(INDIRECT($AI21),$AW$9+1,AA$4) -> 0 | AB21: =INDEX(INDIRECT($AI21),$AW$9+1,AB$4) -> 0 | AC21: =IF($AH21<2,0,IF($AH21=2,COS($G21*PI()/180)*Z21,IF($E21<$Y21,0,COS($G21*PI()/180)*Z21*E21*2.4/$F21))) -> 0 | AD21: =IF($AH21<2,0,IF($AH21=2,COS($G21*PI()/180)*AA21,IF($E21<$Y21,0,COS($G21*PI()/180)*AA21*$E21*2.4/$F21))) -> 0 | AG21: 12 | AH21: 1 | AI21: =INDEX(AF$11:AF$16,AH21) -> None | AJ21: =IF(INDEX(INDIRECT(AJ$7),$AG21,2)="","",INDEX(INDIRECT(AJ$7),$AG21,2)) | AK21: =IF(INDEX(INDIRECT(AK$7),$AG21,2)="","",INDEX(INDIRECT(AK$7),$AG21,2)) | AL21: =IF(INDEX(INDIRECT(AL$7),$AG21,2)="","",INDEX(INDIRECT(AL$7),$AG21,2)) | AM21: =IF(INDEX(INDIRECT(AM$7),$AG21,2)="","",INDEX(INDIRECT(AM$7),$AG21,2)) | AN21: =IF(INDEX(INDIRECT(AN$7),$AG21,2)="","",INDEX(INDIRECT(AN$7),$AG21,2)) | AO21: =IF(INDEX(INDIRECT(AO$7),$AG21,2)="","",INDEX(INDIRECT(AO$7),$AG21,2)) | AP21: =IF(INDEX(INDIRECT(AP$7),$AG21,2)="","",INDEX(INDIRECT(AP$7),$AG21,2)) | AQ21: =IF(INDEX(INDIRECT(AQ$7),$AG21,2)="","",INDEX(INDIRECT(AQ$7),$AG21,2)) | ... BY21: =IF(INDEX(INDIRECT(BY$7),$AG21,2)="","",INDEX(INDIRECT(BY$7),$AG21,2))
B22: C3 | E22: 1 | F22: 2.4 | G22: 0 | H22: =AC22 -> 0 | I22: =AD22 -> 0 | J22: =IF(E22<Y22,"Insufficient","OK") -> OK | V22: =IF($AH22<2,0,Y22) -> 0 | W22: =INDEX(INDIRECT($AI22),$AX$9+1,W$4) -> None | X22: =INDEX(INDIRECT($AI22),$AX$9+1,X$4) -> None | Y22: =INDEX(INDIRECT($AI22),$AX$9+1,Y$4) -> 0 | Z22: =INDEX(INDIRECT($AI22),$AX$9+1,Z$4) -> 0 | AA22: =INDEX(INDIRECT($AI22),$AX$9+1,AA$4) -> 0 | AB22: =INDEX(INDIRECT($AI22),$AX$9+1,AB$4) -> 0 | AC22: =IF($AH22<2,0,IF($AH22=2,COS($G22*PI()/180)*Z22,IF($E22<$Y22,0,COS($G22*PI()/180)*Z22*E22*2.4/$F22))) -> 0 | AD22: =IF($AH22<2,0,IF($AH22=2,COS($G22*PI()/180)*AA22,IF($E22<$Y22,0,COS($G22*PI()/180)*AA22*$E22*2.4/$F22))) -> 0 | AG22: 13 | AH22: 1 | AI22: =INDEX(AF$11:AF$16,AH22) -> None | AJ22: =IF(INDEX(INDIRECT(AJ$7),$AG22,2)="","",INDEX(INDIRECT(AJ$7),$AG22,2)) | AK22: =IF(INDEX(INDIRECT(AK$7),$AG22,2)="","",INDEX(INDIRECT(AK$7),$AG22,2)) | AL22: =IF(INDEX(INDIRECT(AL$7),$AG22,2)="","",INDEX(INDIRECT(AL$7),$AG22,2)) | AM22: =IF(INDEX(INDIRECT(AM$7),$AG22,2)="","",INDEX(INDIRECT(AM$7),$AG22,2)) | AN22: =IF(INDEX(INDIRECT(AN$7),$AG22,2)="","",INDEX(INDIRECT(AN$7),$AG22,2)) | AO22: =IF(INDEX(INDIRECT(AO$7),$AG22,2)="","",INDEX(INDIRECT(AO$7),$AG22,2)) | AP22: =IF(INDEX(INDIRECT(AP$7),$AG22,2)="","",INDEX(INDIRECT(AP$7),$AG22,2)) | AQ22: =IF(INDEX(INDIRECT(AQ$7),$AG22,2)="","",INDEX(INDIRECT(AQ$7),$AG22,2)) | ... BY22: =IF(INDEX(INDIRECT(BY$7),$AG22,2)="","",INDEX(INDIRECT(BY$7),$AG22,2))
B23: C4 | E23: 1 | F23: 2.4 | G23: 0 | H23: =AC23 -> 0 | I23: =AD23 -> 0 | J23: =IF(E23<Y23,"Insufficient","OK") -> OK | O23: =IF(K20=0,"",IF(N20<=K20,"OK if external bracing line", "NG if external bracing line")) | V23: =IF($AH23<2,0,Y23) -> 0 | W23: =INDEX(INDIRECT($AI23),$AY$9+1,W$4) -> None | X23: =INDEX(INDIRECT($AI23),$AY$9+1,X$4) -> None | Y23: =INDEX(INDIRECT($AI23),$AY$9+1,Y$4) -> 0 | Z23: =INDEX(INDIRECT($AI23),$AY$9+1,Z$4) -> 0 | AA23: =INDEX(INDIRECT($AI23),$AY$9+1,AA$4) -> 0 | AB23: =INDEX(INDIRECT($AI23),$AY$9+1,AB$4) -> 0 | AC23: =IF($AH23<2,0,IF($AH23=2,COS($G23*PI()/180)*Z23,IF($E23<$Y23,0,COS($G23*PI()/180)*Z23*E23*2.4/$F23))) -> 0 | AD23: =IF($AH23<2,0,IF($AH23=2,COS($G23*PI()/180)*AA23,IF($E23<$Y23,0,COS($G23*PI()/180)*AA23*$E23*2.4/$F23))) -> 0 | AG23: 14 | AH23: 1 | AI23: =INDEX(AF$11:AF$16,AH23) -> None | AJ23: =IF(INDEX(INDIRECT(AJ$7),$AG23,2)="","",INDEX(INDIRECT(AJ$7),$AG23,2)) | AK23: =IF(INDEX(INDIRECT(AK$7),$AG23,2)="","",INDEX(INDIRECT(AK$7),$AG23,2)) | AL23: =IF(INDEX(INDIRECT(AL$7),$AG23,2)="","",INDEX(INDIRECT(AL$7),$AG23,2)) | AM23: =IF(INDEX(INDIRECT(AM$7),$AG23,2)="","",INDEX(INDIRECT(AM$7),$AG23,2)) | AN23: =IF(INDEX(INDIRECT(AN$7),$AG23,2)="","",INDEX(INDIRECT(AN$7),$AG23,2)) | AO23: =IF(INDEX(INDIRECT(AO$7),$AG23,2)="","",INDEX(INDIRECT(AO$7),$AG23,2)) | AP23: =IF(INDEX(INDIRECT(AP$7),$AG23,2)="","",INDEX(INDIRECT(AP$7),$AG23,2)) | AQ23: =IF(INDEX(INDIRECT(AQ$7),$AG23,2)="","",INDEX(INDIRECT(AQ$7),$AG23,2)) | ... BY23: =IF(INDEX(INDIRECT(BY$7),$AG23,2)="","",INDEX(INDIRECT(BY$7),$AG23,2))
B24: C5 | E24: 1 | F24: 2.4 | G24: 0 | H24: =AC24 -> 0 | I24: =AD24 -> 0 | J24: =IF(E24<Y24,"Insufficient","OK") -> OK | V24: =IF($AH24<2,0,Y24) -> 0 | W24: =INDEX(INDIRECT($AI24),$AZ$9+1,W$4) -> None | X24: =INDEX(INDIRECT($AI24),$AZ$9+1,X$4) -> None | Y24: =INDEX(INDIRECT($AI24),$AZ$9+1,Y$4) -> 0 | Z24: =INDEX(INDIRECT($AI24),$AZ$9+1,Z$4) -> 0 | AA24: =INDEX(INDIRECT($AI24),$AZ$9+1,AA$4) -> 0 | AB24: =INDEX(INDIRECT($AI24),$AZ$9+1,AB$4) -> 0 | AC24: =IF($AH24<2,0,IF($AH24=2,COS($G24*PI()/180)*Z24,IF($E24<$Y24,0,COS($G24*PI()/180)*Z24*E24*2.4/$F24))) -> 0 | AD24: =IF($AH24<2,0,IF($AH24=2,COS($G24*PI()/180)*AA24,IF($E24<$Y24,0,COS($G24*PI()/180)*AA24*$E24*2.4/$F24))) -> 0 | AG24: 15 | AH24: 1 | AI24: =INDEX(AF$11:AF$16,AH24) -> None | AJ24: =IF(INDEX(INDIRECT(AJ$7),$AG24,2)="","",INDEX(INDIRECT(AJ$7),$AG24,2)) | AK24: =IF(INDEX(INDIRECT(AK$7),$AG24,2)="","",INDEX(INDIRECT(AK$7),$AG24,2)) | AL24: =IF(INDEX(INDIRECT(AL$7),$AG24,2)="","",INDEX(INDIRECT(AL$7),$AG24,2)) | AM24: =IF(INDEX(INDIRECT(AM$7),$AG24,2)="","",INDEX(INDIRECT(AM$7),$AG24,2)) | AN24: =IF(INDEX(INDIRECT(AN$7),$AG24,2)="","",INDEX(INDIRECT(AN$7),$AG24,2)) | AO24: =IF(INDEX(INDIRECT(AO$7),$AG24,2)="","",INDEX(INDIRECT(AO$7),$AG24,2)) | AP24: =IF(INDEX(INDIRECT(AP$7),$AG24,2)="","",INDEX(INDIRECT(AP$7),$AG24,2)) | AQ24: =IF(INDEX(INDIRECT(AQ$7),$AG24,2)="","",INDEX(INDIRECT(AQ$7),$AG24,2)) | ... BY24: =IF(INDEX(INDIRECT(BY$7),$AG24,2)="","",INDEX(INDIRECT(BY$7),$AG24,2))
B25: C6 | E25: 1 | F25: 2.4 | G25: 0 | H25: =AC25 -> 0 | I25: =AD25 -> 0 | J25: =IF(E25<Y25,"Insufficient","OK") -> OK | V25: =IF($AH25<2,0,Y25) -> 1 | W25: =INDEX(INDIRECT($AI25),$BA$9+1,W$4) -> NZS 3604 | X25: =INDEX(INDIRECT($AI25),$BA$9+1,X$4) -> braced piles | Y25: =INDEX(INDIRECT($AI25),$BA$9+1,Y$4) -> 1 | Z25: =INDEX(INDIRECT($AI25),$BA$9+1,Z$4) -> 0 | AA25: =INDEX(INDIRECT($AI25),$BA$9+1,AA$4) -> 0 | AB25: =INDEX(INDIRECT($AI25),$BA$9+1,AB$4) -> 0 | AC25: =IF($AH25<2,0,IF($AH25=2,COS($G25*PI()/180)*Z25,IF($E25<$Y25,0,COS($G25*PI()/180)*Z25*E25*2.4/$F25))) -> 0 | AD25: =IF($AH25<2,0,IF($AH25=2,COS($G25*PI()/180)*AA25,IF($E25<$Y25,0,COS($G25*PI()/180)*AA25*$E25*2.4/$F25))) -> 0 | AG25: 16 | AH25: 6 | AI25: =INDEX(AF$11:AF$16,AH25) -> Foundations | AJ25: =IF(INDEX(INDIRECT(AJ$7),$AG25,2)="","",INDEX(INDIRECT(AJ$7),$AG25,2)) | AK25: =IF(INDEX(INDIRECT(AK$7),$AG25,2)="","",INDEX(INDIRECT(AK$7),$AG25,2)) | AL25: =IF(INDEX(INDIRECT(AL$7),$AG25,2)="","",INDEX(INDIRECT(AL$7),$AG25,2)) | AM25: =IF(INDEX(INDIRECT(AM$7),$AG25,2)="","",INDEX(INDIRECT(AM$7),$AG25,2)) | AN25: =IF(INDEX(INDIRECT(AN$7),$AG25,2)="","",INDEX(INDIRECT(AN$7),$AG25,2)) | AO25: =IF(INDEX(INDIRECT(AO$7),$AG25,2)="","",INDEX(INDIRECT(AO$7),$AG25,2)) | AP25: =IF(INDEX(INDIRECT(AP$7),$AG25,2)="","",INDEX(INDIRECT(AP$7),$AG25,2)) | AQ25: =IF(INDEX(INDIRECT(AQ$7),$AG25,2)="","",INDEX(INDIRECT(AQ$7),$AG25,2)) | ... BY25: =IF(INDEX(INDIRECT(BY$7),$AG25,2)="","",INDEX(INDIRECT(BY$7),$AG25,2))
A26: D | B26: D1 | E26: 1 | F26: 2.4 | G26: 0 | H26: =AC26 -> 0 | I26: =AD26 -> 0 | J26: =IF(E26<Y26,"Insufficient","OK") -> OK | K26: =MIN(SUM(H26:H31),SUM(I26:I31)) -> 0 | L26: 0 | M26: =IF(K26=0,"",MAX(100,0.5*MAX(H$3,I$3)/U$15)) | N26: =IF(K26=0,"",MAX(M26,L26*15)) | O26: =IF(K26=0,"",IF(M26<=K26,"OK if internal bracing line", "NG if internal bracing line")) | V26: =IF($AH26<2,0,Y26) -> 0 | W26: =INDEX(INDIRECT($AI26),$BB$9+1,W$4) -> None | X26: =INDEX(INDIRECT($AI26),$BB$9+1,X$4) -> None | Y26: =INDEX(INDIRECT($AI26),$BB$9+1,Y$4) -> 0 | Z26: =INDEX(INDIRECT($AI26),$BB$9+1,Z$4) -> 0 | AA26: =INDEX(INDIRECT($AI26),$BB$9+1,AA$4) -> 0 | AB26: =INDEX(INDIRECT($AI26),$BB$9+1,AB$4) -> 0 | AC26: =IF($AH26<2,0,IF($AH26=2,COS($G26*PI()/180)*Z26,IF($E26<$Y26,0,COS($G26*PI()/180)*Z26*E26*2.4/$F26))) -> 0 | AD26: =IF($AH26<2,0,IF($AH26=2,COS($G26*PI()/180)*AA26,IF($E26<$Y26,0,COS($G26*PI()/180)*AA26*$E26*2.4/$F26))) -> 0 | AG26: 17 | AH26: 5 | AI26: =INDEX(AF$11:AF$16,AH26) -> Plywood | AJ26: =IF(INDEX(INDIRECT(AJ$7),$AG26,2)="","",INDEX(INDIRECT(AJ$7),$AG26,2)) | AK26: =IF(INDEX(INDIRECT(AK$7),$AG26,2)="","",INDEX(INDIRECT(AK$7),$AG26,2)) | AL26: =IF(INDEX(INDIRECT(AL$7),$AG26,2)="","",INDEX(INDIRECT(AL$7),$AG26,2)) | AM26: =IF(INDEX(INDIRECT(AM$7),$AG26,2)="","",INDEX(INDIRECT(AM$7),$AG26,2)) | AN26: =IF(INDEX(INDIRECT(AN$7),$AG26,2)="","",INDEX(INDIRECT(AN$7),$AG26,2)) | AO26: =IF(INDEX(INDIRECT(AO$7),$AG26,2)="","",INDEX(INDIRECT(AO$7),$AG26,2)) | AP26: =IF(INDEX(INDIRECT(AP$7),$AG26,2)="","",INDEX(INDIRECT(AP$7),$AG26,2)) | AQ26: =IF(INDEX(INDIRECT(AQ$7),$AG26,2)="","",INDEX(INDIRECT(AQ$7),$AG26,2)) | ... BY26: =IF(INDEX(INDIRECT(BY$7),$AG26,2)="","",INDEX(INDIRECT(BY$7),$AG26,2))
B27: D2 | E27: 1 | F27: 2.4 | G27: 0 | H27: =AC27 -> 0 | I27: =AD27 -> 0 | J27: =IF(E27<Y27,"Insufficient","OK") -> OK | V27: =IF($AH27<2,0,Y27) -> 0 | W27: =INDEX(INDIRECT($AI27),$BC$9+1,W$4) -> None | X27: =INDEX(INDIRECT($AI27),$BC$9+1,X$4) -> None | Y27: =INDEX(INDIRECT($AI27),$BC$9+1,Y$4) -> 0 | Z27: =INDEX(INDIRECT($AI27),$BC$9+1,Z$4) -> 0 | AA27: =INDEX(INDIRECT($AI27),$BC$9+1,AA$4) -> 0 | AB27: =INDEX(INDIRECT($AI27),$BC$9+1,AB$4) -> 0 | AC27: =IF($AH27<2,0,IF($AH27=2,COS($G27*PI()/180)*Z27,IF($E27<$Y27,0,COS($G27*PI()/180)*Z27*E27*2.4/$F27))) -> 0 | AD27: =IF($AH27<2,0,IF($AH27=2,COS($G27*PI()/180)*AA27,IF($E27<$Y27,0,COS($G27*PI()/180)*AA27*$E27*2.4/$F27))) -> 0 | AG27: 18 | AH27: 1 | AI27: =INDEX(AF$11:AF$16,AH27) -> None | AJ27: =IF(INDEX(INDIRECT(AJ$7),$AG27,2)="","",INDEX(INDIRECT(AJ$7),$AG27,2)) | AK27: =IF(INDEX(INDIRECT(AK$7),$AG27,2)="","",INDEX(INDIRECT(AK$7),$AG27,2)) | AL27: =IF(INDEX(INDIRECT(AL$7),$AG27,2)="","",INDEX(INDIRECT(AL$7),$AG27,2)) | AM27: =IF(INDEX(INDIRECT(AM$7),$AG27,2)="","",INDEX(INDIRECT(AM$7),$AG27,2)) | AN27: =IF(INDEX(INDIRECT(AN$7),$AG27,2)="","",INDEX(INDIRECT(AN$7),$AG27,2)) | AO27: =IF(INDEX(INDIRECT(AO$7),$AG27,2)="","",INDEX(INDIRECT(AO$7),$AG27,2)) | AP27: =IF(INDEX(INDIRECT(AP$7),$AG27,2)="","",INDEX(INDIRECT(AP$7),$AG27,2)) | AQ27: =IF(INDEX(INDIRECT(AQ$7),$AG27,2)="","",INDEX(INDIRECT(AQ$7),$AG27,2)) | ... BY27: =IF(INDEX(INDIRECT(BY$7),$AG27,2)="","",INDEX(INDIRECT(BY$7),$AG27,2))
B28: D3 | E28: 1 | F28: 2.4 | G28: 0 | H28: =AC28 -> 0 | I28: =AD28 -> 0 | J28: =IF(E28<Y28,"Insufficient","OK") -> OK | V28: =IF($AH28<2,0,Y28) -> 0 | W28: =INDEX(INDIRECT($AI28),$BD$9+1,W$4) -> None | X28: =INDEX(INDIRECT($AI28),$BD$9+1,X$4) -> None | Y28: =INDEX(INDIRECT($AI28),$BD$9+1,Y$4) -> 0 | Z28: =INDEX(INDIRECT($AI28),$BD$9+1,Z$4) -> 0 | AA28: =INDEX(INDIRECT($AI28),$BD$9+1,AA$4) -> 0 | AB28: =INDEX(INDIRECT($AI28),$BD$9+1,AB$4) -> 0 | AC28: =IF($AH28<2,0,IF($AH28=2,COS($G28*PI()/180)*Z28,IF($E28<$Y28,0,COS($G28*PI()/180)*Z28*E28*2.4/$F28))) -> 0 | AD28: =IF($AH28<2,0,IF($AH28=2,COS($G28*PI()/180)*AA28,IF($E28<$Y28,0,COS($G28*PI()/180)*AA28*$E28*2.4/$F28))) -> 0 | AG28: 19 | AH28: 1 | AI28: =INDEX(AF$11:AF$16,AH28) -> None | AJ28: =IF(INDEX(INDIRECT(AJ$7),$AG28,2)="","",INDEX(INDIRECT(AJ$7),$AG28,2)) | AK28: =IF(INDEX(INDIRECT(AK$7),$AG28,2)="","",INDEX(INDIRECT(AK$7),$AG28,2)) | AL28: =IF(INDEX(INDIRECT(AL$7),$AG28,2)="","",INDEX(INDIRECT(AL$7),$AG28,2)) | AM28: =IF(INDEX(INDIRECT(AM$7),$AG28,2)="","",INDEX(INDIRECT(AM$7),$AG28,2)) | AN28: =IF(INDEX(INDIRECT(AN$7),$AG28,2)="","",INDEX(INDIRECT(AN$7),$AG28,2)) | AO28: =IF(INDEX(INDIRECT(AO$7),$AG28,2)="","",INDEX(INDIRECT(AO$7),$AG28,2)) | AP28: =IF(INDEX(INDIRECT(AP$7),$AG28,2)="","",INDEX(INDIRECT(AP$7),$AG28,2)) | AQ28: =IF(INDEX(INDIRECT(AQ$7),$AG28,2)="","",INDEX(INDIRECT(AQ$7),$AG28,2)) | ... BY28: =IF(INDEX(INDIRECT(BY$7),$AG28,2)="","",INDEX(INDIRECT(BY$7),$AG28,2))
B29: D4 | E29: 1 | F29: 2.4 | G29: 0 | H29: =AC29 -> 0 | I29: =AD29 -> 0 | J29: =IF(E29<Y29,"Insufficient","OK") -> OK | O29: =IF(K26=0,"",IF(N26<=K26,"OK if external bracing line", "NG if external bracing line")) | V29: =IF($AH29<2,0,Y29) -> 0 | W29: =INDEX(INDIRECT($AI29),$BE$9+1,W$4) -> None | X29: =INDEX(INDIRECT($AI29),$BE$9+1,X$4) -> None | Y29: =INDEX(INDIRECT($AI29),$BE$9+1,Y$4) -> 0 | Z29: =INDEX(INDIRECT($AI29),$BE$9+1,Z$4) -> 0 | AA29: =INDEX(INDIRECT($AI29),$BE$9+1,AA$4) -> 0 | AB29: =INDEX(INDIRECT($AI29),$BE$9+1,AB$4) -> 0 | AC29: =IF($AH29<2,0,IF($AH29=2,COS($G29*PI()/180)*Z29,IF($E29<$Y29,0,COS($G29*PI()/180)*Z29*E29*2.4/$F29))) -> 0 | AD29: =IF($AH29<2,0,IF($AH29=2,COS($G29*PI()/180)*AA29,IF($E29<$Y29,0,COS($G29*PI()/180)*AA29*$E29*2.4/$F29))) -> 0 | AG29: 20 | AH29: 1 | AI29: =INDEX(AF$11:AF$16,AH29) -> None | AJ29: =IF(INDEX(INDIRECT(AJ$7),$AG29,2)="","",INDEX(INDIRECT(AJ$7),$AG29,2)) | AK29: =IF(INDEX(INDIRECT(AK$7),$AG29,2)="","",INDEX(INDIRECT(AK$7),$AG29,2)) | AL29: =IF(INDEX(INDIRECT(AL$7),$AG29,2)="","",INDEX(INDIRECT(AL$7),$AG29,2)) | AM29: =IF(INDEX(INDIRECT(AM$7),$AG29,2)="","",INDEX(INDIRECT(AM$7),$AG29,2)) | AN29: =IF(INDEX(INDIRECT(AN$7),$AG29,2)="","",INDEX(INDIRECT(AN$7),$AG29,2)) | AO29: =IF(INDEX(INDIRECT(AO$7),$AG29,2)="","",INDEX(INDIRECT(AO$7),$AG29,2)) | AP29: =IF(INDEX(INDIRECT(AP$7),$AG29,2)="","",INDEX(INDIRECT(AP$7),$AG29,2)) | AQ29: =IF(INDEX(INDIRECT(AQ$7),$AG29,2)="","",INDEX(INDIRECT(AQ$7),$AG29,2)) | ... BY29: =IF(INDEX(INDIRECT(BY$7),$AG29,2)="","",INDEX(INDIRECT(BY$7),$AG29,2))
B30: D5 | E30: 1 | F30: 2.4 | G30: 0 | H30: =AC30 -> 0 | I30: =AD30 -> 0 | J30: =IF(E30<Y30,"Insufficient","OK") -> OK | V30: =IF($AH30<2,0,Y30) -> 0 | W30: =INDEX(INDIRECT($AI30),$BF$9+1,W$4) -> None | X30: =INDEX(INDIRECT($AI30),$BF$9+1,X$4) -> None | Y30: =INDEX(INDIRECT($AI30),$BF$9+1,Y$4) -> 0 | Z30: =INDEX(INDIRECT($AI30),$BF$9+1,Z$4) -> 0 | AA30: =INDEX(INDIRECT($AI30),$BF$9+1,AA$4) -> 0 | AB30: =INDEX(INDIRECT($AI30),$BF$9+1,AB$4) -> 0 | AC30: =IF($AH30<2,0,IF($AH30=2,COS($G30*PI()/180)*Z30,IF($E30<$Y30,0,COS($G30*PI()/180)*Z30*E30*2.4/$F30))) -> 0 | AD30: =IF($AH30<2,0,IF($AH30=2,COS($G30*PI()/180)*AA30,IF($E30<$Y30,0,COS($G30*PI()/180)*AA30*$E30*2.4/$F30))) -> 0 | AG30: 21 | AH30: 1 | AI30: =INDEX(AF$11:AF$16,AH30) -> None | AJ30: =IF(INDEX(INDIRECT(AJ$7),$AG30,2)="","",INDEX(INDIRECT(AJ$7),$AG30,2)) | AK30: =IF(INDEX(INDIRECT(AK$7),$AG30,2)="","",INDEX(INDIRECT(AK$7),$AG30,2)) | AL30: =IF(INDEX(INDIRECT(AL$7),$AG30,2)="","",INDEX(INDIRECT(AL$7),$AG30,2)) | AM30: =IF(INDEX(INDIRECT(AM$7),$AG30,2)="","",INDEX(INDIRECT(AM$7),$AG30,2)) | AN30: =IF(INDEX(INDIRECT(AN$7),$AG30,2)="","",INDEX(INDIRECT(AN$7),$AG30,2)) | AO30: =IF(INDEX(INDIRECT(AO$7),$AG30,2)="","",INDEX(INDIRECT(AO$7),$AG30,2)) | AP30: =IF(INDEX(INDIRECT(AP$7),$AG30,2)="","",INDEX(INDIRECT(AP$7),$AG30,2)) | AQ30: =IF(INDEX(INDIRECT(AQ$7),$AG30,2)="","",INDEX(INDIRECT(AQ$7),$AG30,2)) | ... BY30: =IF(INDEX(INDIRECT(BY$7),$AG30,2)="","",INDEX(INDIRECT(BY$7),$AG30,2))
B31: D6 | E31: 1 | F31: 2.4 | G31: 0 | H31: =AC31 -> 0 | I31: =AD31 -> 0 | J31: =IF(E31<Y31,"Insufficient","OK") -> OK | V31: =IF($AH31<2,0,Y31) -> 0 | W31: =INDEX(INDIRECT($AI31),$BG$9+1,W$4) -> None | X31: =INDEX(INDIRECT($AI31),$BG$9+1,X$4) -> None | Y31: =INDEX(INDIRECT($AI31),$BG$9+1,Y$4) -> 0 | Z31: =INDEX(INDIRECT($AI31),$BG$9+1,Z$4) -> 0 | AA31: =INDEX(INDIRECT($AI31),$BG$9+1,AA$4) -> 0 | AB31: =INDEX(INDIRECT($AI31),$BG$9+1,AB$4) -> 0 | AC31: =IF($AH31<2,0,IF($AH31=2,COS($G31*PI()/180)*Z31,IF($E31<$Y31,0,COS($G31*PI()/180)*Z31*E31*2.4/$F31))) -> 0 | AD31: =IF($AH31<2,0,IF($AH31=2,COS($G31*PI()/180)*AA31,IF($E31<$Y31,0,COS($G31*PI()/180)*AA31*$E31*2.4/$F31))) -> 0 | AG31: 22 | AH31: 1 | AI31: =INDEX(AF$11:AF$16,AH31) -> None | AJ31: =IF(INDEX(INDIRECT(AJ$7),$AG31,2)="","",INDEX(INDIRECT(AJ$7),$AG31,2)) | AK31: =IF(INDEX(INDIRECT(AK$7),$AG31,2)="","",INDEX(INDIRECT(AK$7),$AG31,2)) | AL31: =IF(INDEX(INDIRECT(AL$7),$AG31,2)="","",INDEX(INDIRECT(AL$7),$AG31,2)) | AM31: =IF(INDEX(INDIRECT(AM$7),$AG31,2)="","",INDEX(INDIRECT(AM$7),$AG31,2)) | AN31: =IF(INDEX(INDIRECT(AN$7),$AG31,2)="","",INDEX(INDIRECT(AN$7),$AG31,2)) | AO31: =IF(INDEX(INDIRECT(AO$7),$AG31,2)="","",INDEX(INDIRECT(AO$7),$AG31,2)) | AP31: =IF(INDEX(INDIRECT(AP$7),$AG31,2)="","",INDEX(INDIRECT(AP$7),$AG31,2)) | AQ31: =IF(INDEX(INDIRECT(AQ$7),$AG31,2)="","",INDEX(INDIRECT(AQ$7),$AG31,2)) | ... BY31: =IF(INDEX(INDIRECT(BY$7),$AG31,2)="","",INDEX(INDIRECT(BY$7),$AG31,2))
A32: E | B32: E1 | E32: 1 | F32: 2.4 | G32: 0 | H32: =AC32 -> 0 | I32: =AD32 -> 0 | J32: =IF(E32<Y32,"Insufficient","OK") -> OK | K32: =MIN(SUM(H32:H37),SUM(I32:I37)) -> 0 | L32: 0 | M32: =IF(K32=0,"",MAX(100,0.5*MAX(H$3,I$3)/U$15)) | N32: =IF(K32=0,"",MAX(M32,L32*15)) | O32: =IF(K32=0,"",IF(M32<=K32,"OK if internal bracing line", "NG if internal bracing line")) | V32: =IF($AH32<2,0,Y32) -> 0 | W32: =INDEX(INDIRECT($AI32),$BH$9+1,W$4) -> None | X32: =INDEX(INDIRECT($AI32),$BH$9+1,X$4) -> None | Y32: =INDEX(INDIRECT($AI32),$BH$9+1,Y$4) -> 0 | Z32: =INDEX(INDIRECT($AI32),$BH$9+1,Z$4) -> 0 | AA32: =INDEX(INDIRECT($AI32),$BH$9+1,AA$4) -> 0 | AB32: =INDEX(INDIRECT($AI32),$BH$9+1,AB$4) -> 0 | AC32: =IF($AH32<2,0,IF($AH32=2,COS($G32*PI()/180)*Z32,IF($E32<$Y32,0,COS($G32*PI()/180)*Z32*E32*2.4/$F32))) -> 0 | AD32: =IF($AH32<2,0,IF($AH32=2,COS($G32*PI()/180)*AA32,IF($E32<$Y32,0,COS($G32*PI()/180)*AA32*$E32*2.4/$F32))) -> 0 | AG32: 23 | AH32: 1 | AI32: =INDEX(AF$11:AF$16,AH32) -> None | AJ32: =IF(INDEX(INDIRECT(AJ$7),$AG32,2)="","",INDEX(INDIRECT(AJ$7),$AG32,2)) | AK32: =IF(INDEX(INDIRECT(AK$7),$AG32,2)="","",INDEX(INDIRECT(AK$7),$AG32,2)) | AL32: =IF(INDEX(INDIRECT(AL$7),$AG32,2)="","",INDEX(INDIRECT(AL$7),$AG32,2)) | AM32: =IF(INDEX(INDIRECT(AM$7),$AG32,2)="","",INDEX(INDIRECT(AM$7),$AG32,2)) | AN32: =IF(INDEX(INDIRECT(AN$7),$AG32,2)="","",INDEX(INDIRECT(AN$7),$AG32,2)) | AO32: =IF(INDEX(INDIRECT(AO$7),$AG32,2)="","",INDEX(INDIRECT(AO$7),$AG32,2)) | AP32: =IF(INDEX(INDIRECT(AP$7),$AG32,2)="","",INDEX(INDIRECT(AP$7),$AG32,2)) | AQ32: =IF(INDEX(INDIRECT(AQ$7),$AG32,2)="","",INDEX(INDIRECT(AQ$7),$AG32,2)) | ... BY32: =IF(INDEX(INDIRECT(BY$7),$AG32,2)="","",INDEX(INDIRECT(BY$7),$AG32,2))
B33: E2 | E33: 1 | F33: 2.4 | G33: 0 | H33: =AC33 -> 0 | I33: =AD33 -> 0 | J33: =IF(E33<Y33,"Insufficient","OK") -> OK | V33: =IF($AH33<2,0,Y33) -> 0 | W33: =INDEX(INDIRECT($AI33),$BI$9+1,W$4) -> None | X33: =INDEX(INDIRECT($AI33),$BI$9+1,X$4) -> None | Y33: =INDEX(INDIRECT($AI33),$BI$9+1,Y$4) -> 0 | Z33: =INDEX(INDIRECT($AI33),$BI$9+1,Z$4) -> 0 | AA33: =INDEX(INDIRECT($AI33),$BI$9+1,AA$4) -> 0 | AB33: =INDEX(INDIRECT($AI33),$BI$9+1,AB$4) -> 0 | AC33: =IF($AH33<2,0,IF($AH33=2,COS($G33*PI()/180)*Z33,IF($E33<$Y33,0,COS($G33*PI()/180)*Z33*E33*2.4/$F33))) -> 0 | AD33: =IF($AH33<2,0,IF($AH33=2,COS($G33*PI()/180)*AA33,IF($E33<$Y33,0,COS($G33*PI()/180)*AA33*$E33*2.4/$F33))) -> 0 | AG33: 24 | AH33: 1 | AI33: =INDEX(AF$11:AF$16,AH33) -> None | AJ33: =IF(INDEX(INDIRECT(AJ$7),$AG33,2)="","",INDEX(INDIRECT(AJ$7),$AG33,2)) | AK33: =IF(INDEX(INDIRECT(AK$7),$AG33,2)="","",INDEX(INDIRECT(AK$7),$AG33,2)) | AL33: =IF(INDEX(INDIRECT(AL$7),$AG33,2)="","",INDEX(INDIRECT(AL$7),$AG33,2)) | AM33: =IF(INDEX(INDIRECT(AM$7),$AG33,2)="","",INDEX(INDIRECT(AM$7),$AG33,2)) | AN33: =IF(INDEX(INDIRECT(AN$7),$AG33,2)="","",INDEX(INDIRECT(AN$7),$AG33,2)) | AO33: =IF(INDEX(INDIRECT(AO$7),$AG33,2)="","",INDEX(INDIRECT(AO$7),$AG33,2)) | AP33: =IF(INDEX(INDIRECT(AP$7),$AG33,2)="","",INDEX(INDIRECT(AP$7),$AG33,2)) | AQ33: =IF(INDEX(INDIRECT(AQ$7),$AG33,2)="","",INDEX(INDIRECT(AQ$7),$AG33,2)) | ... BY33: =IF(INDEX(INDIRECT(BY$7),$AG33,2)="","",INDEX(INDIRECT(BY$7),$AG33,2))
B34: E3 | E34: 1 | F34: 2.4 | G34: 0 | H34: =AC34 -> 0 | I34: =AD34 -> 0 | J34: =IF(E34<Y34,"Insufficient","OK") -> OK | V34: =IF($AH34<2,0,Y34) -> 0 | W34: =INDEX(INDIRECT($AI34),$BJ$9+1,W$4) -> PLY | X34: =INDEX(INDIRECT($AI34),$BJ$9+1,X$4) -> 0 | Y34: =INDEX(INDIRECT($AI34),$BJ$9+1,Y$4) -> 0 | Z34: =INDEX(INDIRECT($AI34),$BJ$9+1,Z$4) -> 0 | AA34: =INDEX(INDIRECT($AI34),$BJ$9+1,AA$4) -> 0 | AB34: =INDEX(INDIRECT($AI34),$BJ$9+1,AB$4) -> 0 | AC34: =IF($AH34<2,0,IF($AH34=2,COS($G34*PI()/180)*Z34,IF($E34<$Y34,0,COS($G34*PI()/180)*Z34*E34*2.4/$F34))) -> 0 | AD34: =IF($AH34<2,0,IF($AH34=2,COS($G34*PI()/180)*AA34,IF($E34<$Y34,0,COS($G34*PI()/180)*AA34*$E34*2.4/$F34))) -> 0 | AG34: 25 | AH34: 5 | AI34: =INDEX(AF$11:AF$16,AH34) -> Plywood | AJ34: =IF(INDEX(INDIRECT(AJ$7),$AG34,2)="","",INDEX(INDIRECT(AJ$7),$AG34,2)) | AK34: =IF(INDEX(INDIRECT(AK$7),$AG34,2)="","",INDEX(INDIRECT(AK$7),$AG34,2)) | AL34: =IF(INDEX(INDIRECT(AL$7),$AG34,2)="","",INDEX(INDIRECT(AL$7),$AG34,2)) | AM34: =IF(INDEX(INDIRECT(AM$7),$AG34,2)="","",INDEX(INDIRECT(AM$7),$AG34,2)) | AN34: =IF(INDEX(INDIRECT(AN$7),$AG34,2)="","",INDEX(INDIRECT(AN$7),$AG34,2)) | AO34: =IF(INDEX(INDIRECT(AO$7),$AG34,2)="","",INDEX(INDIRECT(AO$7),$AG34,2)) | AP34: =IF(INDEX(INDIRECT(AP$7),$AG34,2)="","",INDEX(INDIRECT(AP$7),$AG34,2)) | AQ34: =IF(INDEX(INDIRECT(AQ$7),$AG34,2)="","",INDEX(INDIRECT(AQ$7),$AG34,2)) | ... BY34: =IF(INDEX(INDIRECT(BY$7),$AG34,2)="","",INDEX(INDIRECT(BY$7),$AG34,2))
B35: E4 | E35: 1 | F35: 2.4 | G35: 0 | H35: =AC35 -> 0 | I35: =AD35 -> 0 | J35: =IF(E35<Y35,"Insufficient","OK") -> OK | O35: =IF(K32=0,"",IF(N32<=K32,"OK if external bracing line", "NG if external bracing line")) | V35: =IF($AH35<2,0,Y35) -> 0 | W35: =INDEX(INDIRECT($AI35),$BK$9+1,W$4) -> None | X35: =INDEX(INDIRECT($AI35),$BK$9+1,X$4) -> None | Y35: =INDEX(INDIRECT($AI35),$BK$9+1,Y$4) -> 0 | Z35: =INDEX(INDIRECT($AI35),$BK$9+1,Z$4) -> 0 | AA35: =INDEX(INDIRECT($AI35),$BK$9+1,AA$4) -> 0 | AB35: =INDEX(INDIRECT($AI35),$BK$9+1,AB$4) -> 0 | AC35: =IF($AH35<2,0,IF($AH35=2,COS($G35*PI()/180)*Z35,IF($E35<$Y35,0,COS($G35*PI()/180)*Z35*E35*2.4/$F35))) -> 0 | AD35: =IF($AH35<2,0,IF($AH35=2,COS($G35*PI()/180)*AA35,IF($E35<$Y35,0,COS($G35*PI()/180)*AA35*$E35*2.4/$F35))) -> 0 | AG35: 26 | AH35: 1 | AI35: =INDEX(AF$11:AF$16,AH35) -> None | AJ35: =IF(INDEX(INDIRECT(AJ$7),$AG35,2)="","",INDEX(INDIRECT(AJ$7),$AG35,2)) | AK35: =IF(INDEX(INDIRECT(AK$7),$AG35,2)="","",INDEX(INDIRECT(AK$7),$AG35,2)) | AL35: =IF(INDEX(INDIRECT(AL$7),$AG35,2)="","",INDEX(INDIRECT(AL$7),$AG35,2)) | AM35: =IF(INDEX(INDIRECT(AM$7),$AG35,2)="","",INDEX(INDIRECT(AM$7),$AG35,2)) | AN35: =IF(INDEX(INDIRECT(AN$7),$AG35,2)="","",INDEX(INDIRECT(AN$7),$AG35,2)) | AO35: =IF(INDEX(INDIRECT(AO$7),$AG35,2)="","",INDEX(INDIRECT(AO$7),$AG35,2)) | AP35: =IF(INDEX(INDIRECT(AP$7),$AG35,2)="","",INDEX(INDIRECT(AP$7),$AG35,2)) | AQ35: =IF(INDEX(INDIRECT(AQ$7),$AG35,2)="","",INDEX(INDIRECT(AQ$7),$AG35,2)) | ... BY35: =IF(INDEX(INDIRECT(BY$7),$AG35,2)="","",INDEX(INDIRECT(BY$7),$AG35,2))
B36: E5 | E36: 1 | F36: 2.4 | G36: 0 | H36: =AC36 -> 0 | I36: =AD36 -> 0 | J36: =IF(E36<Y36,"Insufficient","OK") -> OK | V36: =IF($AH36<2,0,Y36) -> 0 | W36: =INDEX(INDIRECT($AI36),$BL$9+1,W$4) -> None | X36: =INDEX(INDIRECT($AI36),$BL$9+1,X$4) -> None | Y36: =INDEX(INDIRECT($AI36),$BL$9+1,Y$4) -> 0 | Z36: =INDEX(INDIRECT($AI36),$BL$9+1,Z$4) -> 0 | AA36: =INDEX(INDIRECT($AI36),$BL$9+1,AA$4) -> 0 | AB36: =INDEX(INDIRECT($AI36),$BL$9+1,AB$4) -> 0 | AC36: =IF($AH36<2,0,IF($AH36=2,COS($G36*PI()/180)*Z36,IF($E36<$Y36,0,COS($G36*PI()/180)*Z36*E36*2.4/$F36))) -> 0 | AD36: =IF($AH36<2,0,IF($AH36=2,COS($G36*PI()/180)*AA36,IF($E36<$Y36,0,COS($G36*PI()/180)*AA36*$E36*2.4/$F36))) -> 0 | AG36: 27 | AH36: 1 | AI36: =INDEX(AF$11:AF$16,AH36) -> None | AJ36: =IF(INDEX(INDIRECT(AJ$7),$AG36,2)="","",INDEX(INDIRECT(AJ$7),$AG36,2)) | AK36: =IF(INDEX(INDIRECT(AK$7),$AG36,2)="","",INDEX(INDIRECT(AK$7),$AG36,2)) | AL36: =IF(INDEX(INDIRECT(AL$7),$AG36,2)="","",INDEX(INDIRECT(AL$7),$AG36,2)) | AM36: =IF(INDEX(INDIRECT(AM$7),$AG36,2)="","",INDEX(INDIRECT(AM$7),$AG36,2)) | AN36: =IF(INDEX(INDIRECT(AN$7),$AG36,2)="","",INDEX(INDIRECT(AN$7),$AG36,2)) | AO36: =IF(INDEX(INDIRECT(AO$7),$AG36,2)="","",INDEX(INDIRECT(AO$7),$AG36,2)) | AP36: =IF(INDEX(INDIRECT(AP$7),$AG36,2)="","",INDEX(INDIRECT(AP$7),$AG36,2)) | AQ36: =IF(INDEX(INDIRECT(AQ$7),$AG36,2)="","",INDEX(INDIRECT(AQ$7),$AG36,2)) | ... BY36: =IF(INDEX(INDIRECT(BY$7),$AG36,2)="","",INDEX(INDIRECT(BY$7),$AG36,2))
